Workbook

Sheet summary
A1: SUMMARY PORT STATISTICS
A2: Philippine Ports Authority
A3: 2026
A5: PARTICULARS | E5: TOTAL | F5: 1st Quarter | K5: TOTAL | L5: 2nd Quarter | Q5: TOTAL | R5: 3rd Quarter | W5: TOTAL | X5: 4th Quarter | AC5: TOTAL | AD5: GRAND TOTAL
F6: MANILA/ N. LUZON | G6: SOUTHERN LUZON | H6: VISAYAS | I6: NORTHERN MINDANAO | J6: SOUTHERN MINDANAO | L6: MANILA/ N. LUZON | M6: SOUTHERN LUZON | N6: VISAYAS | O6: NORTHERN MINDANAO | P6: SOUTHERN MINDANAO | R6: MANILA/ N. LUZON | S6: SOUTHERN LUZON | T6: VISAYAS | U6: NORTHERN MINDANAO | V6: SOUTHERN MINDANAO | X6: MANILA/ N. LUZON | Y6: SOUTHERN LUZON | Z6: VISAYAS | AA6: NORTHERN MINDANAO | AB6: SOUTHERN MINDANAO | AD6: MANILA/ N. LUZON | AE6: SOUTHERN LUZON | AF6: VISAYAS | AG6: NORTHERN MINDANAO | AH6: SOUTHERN MINDANAO
A9: 1. Shipcalls | E9: =+E10+E11 -> 164584 | F9: =+F10+F11 -> 5257 | G9: =+G10+G11 -> 33492 | H9: =+H10+H11 -> 82183 | I9: =+I10+I11 -> 12697 | J9: =+J10+J11 -> 30955 | K9: =+K10+K11 -> 166192 | L9: =+L10+L11 -> 5351 | ... AH9: =+AH10+AH11 -> 94690
B10: Domestic | E10: =SUM(F10:J10) -> 161859 | F10: ='sum-ship'!E10 -> 4216 | G10: ='sum-ship'!E67 -> 32804 | H10: ='sum-ship'!E185 -> 81943 | I10: ='sum-ship'!E311 -> 12492 | J10: ='sum-ship'!E374 -> 30404 | K10: =SUM(L10:P10) -> 163282 | L10: ='sum-ship'!H10 -> 4334 | M10: ='sum-ship'!H67 -> 32009 | N10: ='sum-ship'!H185 -> 82988 | O10: ='sum-ship'!H311 -> 13663 | P10: ='sum-ship'!H374 -> 30288 | Q10: =SUM(R10:V10) -> 151908 | R10: ='sum-ship'!K10 -> 3850 | S10: ='sum-ship'!K67 -> 26293 | T10: ='sum-ship'!K185 -> 75838 | U10: ='sum-ship'!K311 -> 13495 | V10: ='sum-ship'!K374 -> 32432 | W10: =SUM(X10:AB10) -> 0 | X10: ='sum-ship'!N10 -> 0 | Y10: ='sum-ship'!N67 -> 0 | Z10: ='sum-ship'!N185 -> 0 | AA10: ='sum-ship'!N311 -> 0 | AB10: ='sum-ship'!N374 -> 0 | AC10: =SUM(AD10:AH10) -> 477049 | AD10: =F10+L10+R10+X10 -> 12400 | AE10: =G10+M10+S10+Y10 -> 91106 | AF10: =H10+N10+T10+Z10 -> 240769 | AG10: =I10+O10+U10+AA10 -> 39650 | AH10: =J10+P10+V10+AB10 -> 93124
B11: Foreign | E11: =SUM(F11:J11) -> 2725 | F11: ='sum-ship'!F10 -> 1041 | G11: ='sum-ship'!F67 -> 688 | H11: ='sum-ship'!F185 -> 240 | I11: ='sum-ship'!F311 -> 205 | J11: ='sum-ship'!F374 -> 551 | K11: =SUM(L11:P11) -> 2910 | L11: ='sum-ship'!I10 -> 1017 | M11: ='sum-ship'!I67 -> 672 | N11: ='sum-ship'!I185 -> 297 | O11: ='sum-ship'!I311 -> 411 | P11: ='sum-ship'!I374 -> 513 | Q11: =SUM(R11:V11) -> 2788 | R11: ='sum-ship'!L10 -> 894 | S11: ='sum-ship'!L67 -> 635 | T11: ='sum-ship'!L185 -> 254 | U11: ='sum-ship'!L311 -> 503 | V11: ='sum-ship'!L374 -> 502 | W11: =SUM(X11:AB11) -> 0 | X11: ='sum-ship'!O10 -> 0 | Y11: ='sum-ship'!O67 -> 0 | Z11: ='sum-ship'!O185 -> 0 | AA11: ='sum-ship'!O311 -> 0 | AB11: ='sum-ship'!O374 -> 0 | AC11: =SUM(AD11:AH11) -> 8423 | AD11: =F11+L11+R11+X11 -> 2952 | AE11: =G11+M11+S11+Y11 -> 1995 | AF11: =H11+N11+T11+Z11 -> 791 | AG11: =I11+O11+U11+AA11 -> 1119 | AH11: =J11+P11+V11+AB11 -> 1566
A13: 2. Cargo Throughput (in metric tons) | E13: =+E14+E18 -> 67185633 | F13: =+F14+F18 -> 28866210 | G13: =+G14+G18 -> 12092679 | H13: =+H14+H18 -> 12552758 | I13: =+I14+I18 -> 5540846.5 | J13: =+J14+J18 -> 8133139.9 | K13: =+K14+K18 -> 87246306 | L13: =+L14+L18 -> 30332996 | ... AH13: =+AH14+AH18 -> 26430151
B14: Domestic | E14: =+E15+E16 -> 27507003 | F14: =+F15+F16 -> 10117191 | G14: =+G15+G16 -> 4860748 | H14: =+H15+H16 -> 6884529.2 | I14: =+I15+I16 -> 2896426.5 | J14: =+J15+J16 -> 2748108.2 | K14: =+K15+K16 -> 28673734 | L14: =+L15+L16 -> 10247368 | ... AH14: =+AH15+AH16 -> 8848962.6
C15: Inbound | E15: =SUM(F15:J15) -> 13131923 | F15: ='sum-cargo'!F10 -> 2712076.6 | G15: ='sum-cargo'!F67 -> 3519652 | H15: ='sum-cargo'!F185 -> 3315703.6 | I15: ='sum-cargo'!F311 -> 1709812.7 | J15: ='sum-cargo'!F374 -> 1874677.6 | K15: =SUM(L15:P15) -> 13570668 | L15: ='sum-cargo'!M10 -> 2717641.3 | M15: ='sum-cargo'!M67 -> 4028533.1 | N15: ='sum-cargo'!M185 -> 3114314.7 | O15: ='sum-cargo'!M311 -> 1719545.3 | P15: ='sum-cargo'!M374 -> 1990633.7 | Q15: =SUM(R15:V15) -> 13703961 | R15: ='sum-cargo'!T10 -> 2850268.1 | S15: ='sum-cargo'!T67 -> 3710768 | T15: ='sum-cargo'!T185 -> 3230303.3 | U15: ='sum-cargo'!T311 -> 1913404.7 | V15: ='sum-cargo'!T374 -> 1999217.3 | W15: =SUM(X15:AB15) -> 0 | X15: ='sum-cargo'!AA10 -> 0 | Y15: ='sum-cargo'!AA67 -> 0 | Z15: ='sum-cargo'!AA185 -> 0 | AA15: ='sum-cargo'!AA311 -> 0 | AB15: ='sum-cargo'!AA374 -> 0 | AC15: =SUM(AD15:AH15) -> 40406552 | AD15: =F15+L15+R15+X15 -> 8279986.1 | AE15: =G15+M15+S15+Y15 -> 11258953 | AF15: =H15+N15+T15+Z15 -> 9660321.7 | AG15: =I15+O15+U15+AA15 -> 5342762.7 | AH15: =J15+P15+V15+AB15 -> 5864528.6
C16: Outbound | E16: =SUM(F16:J16) -> 14375080 | F16: ='sum-cargo'!G10 -> 7405114.3 | G16: ='sum-cargo'!G67 -> 1341096 | H16: ='sum-cargo'!G185 -> 3568825.6 | I16: ='sum-cargo'!G311 -> 1186613.9 | J16: ='sum-cargo'!G374 -> 873430.53 | K16: =SUM(L16:P16) -> 15103066 | L16: ='sum-cargo'!N10 -> 7529726.3 | M16: ='sum-cargo'!N67 -> 1461433.8 | N16: ='sum-cargo'!N185 -> 3884009.7 | O16: ='sum-cargo'!N311 -> 1234030.8 | P16: ='sum-cargo'!N374 -> 993865.49 | Q16: =SUM(R16:V16) -> 14294305 | R16: ='sum-cargo'!U10 -> 6402030.7 | S16: ='sum-cargo'!U67 -> 1389317.1 | T16: ='sum-cargo'!U185 -> 4049525.2 | U16: ='sum-cargo'!U311 -> 1336294.6 | V16: ='sum-cargo'!U374 -> 1117137.9 | W16: =SUM(X16:AB16) -> 0 | X16: ='sum-cargo'!AB10 -> 0 | Y16: ='sum-cargo'!AB67 -> 0 | Z16: ='sum-cargo'!AB185 -> 0 | AA16: ='sum-cargo'!AB311 -> 0 | AB16: ='sum-cargo'!AB374 -> 0 | AC16: =SUM(AD16:AH16) -> 43772452 | AD16: =F16+L16+R16+X16 -> 21336871 | AE16: =G16+M16+S16+Y16 -> 4191846.9 | AF16: =H16+N16+T16+Z16 -> 11502360 | AG16: =I16+O16+U16+AA16 -> 3756939.3 | AH16: =J16+P16+V16+AB16 -> 2984433.9
B18: Foreign | E18: =+E19+E20 -> 39678631 | F18: =+F19+F20 -> 18749019 | G18: =+G19+G20 -> 7231931 | H18: =+H19+H20 -> 5668229.2 | I18: =+I19+I20 -> 2644420 | J18: =+J19+J20 -> 5385031.7 | K18: =+K19+K20 -> 58572572 | L18: =+L19+L20 -> 20085629 | ... AH18: =+AH19+AH20 -> 17581188
C19: Import | E19: =SUM(F19:J19) -> 26949299 | F19: ='sum-cargo'!I10 -> 14705739 | G19: ='sum-cargo'!I67 -> 5979405.8 | H19: ='sum-cargo'!I185 -> 1258294.5 | I19: ='sum-cargo'!I311 -> 1807768.6 | J19: ='sum-cargo'!I374 -> 3198090.3 | K19: =SUM(L19:P19) -> 29023176 | L19: ='sum-cargo'!P10 -> 16491534 | M19: ='sum-cargo'!P67 -> 6059995.4 | N19: ='sum-cargo'!P185 -> 1455246.8 | O19: ='sum-cargo'!P311 -> 1909969.3 | P19: ='sum-cargo'!P374 -> 3106430.2 | Q19: =SUM(R19:V19) -> 27290211 | R19: ='sum-cargo'!W10 -> 14457589 | S19: ='sum-cargo'!W67 -> 6233647.2 | T19: ='sum-cargo'!W185 -> 1383352.1 | U19: ='sum-cargo'!W311 -> 1880473.7 | V19: ='sum-cargo'!W374 -> 3335148.1 | W19: =SUM(X19:AB19) -> 0 | X19: ='sum-cargo'!AD10 -> 0 | Y19: ='sum-cargo'!AD67 -> 0 | Z19: ='sum-cargo'!AD185 -> 0 | AA19: ='sum-cargo'!AD311 -> 0 | AB19: ='sum-cargo'!AD374 -> 0 | AC19: =SUM(AD19:AH19) -> 83262685 | AD19: =F19+L19+R19+X19 -> 45654863 | AE19: =G19+M19+S19+Y19 -> 18273048 | AF19: =H19+N19+T19+Z19 -> 4096893.4 | AG19: =I19+O19+U19+AA19 -> 5598211.6 | AH19: =J19+P19+V19+AB19 -> 9639668.6
C20: Export | E20: =SUM(F20:J20) -> 12729332 | F20: ='sum-cargo'!J10 -> 4043279.3 | G20: ='sum-cargo'!J67 -> 1252525.2 | H20: ='sum-cargo'!J185 -> 4409934.7 | I20: ='sum-cargo'!J311 -> 836651.32 | J20: ='sum-cargo'!J374 -> 2186941.4 | K20: =SUM(L20:P20) -> 29549396 | L20: ='sum-cargo'!Q10 -> 3594094.5 | M20: ='sum-cargo'!Q67 -> 2302004.5 | N20: ='sum-cargo'!Q185 -> 7538903.2 | O20: ='sum-cargo'!Q311 -> 13034358 | P20: ='sum-cargo'!Q374 -> 3080035.8 | Q20: =SUM(R20:V20) -> 30186006 | R20: ='sum-cargo'!X10 -> 2507833.6 | S20: ='sum-cargo'!X67 -> 1372761.9 | T20: ='sum-cargo'!X185 -> 5282019.9 | U20: ='sum-cargo'!X311 -> 18348848 | V20: ='sum-cargo'!X374 -> 2674542.3 | W20: =SUM(X20:AB20) -> 0 | X20: ='sum-cargo'!AE10 -> 0 | Y20: ='sum-cargo'!AE67 -> 0 | Z20: ='sum-cargo'!AE185 -> 0 | AA20: ='sum-cargo'!AE311 -> 0 | AB20: ='sum-cargo'!AE374 -> 0 | AC20: =SUM(AD20:AH20) -> 72464734 | AD20: =F20+L20+R20+X20 -> 10145207 | AE20: =G20+M20+S20+Y20 -> 4927291.7 | AF20: =H20+N20+T20+Z20 -> 17230858 | AG20: =I20+O20+U20+AA20 -> 32219857 | AH20: =J20+P20+V20+AB20 -> 7941519.5
A22: 3. Container Throughput (in TEUs) | E22: =+E23+E27 -> 2130938.1 | F22: =+F23+F27 -> 1509192.5 | G22: =+G23+G27 -> 119999.89 | H22: =+H23+H27 -> 117395.5 | I22: =+I23+I27 -> 99858.75 | J22: =+J23+J27 -> 284491.5 | K22: =+K23+K27 -> 2174284.5 | L22: =+L23+L27 -> 1514614 | ... AH22: =+AH23+AH27 -> 875100.75
B23: Domestic | E23: =+E24+E25 -> 758594.39 | F23: =+F24+F25 -> 377108 | G23: =+G24+G25 -> 50397.64 | H23: =+H24+H25 -> 113697.25 | I23: =+I24+I25 -> 99858.75 | J23: =+J24+J25 -> 117532.75 | K23: =+K24+K25 -> 743455.75 | L23: =+L24+L25 -> 354428.75 | ... AH23: =+AH24+AH25 -> 353851
C24: Inbound | E24: =SUM(F24:J24) -> 382458.39 | F24: ='sum-teu'!F10 -> 177707.75 | G24: ='sum-teu'!F67 -> 25002.14 | H24: ='sum-teu'!F185 -> 60953 | I24: ='sum-teu'!F311 -> 51258.75 | J24: ='sum-teu'!F374 -> 67536.75 | K24: =SUM(L24:P24) -> 376308.75 | L24: ='sum-teu'!M10 -> 170598.75 | M24: ='sum-teu'!M67 -> 25786.25 | N24: ='sum-teu'!M185 -> 63271.75 | O24: ='sum-teu'!M311 -> 50965.5 | P24: ='sum-teu'!M374 -> 65686.5 | Q24: =SUM(R24:V24) -> 381220.5 | R24: ='sum-teu'!T10 -> 171414.5 | S24: ='sum-teu'!T67 -> 25055.5 | T24: ='sum-teu'!T185 -> 62966.5 | U24: ='sum-teu'!T311 -> 53120.5 | V24: ='sum-teu'!T374 -> 68663.5 | W24: =SUM(X24:AB24) -> 0 | X24: ='sum-teu'!AA10 -> 0 | Y24: ='sum-teu'!AA67 -> 0 | Z24: ='sum-teu'!AA185 -> 0 | AA24: ='sum-teu'!AA311 -> 0 | AB24: ='sum-teu'!AA374 -> 0 | AC24: =SUM(AD24:AH24) -> 1139987.6 | AD24: =F24+L24+R24+X24 -> 519721 | AE24: =G24+M24+S24+Y24 -> 75843.89 | AF24: =H24+N24+T24+Z24 -> 187191.25 | AG24: =I24+O24+U24+AA24 -> 155344.75 | AH24: =J24+P24+V24+AB24 -> 201886.75
C25: Outbound | E25: =SUM(F25:J25) -> 376136 | F25: ='sum-teu'!G10 -> 199400.25 | G25: ='sum-teu'!G67 -> 25395.5 | H25: ='sum-teu'!G185 -> 52744.25 | I25: ='sum-teu'!G311 -> 48600 | J25: ='sum-teu'!G374 -> 49996 | K25: =SUM(L25:P25) -> 367147 | L25: ='sum-teu'!N10 -> 183830 | M25: ='sum-teu'!N67 -> 26046.5 | N25: ='sum-teu'!N185 -> 55882 | O25: ='sum-teu'!N311 -> 51507.25 | P25: ='sum-teu'!N374 -> 49881.25 | Q25: =SUM(R25:V25) -> 372701.25 | R25: ='sum-teu'!U10 -> 193559.25 | S25: ='sum-teu'!U67 -> 24038.5 | T25: ='sum-teu'!U185 -> 51012.5 | U25: ='sum-teu'!U311 -> 52004 | V25: ='sum-teu'!U374 -> 52087 | W25: =SUM(X25:AB25) -> 0 | X25: ='sum-teu'!AB10 -> 0 | Y25: ='sum-teu'!AB67 -> 0 | Z25: ='sum-teu'!AB185 -> 0 | AA25: ='sum-teu'!AB311 -> 0 | AB25: ='sum-teu'!AB374 -> 0 | AC25: =SUM(AD25:AH25) -> 1115984.2 | AD25: =F25+L25+R25+X25 -> 576789.5 | AE25: =G25+M25+S25+Y25 -> 75480.5 | AF25: =H25+N25+T25+Z25 -> 159638.75 | AG25: =I25+O25+U25+AA25 -> 152111.25 | AH25: =J25+P25+V25+AB25 -> 151964.25
B27: Foreign | E27: =+E28+E29 -> 1372343.8 | F27: =+F28+F29 -> 1132084.5 | G27: =+G28+G29 -> 69602.25 | H27: =+H28+H29 -> 3698.25 | I27: =+I28+I29 -> 0 | J27: =+J28+J29 -> 166958.75 | K27: =+K28+K29 -> 1430828.8 | L27: =+L28+L29 -> 1160185.2 | ... AH27: =+AH28+AH29 -> 521249.75
C28: Import | E28: =SUM(F28:J28) -> 690485.5 | F28: ='sum-teu'!I10 -> 578694.25 | G28: ='sum-teu'!I67 -> 33204.25 | H28: ='sum-teu'!I185 -> 1842.25 | I28: ='sum-teu'!I311 -> 0 | J28: ='sum-teu'!I374 -> 76744.75 | K28: =SUM(L28:P28) -> 738009.5 | L28: ='sum-teu'!P10 -> 606609.25 | M28: ='sum-teu'!P67 -> 40669.5 | N28: ='sum-teu'!P185 -> 2593 | O28: ='sum-teu'!P311 -> 0 | P28: ='sum-teu'!P374 -> 88137.75 | Q28: =SUM(R28:V28) -> 742954 | R28: ='sum-teu'!W10 -> 613119.25 | S28: ='sum-teu'!W67 -> 45119.5 | T28: ='sum-teu'!W185 -> 3234 | U28: ='sum-teu'!W311 -> 0 | V28: ='sum-teu'!W374 -> 81481.25 | W28: =SUM(X28:AB28) -> 0 | X28: ='sum-teu'!AD10 -> 0 | Y28: ='sum-teu'!AD67 -> 0 | Z28: ='sum-teu'!AD185 -> 0 | AA28: ='sum-teu'!AD311 -> 0 | AB28: ='sum-teu'!AD374 -> 0 | AC28: =SUM(AD28:AH28) -> 2171449 | AD28: =F28+L28+R28+X28 -> 1798422.8 | AE28: =G28+M28+S28+Y28 -> 118993.25 | AF28: =H28+N28+T28+Z28 -> 7669.25 | AG28: =I28+O28+U28+AA28 -> 0 | AH28: =J28+P28+V28+AB28 -> 246363.75
C29: Export | E29: =SUM(F29:J29) -> 681858.25 | F29: ='sum-teu'!J10 -> 553390.25 | G29: ='sum-teu'!J67 -> 36398 | H29: ='sum-teu'!J185 -> 1856 | I29: ='sum-teu'!J311 -> 0 | J29: ='sum-teu'!J374 -> 90214 | K29: =SUM(L29:P29) -> 692819.25 | L29: ='sum-teu'!Q10 -> 553576 | M29: ='sum-teu'!Q67 -> 44563.25 | N29: ='sum-teu'!Q185 -> 3512.25 | O29: ='sum-teu'!Q311 -> 0 | P29: ='sum-teu'!Q374 -> 91167.75 | Q29: =SUM(R29:V29) -> 679528.25 | R29: ='sum-teu'!X10 -> 530851.5 | S29: ='sum-teu'!X67 -> 49299.5 | T29: ='sum-teu'!X185 -> 5873 | U29: ='sum-teu'!X311 -> 0 | V29: ='sum-teu'!X374 -> 93504.25 | W29: =SUM(X29:AB29) -> 0 | X29: ='sum-teu'!AE10 -> 0 | Y29: ='sum-teu'!AE67 -> 0 | Z29: ='sum-teu'!AE185 -> 0 | AA29: ='sum-teu'!AE311 -> 0 | AB29: ='sum-teu'!AE374 -> 0 | AC29: =SUM(AD29:AH29) -> 2054205.8 | AD29: =F29+L29+R29+X29 -> 1637817.8 | AE29: =G29+M29+S29+Y29 -> 130260.75 | AF29: =H29+N29+T29+Z29 -> 11241.25 | AG29: =I29+O29+U29+AA29 -> 0 | AH29: =J29+P29+V29+AB29 -> 274886
A31: 4. Passenger Traffic | E31: =+E32+E33+E34 -> 20018437 | F31: =+F32+F33+F34 -> 243202 | G31: =+G32+G33+G34 -> 5314910 | H31: =+H32+H33+H34 -> 9906860 | I31: =+I32+I33+I34 -> 1464094 | J31: =+J32+J33+J34 -> 3089371 | K31: =+K32+K33+K34 -> 25567967 | L31: =+L32+L33+L34 -> 292082 | ... AH31: =+AH32+AH33+AH34 -> 9934688
B32: Disembarked | E32: =SUM(F32:J32) -> 10004855 | F32: ='sum-pass'!E10 -> 88259 | G32: ='sum-pass'!E67 -> 2679512 | H32: ='sum-pass'!E185 -> 4938093 | I32: ='sum-pass'!E311 -> 736376 | J32: ='sum-pass'!E374 -> 1562615 | K32: =SUM(L32:P32) -> 12956205 | L32: ='sum-pass'!I10 -> 140390 | M32: ='sum-pass'!I67 -> 3483946 | N32: ='sum-pass'!I185 -> 6425723 | O32: ='sum-pass'!I311 -> 1184363 | P32: ='sum-pass'!I374 -> 1721783 | Q32: =SUM(R32:V32) -> 9155534 | R32: ='sum-pass'!M10 -> 59692 | S32: ='sum-pass'!M67 -> 1973861 | T32: ='sum-pass'!M185 -> 4574013 | U32: ='sum-pass'!M311 -> 811990 | V32: ='sum-pass'!M374 -> 1735978 | W32: =SUM(X32:AB32) -> 0 | X32: ='sum-pass'!Q10 -> 0 | Y32: ='sum-pass'!Q67 -> 0 | Z32: ='sum-pass'!Q185 -> 0 | AA32: ='sum-pass'!Q311 -> 0 | AB32: ='sum-pass'!Q374 -> 0 | AC32: =SUM(AD32:AH32) -> 32116594 | AD32: =F32+L32+R32+X32 -> 288341 | AE32: =G32+M32+S32+Y32 -> 8137319 | AF32: =H32+N32+T32+Z32 -> 15937829 | AG32: =I32+O32+U32+AA32 -> 2732729 | AH32: =J32+P32+V32+AB32 -> 5020376
B33: Embarked | E33: =SUM(F33:J33) -> 9878422 | F33: ='sum-pass'!F10 -> 87126 | G33: ='sum-pass'!F67 -> 2579898 | H33: ='sum-pass'!F185 -> 4956924 | I33: ='sum-pass'!F311 -> 727718 | J33: ='sum-pass'!F374 -> 1526756 | K33: =SUM(L33:P33) -> 12581160 | L33: ='sum-pass'!J10 -> 133023 | M33: ='sum-pass'!J67 -> 3393989 | N33: ='sum-pass'!J185 -> 6233520 | O33: ='sum-pass'!J311 -> 1138010 | P33: ='sum-pass'!J374 -> 1682618 | Q33: =SUM(R33:V33) -> 9004178 | R33: ='sum-pass'!N10 -> 61393 | S33: ='sum-pass'!N67 -> 1953022 | T33: ='sum-pass'!N185 -> 4504087 | U33: ='sum-pass'!N311 -> 780738 | V33: ='sum-pass'!N374 -> 1704938 | W33: =SUM(X33:AB33) -> 0 | X33: ='sum-pass'!R10 -> 0 | Y33: ='sum-pass'!R67 -> 0 | Z33: ='sum-pass'!R185 -> 0 | AA33: ='sum-pass'!R311 -> 0 | AB33: ='sum-pass'!R374 -> 0 | AC33: =SUM(AD33:AH33) -> 31463760 | AD33: =F33+L33+R33+X33 -> 281542 | AE33: =G33+M33+S33+Y33 -> 7926909 | AF33: =H33+N33+T33+Z33 -> 15694531 | AG33: =I33+O33+U33+AA33 -> 2646466 | AH33: =J33+P33+V33+AB33 -> 4914312
B34: Cruise Passengers | E34: =SUM(F34:J34) -> 135160 | F34: ='sum-pass'!$G$10 -> 67817 | G34: ='sum-pass'!$G$67 -> 55500 | H34: ='sum-pass'!$G$185 -> 11843 | I34: ='sum-pass'!$G$311 -> 0 | J34: ='sum-pass'!$G$374 -> 0 | K34: =SUM(L34:P34) -> 30602 | L34: ='sum-pass'!$K$10 -> 18669 | M34: ='sum-pass'!$K$67 -> 8453 | N34: ='sum-pass'!$K$185 -> 3285 | O34: ='sum-pass'!$K$311 -> 195 | P34: ='sum-pass'!$K$374 -> 0 | Q34: =SUM(R34:V34) -> 850 | R34: ='sum-pass'!$O$10 -> 0 | S34: ='sum-pass'!$O$67 -> 280 | T34: ='sum-pass'!$O$185 -> 570 | U34: ='sum-pass'!$O$311 -> 0 | V34: ='sum-pass'!$O$374 -> 0 | W34: =SUM(X34:AB34) -> 0 | X34: ='sum-pass'!$S$10 -> 0 | Y34: ='sum-pass'!$S$67 -> 0 | Z34: ='sum-pass'!$S$185 -> 0 | AA34: ='sum-pass'!$S$311 -> 0 | AB34: ='sum-pass'!$S$374 -> 0 | AC34: =SUM(AD34:AH34) -> 166612 | AD34: =F34+L34+R34+X34 -> 86486 | AE34: =G34+M34+S34+Y34 -> 64233 | AF34: =H34+N34+T34+Z34 -> 15698 | AG34: =I34+O34+U34+AA34 -> 195 | AH34: =J34+P34+V34+AB34 -> 0
A36: 5. Ro-Ro Traffic (number of vehicles carried by Ro-Ro vessels)
E37: =E38+E44 -> 3253455 | F37: =F38+F44 -> 0 | G37: =G38+G44 -> 915404 | H37: =H38+H44 -> 1292048 | I37: =I38+I44 -> 217030 | J37: =J38+J44 -> 828973 | K37: =K38+K44 -> 3626842 | L37: =L38+L44 -> 149 | ... AH37: =AH38+AH44 -> 2982412
B38: Inbound | E38: =SUM(E39:E42) -> 1624360 | F38: =SUM(F39:F42) -> 0 | G38: =SUM(G39:G42) -> 452025 | H38: =SUM(H39:H42) -> 648921 | I38: =SUM(I39:I42) -> 112149 | J38: =SUM(J39:J42) -> 411265 | K38: =SUM(K39:K42) -> 1818066 | L38: =SUM(L39:L42) -> 21 | ... AH38: =SUM(AH39:AH42) -> 1490099
C39: Type 1 | E39: =SUM(F39:J39) -> 480715 | F39: ='sum-roro'!F10 -> 0 | G39: ='sum-roro'!F67 -> 78718 | H39: ='sum-roro'!F185 -> 162831 | I39: ='sum-roro'!F311 -> 23677 | J39: ='sum-roro'!F374 -> 215489 | K39: =SUM(L39:P39) -> 594401 | L39: ='sum-roro'!Q10 -> 0 | M39: ='sum-roro'!Q67 -> 90938 | N39: ='sum-roro'!Q185 -> 178638 | O39: ='sum-roro'!Q311 -> 30205 | P39: ='sum-roro'!Q374 -> 294620 | Q39: =SUM(R39:V39) -> 528173 | R39: ='sum-roro'!AB10 -> 0 | S39: ='sum-roro'!AB67 -> 58091 | T39: ='sum-roro'!AB185 -> 133172 | U39: ='sum-roro'!AB311 -> 22793 | V39: ='sum-roro'!AB374 -> 314117 | W39: =SUM(X39:AB39) -> 0 | X39: ='sum-roro'!AM10 -> 0 | Y39: ='sum-roro'!AM67 -> 0 | Z39: ='sum-roro'!AM185 -> 0 | AA39: ='sum-roro'!AM311 -> 0 | AB39: ='sum-roro'!AM374 -> 0 | AC39: =SUM(AD39:AH39) -> 1603289 | AD39: =F39+L39+R39+X39 -> 0 | AE39: =G39+M39+S39+Y39 -> 227747 | AF39: =H39+N39+T39+Z39 -> 474641 | AG39: =I39+O39+U39+AA39 -> 76675 | AH39: =J39+P39+V39+AB39 -> 824226
C40: Type 2 | E40: =SUM(F40:J40) -> 503380 | F40: ='sum-roro'!G10 -> 0 | G40: ='sum-roro'!G67 -> 121220 | H40: ='sum-roro'!G185 -> 197232 | I40: ='sum-roro'!G311 -> 34867 | J40: ='sum-roro'!G374 -> 150061 | K40: =SUM(L40:P40) -> 579769 | L40: ='sum-roro'!R10 -> 15 | M40: ='sum-roro'!R67 -> 129662 | N40: ='sum-roro'!R185 -> 226611 | O40: ='sum-roro'!R311 -> 50380 | P40: ='sum-roro'!R374 -> 173101 | Q40: =SUM(R40:V40) -> 527762 | R40: ='sum-roro'!AC10 -> 0 | S40: ='sum-roro'!AC67 -> 99789 | T40: ='sum-roro'!AC185 -> 183901 | U40: ='sum-roro'!AC311 -> 40520 | V40: ='sum-roro'!AC374 -> 203552 | W40: =SUM(X40:AB40) -> 0 | X40: ='sum-roro'!AN10 -> 0 | Y40: ='sum-roro'!AN67 -> 0 | Z40: ='sum-roro'!AN185 -> 0 | AA40: ='sum-roro'!AN311 -> 0 | AB40: ='sum-roro'!AN374 -> 0 | AC40: =SUM(AD40:AH40) -> 1610911 | AD40: =F40+L40+R40+X40 -> 15 | AE40: =G40+M40+S40+Y40 -> 350671 | AF40: =H40+N40+T40+Z40 -> 607744 | AG40: =I40+O40+U40+AA40 -> 125767 | AH40: =J40+P40+V40+AB40 -> 526714
C41: Type 3 | E41: =SUM(F41:J41) -> 193486 | F41: ='sum-roro'!H10 -> 0 | G41: ='sum-roro'!H67 -> 78934 | H41: ='sum-roro'!H185 -> 76324 | I41: ='sum-roro'!H311 -> 16055 | J41: ='sum-roro'!H374 -> 22173 | K41: =SUM(L41:P41) -> 198405 | L41: ='sum-roro'!S10 -> 0 | M41: ='sum-roro'!S67 -> 84146 | N41: ='sum-roro'!S185 -> 80473 | O41: ='sum-roro'!S311 -> 13402 | P41: ='sum-roro'!S374 -> 20384 | Q41: =SUM(R41:V41) -> 185199 | R41: ='sum-roro'!AD10 -> 0 | S41: ='sum-roro'!AD67 -> 73312 | T41: ='sum-roro'!AD185 -> 72918 | U41: ='sum-roro'!AD311 -> 12583 | V41: ='sum-roro'!AD374 -> 26386 | W41: =SUM(X41:AB41) -> 0 | X41: ='sum-roro'!AO10 -> 0 | Y41: ='sum-roro'!AO67 -> 0 | Z41: ='sum-roro'!AO185 -> 0 | AA41: ='sum-roro'!AO311 -> 0 | AB41: ='sum-roro'!AO374 -> 0 | AC41: =SUM(AD41:AH41) -> 577090 | AD41: =F41+L41+R41+X41 -> 0 | AE41: =G41+M41+S41+Y41 -> 236392 | AF41: =H41+N41+T41+Z41 -> 229715 | AG41: =I41+O41+U41+AA41 -> 42040 | AH41: =J41+P41+V41+AB41 -> 68943
C42: Type 4 | E42: =SUM(F42:J42) -> 446779 | F42: ='sum-roro'!I10 -> 0 | G42: ='sum-roro'!I67 -> 173153 | H42: ='sum-roro'!I185 -> 212534 | I42: ='sum-roro'!I311 -> 37550 | J42: ='sum-roro'!I374 -> 23542 | K42: =SUM(L42:P42) -> 445491 | L42: ='sum-roro'!T10 -> 6 | M42: ='sum-roro'!T67 -> 173749 | N42: ='sum-roro'!T185 -> 211148 | O42: ='sum-roro'!T311 -> 38329 | P42: ='sum-roro'!T374 -> 22259 | Q42: =SUM(R42:V42) -> 429669 | R42: ='sum-roro'!AE10 -> 0 | S42: ='sum-roro'!AE67 -> 155564 | T42: ='sum-roro'!AE185 -> 207436 | U42: ='sum-roro'!AE311 -> 42254 | V42: ='sum-roro'!AE374 -> 24415 | W42: =SUM(X42:AB42) -> 0 | X42: ='sum-roro'!AP10 -> 0 | Y42: ='sum-roro'!AP67 -> 0 | Z42: ='sum-roro'!AP185 -> 0 | AA42: ='sum-roro'!AP311 -> 0 | AB42: ='sum-roro'!AP374 -> 0 | AC42: =SUM(AD42:AH42) -> 1321939 | AD42: =F42+L42+R42+X42 -> 6 | AE42: =G42+M42+S42+Y42 -> 502466 | AF42: =H42+N42+T42+Z42 -> 631118 | AG42: =I42+O42+U42+AA42 -> 118133 | AH42: =J42+P42+V42+AB42 -> 70216
B44: Outbound | E44: =SUM(E45:E48) -> 1629095 | F44: =SUM(F45:F48) -> 0 | G44: =SUM(G45:G48) -> 463379 | H44: =SUM(H45:H48) -> 643127 | I44: =SUM(I45:I48) -> 104881 | J44: =SUM(J45:J48) -> 417708 | K44: =SUM(K45:K48) -> 1808776 | L44: =SUM(L45:L48) -> 128 | ... AH44: =SUM(AH45:AH48) -> 1492313
C45: Type 1 | E45: =SUM(F45:J45) -> 503916 | F45: ='sum-roro'!K10 -> 0 | G45: ='sum-roro'!K67 -> 84607 | H45: ='sum-roro'!K185 -> 172268 | I45: ='sum-roro'!K311 -> 23425 | J45: ='sum-roro'!K374 -> 223616 | K45: =SUM(L45:P45) -> 608341 | L45: ='sum-roro'!V10 -> 0 | M45: ='sum-roro'!V67 -> 97839 | N45: ='sum-roro'!V185 -> 184794 | O45: ='sum-roro'!V311 -> 29529 | P45: ='sum-roro'!V374 -> 296179 | Q45: =SUM(R45:V45) -> 531739 | R45: ='sum-roro'!AG10 -> 0 | S45: ='sum-roro'!AG67 -> 59090 | T45: ='sum-roro'!AG185 -> 136370 | U45: ='sum-roro'!AG311 -> 22129 | V45: ='sum-roro'!AG374 -> 314150 | W45: =SUM(X45:AB45) -> 0 | X45: ='sum-roro'!AR10 -> 0 | Y45: ='sum-roro'!AR67 -> 0 | Z45: ='sum-roro'!AR185 -> 0 | AA45: ='sum-roro'!AR311 -> 0 | AB45: ='sum-roro'!AR374 -> 0 | AC45: =SUM(AD45:AH45) -> 1643996 | AD45: =F45+L45+R45+X45 -> 0 | AE45: =G45+M45+S45+Y45 -> 241536 | AF45: =H45+N45+T45+Z45 -> 493432 | AG45: =I45+O45+U45+AA45 -> 75083 | AH45: =J45+P45+V45+AB45 -> 833945
C46: Type 2 | E46: =SUM(F46:J46) -> 494584 | F46: ='sum-roro'!L10 -> 0 | G46: ='sum-roro'!L67 -> 120811 | H46: ='sum-roro'!L185 -> 194723 | I46: ='sum-roro'!L311 -> 29791 | J46: ='sum-roro'!L374 -> 149259 | K46: =SUM(L46:P46) -> 562378 | L46: ='sum-roro'!W10 -> 94 | M46: ='sum-roro'!W67 -> 132444 | N46: ='sum-roro'!W185 -> 217997 | O46: ='sum-roro'!W311 -> 39881 | P46: ='sum-roro'!W374 -> 171962 | Q46: =SUM(R46:V46) -> 506134 | R46: ='sum-roro'!AH10 -> 20 | S46: ='sum-roro'!AH67 -> 105346 | T46: ='sum-roro'!AH185 -> 170008 | U46: ='sum-roro'!AH311 -> 29942 | V46: ='sum-roro'!AH374 -> 200818 | W46: =SUM(X46:AB46) -> 0 | X46: ='sum-roro'!AS10 -> 0 | Y46: ='sum-roro'!AS67 -> 0 | Z46: ='sum-roro'!AS185 -> 0 | AA46: ='sum-roro'!AS311 -> 0 | AB46: ='sum-roro'!AS374 -> 0 | AC46: =SUM(AD46:AH46) -> 1563096 | AD46: =F46+L46+R46+X46 -> 114 | AE46: =G46+M46+S46+Y46 -> 358601 | AF46: =H46+N46+T46+Z46 -> 582728 | AG46: =I46+O46+U46+AA46 -> 99614 | AH46: =J46+P46+V46+AB46 -> 522039
C47: Type 3 | E47: =SUM(F47:J47) -> 173494 | F47: ='sum-roro'!M10 -> 0 | G47: ='sum-roro'!M67 -> 77548 | H47: ='sum-roro'!M185 -> 59342 | I47: ='sum-roro'!M311 -> 15113 | J47: ='sum-roro'!M374 -> 21491 | K47: =SUM(L47:P47) -> 183492 | L47: ='sum-roro'!X10 -> 0 | M47: ='sum-roro'!X67 -> 81695 | N47: ='sum-roro'!X185 -> 64805 | O47: ='sum-roro'!X311 -> 17263 | P47: ='sum-roro'!X374 -> 19729 | Q47: =SUM(R47:V47) -> 176422 | R47: ='sum-roro'!AI10 -> 0 | S47: ='sum-roro'!AI67 -> 71861 | T47: ='sum-roro'!AI185 -> 64117 | U47: ='sum-roro'!AI311 -> 14815 | V47: ='sum-roro'!AI374 -> 25629 | W47: =SUM(X47:AB47) -> 0 | X47: ='sum-roro'!AT10 -> 0 | Y47: ='sum-roro'!AT67 -> 0 | Z47: ='sum-roro'!AT185 -> 0 | AA47: ='sum-roro'!AT311 -> 0 | AB47: ='sum-roro'!AT374 -> 0 | AC47: =SUM(AD47:AH47) -> 533408 | AD47: =F47+L47+R47+X47 -> 0 | AE47: =G47+M47+S47+Y47 -> 231104 | AF47: =H47+N47+T47+Z47 -> 188264 | AG47: =I47+O47+U47+AA47 -> 47191 | AH47: =J47+P47+V47+AB47 -> 66849
C48: Type 4 | E48: =SUM(F48:J48) -> 457101 | F48: ='sum-roro'!N10 -> 0 | G48: ='sum-roro'!N67 -> 180413 | H48: ='sum-roro'!N185 -> 216794 | I48: ='sum-roro'!N311 -> 36552 | J48: ='sum-roro'!N374 -> 23342 | K48: =SUM(L48:P48) -> 454565 | L48: ='sum-roro'!Y10 -> 34 | M48: ='sum-roro'!Y67 -> 180121 | N48: ='sum-roro'!Y185 -> 214722 | O48: ='sum-roro'!Y311 -> 37637 | P48: ='sum-roro'!Y374 -> 22051 | Q48: =SUM(R48:V48) -> 440615 | R48: ='sum-roro'!AJ10 -> 3 | S48: ='sum-roro'!AJ67 -> 166870 | T48: ='sum-roro'!AJ185 -> 207705 | U48: ='sum-roro'!AJ311 -> 41950 | V48: ='sum-roro'!AJ374 -> 24087 | W48: =SUM(X48:AB48) -> 0 | X48: ='sum-roro'!AU10 -> 0 | Y48: ='sum-roro'!AU67 -> 0 | Z48: ='sum-roro'!AU185 -> 0 | AA48: ='sum-roro'!AU311 -> 0 | AB48: ='sum-roro'!AU374 -> 0 | AC48: =SUM(AD48:AH48) -> 1352281 | AD48: =F48+L48+R48+X48 -> 37 | AE48: =G48+M48+S48+Y48 -> 527404 | AF48: =H48+N48+T48+Z48 -> 639221 | AG48: =I48+O48+U48+AA48 -> 116139 | AH48: =J48+P48+V48+AB48 -> 69480
A51: Source: Port Management Offices' Monthly Statistical Report
A52: Notes:
...

Sheet sum-ship
A1: SHIPPING STATISTICS SUMMARY BY PMO/PORT
A2: Philippine Ports Authority
A3: 2026
A4: SHIPCALLS
A6: Port Management Offices | D6: 1st Quarter | G6: 2nd Quarter | J6: 3rd Quarter | M6: 4th Quarter | P6: GRAND TOTAL
D7: Total | E7: Domestic | F7: Foreign | G7: Total | H7: Domestic | I7: Foreign | J7: Total | K7: Domestic | L7: Foreign | M7: Total | N7: Domestic | O7: Foreign | P7: Total | Q7: Domestic | R7: Foreign
A10: Manila/Northern Luzon | D10: =shipcalls!M10 -> 5257 | E10: =shipcalls!N10 -> 4216 | F10: =shipcalls!O10 -> 1041 | G10: =shipcalls!Y10 -> 5351 | H10: =shipcalls!Z10 -> 4334 | I10: =shipcalls!AA10 -> 1017 | J10: =shipcalls!AK10 -> 4744 | K10: =shipcalls!AL10 -> 3850 | L10: =shipcalls!AM10 -> 894 | M10: =shipcalls!AW10 -> 0 | N10: =shipcalls!AX10 -> 0 | O10: =shipcalls!AY10 -> 0 | P10: =D10+G10+J10+M10 -> 15352 | Q10: =E10+H10+K10+N10 -> 12400 | R10: =F10+I10+L10+O10 -> 2952
B12: PMO NCR South | D12: =shipcalls!M12 -> 962 | E12: =shipcalls!N12 -> 625 | F12: =shipcalls!O12 -> 337 | G12: =shipcalls!Y12 -> 910 | H12: =shipcalls!Z12 -> 568 | I12: =shipcalls!AA12 -> 342 | J12: =shipcalls!AK12 -> 846 | K12: =shipcalls!AL12 -> 534 | L12: =shipcalls!AM12 -> 312 | M12: =shipcalls!AW12 -> 0 | N12: =shipcalls!AX12 -> 0 | O12: =shipcalls!AY12 -> 0 | P12: =D12+G12+J12+M12 -> 2718 | Q12: =E12+H12+K12+N12 -> 1727 | R12: =F12+I12+L12+O12 -> 991
C13: BP South Harbor | D13: =shipcalls!M13 -> 337 | E13: =shipcalls!N13 -> 0 | F13: =shipcalls!O13 -> 337 | G13: =shipcalls!Y13 -> 342 | H13: =shipcalls!Z13 -> 0 | I13: =shipcalls!AA13 -> 342 | J13: =shipcalls!AK13 -> 312 | K13: =shipcalls!AL13 -> 0 | L13: =shipcalls!AM13 -> 312 | M13: =shipcalls!AW13 -> 0 | N13: =shipcalls!AX13 -> 0 | O13: =shipcalls!AY13 -> 0 | P13: =D13+G13+J13+M13 -> 991 | Q13: =E13+H13+K13+N13 -> 0 | R13: =F13+I13+L13+O13 -> 991
C14: Pier 3 | D14: =shipcalls!M14 -> 109 | E14: =shipcalls!N14 -> 0 | F14: =shipcalls!O14 -> 109 | G14: =shipcalls!Y14 -> 96 | H14: =shipcalls!Z14 -> 0 | I14: =shipcalls!AA14 -> 96 | J14: =shipcalls!AK14 -> 109 | K14: =shipcalls!AL14 -> 0 | L14: =shipcalls!AM14 -> 109 | M14: =shipcalls!AW14 -> 0 | N14: =shipcalls!AX14 -> 0 | O14: =shipcalls!AY14 -> 0 | P14: =D14+G14+J14+M14 -> 314 | Q14: =E14+H14+K14+N14 -> 0 | R14: =F14+I14+L14+O14 -> 314
C15: Pier 5 | D15: =shipcalls!M15 -> 132 | E15: =shipcalls!N15 -> 0 | F15: =shipcalls!O15 -> 132 | G15: =shipcalls!Y15 -> 147 | H15: =shipcalls!Z15 -> 0 | I15: =shipcalls!AA15 -> 147 | J15: =shipcalls!AK15 -> 106 | K15: =shipcalls!AL15 -> 0 | L15: =shipcalls!AM15 -> 106 | M15: =shipcalls!AW15 -> 0 | N15: =shipcalls!AX15 -> 0 | O15: =shipcalls!AY15 -> 0 | P15: =D15+G15+J15+M15 -> 385 | Q15: =E15+H15+K15+N15 -> 0 | R15: =F15+I15+L15+O15 -> 385
C16: Pier 15 | D16: =shipcalls!M16 -> 43 | E16: =shipcalls!N16 -> 0 | F16: =shipcalls!O16 -> 43 | G16: =shipcalls!Y16 -> 49 | H16: =shipcalls!Z16 -> 0 | I16: =shipcalls!AA16 -> 49 | J16: =shipcalls!AK16 -> 31 | K16: =shipcalls!AL16 -> 0 | L16: =shipcalls!AM16 -> 31 | M16: =shipcalls!AW16 -> 0 | N16: =shipcalls!AX16 -> 0 | O16: =shipcalls!AY16 -> 0 | P16: =D16+G16+J16+M16 -> 123 | Q16: =E16+H16+K16+N16 -> 0 | R16: =F16+I16+L16+O16 -> 123
C17: South Harbor (Anchorage) | D17: =shipcalls!M17 -> 53 | E17: =shipcalls!N17 -> 0 | F17: =shipcalls!O17 -> 53 | G17: =shipcalls!Y17 -> 50 | H17: =shipcalls!Z17 -> 0 | I17: =shipcalls!AA17 -> 50 | J17: =shipcalls!AK17 -> 66 | K17: =shipcalls!AL17 -> 0 | L17: =shipcalls!AM17 -> 66 | M17: =shipcalls!AW17 -> 0 | N17: =shipcalls!AX17 -> 0 | O17: =shipcalls!AY17 -> 0 | P17: =D17+G17+J17+M17 -> 169 | Q17: =E17+H17+K17+N17 -> 0 | R17: =F17+I17+L17+O17 -> 169
C18: TMO Pasig | D18: =shipcalls!M18 -> 325 | E18: =shipcalls!N18 -> 325 | F18: =shipcalls!O18 -> 0 | G18: =shipcalls!Y18 -> 285 | H18: =shipcalls!Z18 -> 285 | I18: =shipcalls!AA18 -> 0 | J18: =shipcalls!AK18 -> 327 | K18: =shipcalls!AL18 -> 327 | L18: =shipcalls!AM18 -> 0 | M18: =shipcalls!AW18 -> 0 | N18: =shipcalls!AX18 -> 0 | O18: =shipcalls!AY18 -> 0 | P18: =D18+G18+J18+M18 -> 937 | Q18: =E18+H18+K18+N18 -> 937 | R18: =F18+I18+L18+O18 -> 0
C19: Terminal Pasig Bank - Government Bay & River | D19: =shipcalls!M19 -> 195 | E19: =shipcalls!N19 -> 195 | F19: =shipcalls!O19 -> 0 | G19: =shipcalls!Y19 -> 157 | H19: =shipcalls!Z19 -> 157 | I19: =shipcalls!AA19 -> 0 | J19: =shipcalls!AK19 -> 177 | K19: =shipcalls!AL19 -> 177 | L19: =shipcalls!AM19 -> 0 | M19: =shipcalls!AW19 -> 0 | N19: =shipcalls!AX19 -> 0 | O19: =shipcalls!AY19 -> 0 | P19: =D19+G19+J19+M19 -> 529 | Q19: =E19+H19+K19+N19 -> 529 | R19: =F19+I19+L19+O19 -> 0
C20: Terminal Pasig Bank - Government Coastwise | D20: =shipcalls!M20 -> 130 | E20: =shipcalls!N20 -> 130 | F20: =shipcalls!O20 -> 0 | G20: =shipcalls!Y20 -> 128 | H20: =shipcalls!Z20 -> 128 | I20: =shipcalls!AA20 -> 0 | J20: =shipcalls!AK20 -> 150 | K20: =shipcalls!AL20 -> 150 | L20: =shipcalls!AM20 -> 0 | M20: =shipcalls!AW20 -> 0 | N20: =shipcalls!AX20 -> 0 | O20: =shipcalls!AY20 -> 0 | P20: =D20+G20+J20+M20 -> 408 | Q20: =E20+H20+K20+N20 -> 408 | R20: =F20+I20+L20+O20 -> 0
C21: Private Ports | D21: =shipcalls!M21 -> 300 | E21: =shipcalls!N21 -> 300 | F21: =shipcalls!O21 -> 0 | G21: =shipcalls!Y21 -> 283 | H21: =shipcalls!Z21 -> 283 | I21: =shipcalls!AA21 -> 0 | J21: =shipcalls!AK21 -> 207 | K21: =shipcalls!AL21 -> 207 | L21: =shipcalls!AM21 -> 0 | M21: =shipcalls!AW21 -> 0 | N21: =shipcalls!AX21 -> 0 | O21: =shipcalls!AY21 -> 0 | P21: =D21+G21+J21+M21 -> 790 | Q21: =E21+H21+K21+N21 -> 790 | R21: =F21+I21+L21+O21 -> 0
C23: Manila International Container Terminal (MICT) | D23: =shipcalls!M23 -> 353 | E23: =shipcalls!N23 -> 0 | F23: =shipcalls!O23 -> 353 | G23: =shipcalls!Y23 -> 363 | H23: =shipcalls!Z23 -> 0 | I23: =shipcalls!AA23 -> 363 | J23: =shipcalls!AK23 -> 338 | K23: =shipcalls!AL23 -> 0 | L23: =shipcalls!AM23 -> 338 | M23: =shipcalls!AW23 -> 0 | N23: =shipcalls!AX23 -> 0 | O23: =shipcalls!AY23 -> 0 | P23: =D23+G23+J23+M23 -> 1054 | Q23: =E23+H23+K23+N23 -> 0 | R23: =F23+I23+L23+O23 -> 1054
C24: MICT | D24: =shipcalls!M24 -> 344 | E24: =shipcalls!N24 -> 0 | F24: =shipcalls!O24 -> 344 | G24: =shipcalls!Y24 -> 357 | H24: =shipcalls!Z24 -> 0 | I24: =shipcalls!AA24 -> 357 | J24: =shipcalls!AK24 -> 331 | K24: =shipcalls!AL24 -> 0 | L24: =shipcalls!AM24 -> 331 | M24: =shipcalls!AW24 -> 0 | N24: =shipcalls!AX24 -> 0 | O24: =shipcalls!AY24 -> 0 | P24: =D24+G24+J24+M24 -> 1032 | Q24: =E24+H24+K24+N24 -> 0 | R24: =F24+I24+L24+O24 -> 1032
C25: MICT (Anchorage) | D25: =shipcalls!M25 -> 9 | E25: =shipcalls!N25 -> 0 | F25: =shipcalls!O25 -> 9 | G25: =shipcalls!Y25 -> 6 | H25: =shipcalls!Z25 -> 0 | I25: =shipcalls!AA25 -> 6 | J25: =shipcalls!AK25 -> 7 | K25: =shipcalls!AL25 -> 0 | L25: =shipcalls!AM25 -> 7 | M25: =shipcalls!AW25 -> 0 | N25: =shipcalls!AX25 -> 0 | O25: =shipcalls!AY25 -> 0 | P25: =D25+G25+J25+M25 -> 22 | Q25: =E25+H25+K25+N25 -> 0 | R25: =F25+I25+L25+O25 -> 22
B27: PMO NCR North | D27: =shipcalls!M27 -> 1558 | E27: =shipcalls!N27 -> 1484 | F27: =shipcalls!O27 -> 74 | G27: =shipcalls!Y27 -> 1535 | H27: =shipcalls!Z27 -> 1459 | I27: =shipcalls!AA27 -> 76 | J27: =shipcalls!AK27 -> 1523 | K27: =shipcalls!AL27 -> 1463 | L27: =shipcalls!AM27 -> 60 | M27: =shipcalls!AW27 -> 0 | N27: =shipcalls!AX27 -> 0 | O27: =shipcalls!AY27 -> 0 | P27: =D27+G27+J27+M27 -> 4616 | Q27: =E27+H27+K27+N27 -> 4406 | R27: =F27+I27+L27+O27 -> 210
C28: BP North Harbor | D28: =shipcalls!M28 -> 700 | E28: =shipcalls!N28 -> 700 | F28: =shipcalls!O28 -> 0 | G28: =shipcalls!Y28 -> 686 | H28: =shipcalls!Z28 -> 686 | I28: =shipcalls!AA28 -> 0 | J28: =shipcalls!AK28 -> 715 | K28: =shipcalls!AL28 -> 715 | L28: =shipcalls!AM28 -> 0 | M28: =shipcalls!AW28 -> 0 | N28: =shipcalls!AX28 -> 0 | O28: =shipcalls!AY28 -> 0 | P28: =D28+G28+J28+M28 -> 2101 | Q28: =E28+H28+K28+N28 -> 2101 | R28: =F28+I28+L28+O28 -> 0
C29: BP North Harbor Ro-Ro | D29: =shipcalls!M29 -> 139 | E29: =shipcalls!N29 -> 139 | F29: =shipcalls!O29 -> 0 | G29: =shipcalls!Y29 -> 156 | H29: =shipcalls!Z29 -> 156 | I29: =shipcalls!AA29 -> 0 | J29: =shipcalls!AK29 -> 165 | K29: =shipcalls!AL29 -> 165 | L29: =shipcalls!AM29 -> 0 | M29: =shipcalls!AW29 -> 0 | N29: =shipcalls!AX29 -> 0 | O29: =shipcalls!AY29 -> 0 | P29: =D29+G29+J29+M29 -> 460 | Q29: =E29+H29+K29+N29 -> 460 | R29: =F29+I29+L29+O29 -> 0
C30: BP North Harbor | D30: =shipcalls!M30 -> 561 | E30: =shipcalls!N30 -> 561 | F30: =shipcalls!O30 -> 0 | G30: =shipcalls!Y30 -> 530 | H30: =shipcalls!Z30 -> 530 | I30: =shipcalls!AA30 -> 0 | J30: =shipcalls!AK30 -> 550 | K30: =shipcalls!AL30 -> 550 | L30: =shipcalls!AM30 -> 0 | M30: =shipcalls!AW30 -> 0 | N30: =shipcalls!AX30 -> 0 | O30: =shipcalls!AY30 -> 0 | P30: =D30+G30+J30+M30 -> 1641 | Q30: =E30+H30+K30+N30 -> 1641 | R30: =F30+I30+L30+O30 -> 0
C31: TMO Vitas | D31: =shipcalls!M31 -> 156 | E31: =shipcalls!N31 -> 155 | F31: =shipcalls!O31 -> 1 | G31: =shipcalls!Y31 -> 162 | H31: =shipcalls!Z31 -> 162 | I31: =shipcalls!AA31 -> 0 | J31: =shipcalls!AK31 -> 122 | K31: =shipcalls!AL31 -> 122 | L31: =shipcalls!AM31 -> 0 | M31: =shipcalls!AW31 -> 0 | N31: =shipcalls!AX31 -> 0 | O31: =shipcalls!AY31 -> 0 | P31: =D31+G31+J31+M31 -> 440 | Q31: =E31+H31+K31+N31 -> 439 | R31: =F31+I31+L31+O31 -> 1
C32: TP Vitas | D32: =shipcalls!M32 -> 102 | E32: =shipcalls!N32 -> 102 | F32: =shipcalls!O32 -> 0 | G32: =shipcalls!Y32 -> 99 | H32: =shipcalls!Z32 -> 99 | I32: =shipcalls!AA32 -> 0 | J32: =shipcalls!AK32 -> 69 | K32: =shipcalls!AL32 -> 69 | L32: =shipcalls!AM32 -> 0 | M32: =shipcalls!AW32 -> 0 | N32: =shipcalls!AX32 -> 0 | O32: =shipcalls!AY32 -> 0 | P32: =D32+G32+J32+M32 -> 270 | Q32: =E32+H32+K32+N32 -> 270 | R32: =F32+I32+L32+O32 -> 0
C33: TP Vitas (Anchorage) | D33: =shipcalls!M33 -> 54 | E33: =shipcalls!N33 -> 53 | F33: =shipcalls!O33 -> 1 | G33: =shipcalls!Y33 -> 63 | H33: =shipcalls!Z33 -> 63 | I33: =shipcalls!AA33 -> 0 | J33: =shipcalls!AK33 -> 53 | K33: =shipcalls!AL33 -> 53 | L33: =shipcalls!AM33 -> 0 | M33: =shipcalls!AW33 -> 0 | N33: =shipcalls!AX33 -> 0 | O33: =shipcalls!AY33 -> 0 | P33: =D33+G33+J33+M33 -> 170 | Q33: =E33+H33+K33+N33 -> 169 | R33: =F33+I33+L33+O33 -> 1
C34: Private Ports | D34: =shipcalls!M34 -> 702 | E34: =shipcalls!N34 -> 629 | F34: =shipcalls!O34 -> 73 | G34: =shipcalls!Y34 -> 687 | H34: =shipcalls!Z34 -> 611 | I34: =shipcalls!AA34 -> 76 | J34: =shipcalls!AK34 -> 686 | K34: =shipcalls!AL34 -> 626 | L34: =shipcalls!AM34 -> 60 | M34: =shipcalls!AW34 -> 0 | N34: =shipcalls!AX34 -> 0 | O34: =shipcalls!AY34 -> 0 | P34: =D34+G34+J34+M34 -> 2075 | Q34: =E34+H34+K34+N34 -> 1866 | R34: =F34+I34+L34+O34 -> 209
B36: PMO Northern Luzon | D36: =shipcalls!M36 -> 813 | E36: =shipcalls!N36 -> 694 | F36: =shipcalls!O36 -> 119 | G36: =shipcalls!Y36 -> 898 | H36: =shipcalls!Z36 -> 802 | I36: =shipcalls!AA36 -> 96 | J36: =shipcalls!AK36 -> 585 | K36: =shipcalls!AL36 -> 522 | L36: =shipcalls!AM36 -> 63 | M36: =shipcalls!AW36 -> 0 | N36: =shipcalls!AX36 -> 0 | O36: =shipcalls!AY36 -> 0 | P36: =D36+G36+J36+M36 -> 2296 | Q36: =E36+H36+K36+N36 -> 2018 | R36: =F36+I36+L36+O36 -> 278
C37: BP Currimao | D37: =shipcalls!M37 -> 22 | E37: =shipcalls!N37 -> 5 | F37: =shipcalls!O37 -> 17 | G37: =SUM(H37:I37) -> 11 | H37: =shipcalls!Z37 -> 6 | I37: =shipcalls!AA37 -> 5 | J37: =shipcalls!AK37 -> 6 | K37: =shipcalls!AL37 -> 3 | L37: =shipcalls!AM37 -> 3 | M37: =shipcalls!AW37 -> 0 | N37: =shipcalls!AX37 -> 0 | O37: =shipcalls!AY37 -> 0 | P37: =D37+G37+J37+M37 -> 39 | Q37: =E37+H37+K37+N37 -> 14 | R37: =F37+I37+L37+O37 -> 25
C38: BP Currimao Ro-Ro | D38: =shipcalls!M38 -> 0 | E38: =shipcalls!N38 -> 0 | F38: =shipcalls!O38 -> 0 | G38: =shipcalls!Y38 -> 1 | H38: =shipcalls!Z38 -> 1 | I38: =shipcalls!AA38 -> 0 | J38: =shipcalls!AK38 -> 0 | K38: =shipcalls!AL38 -> 0 | L38: =shipcalls!AM38 -> 0 | M38: =shipcalls!AW38 -> 0 | N38: =shipcalls!AX38 -> 0 | O38: =shipcalls!AY38 -> 0 | P38: =D38+G38+J38+M38 -> 1 | Q38: =E38+H38+K38+N38 -> 1 | R38: =F38+I38+L38+O38 -> 0
C39: BP Currimao | D39: =shipcalls!M39 -> 12 | E39: =shipcalls!N39 -> 3 | F39: =shipcalls!O39 -> 9 | G39: =shipcalls!Y39 -> 8 | H39: =shipcalls!Z39 -> 5 | I39: =shipcalls!AA39 -> 3 | J39: =shipcalls!AK39 -> 6 | K39: =shipcalls!AL39 -> 3 | L39: =shipcalls!AM39 -> 3 | M39: =shipcalls!AW39 -> 0 | N39: =shipcalls!AX39 -> 0 | O39: =shipcalls!AY39 -> 0 | P39: =D39+G39+J39+M39 -> 26 | Q39: =E39+H39+K39+N39 -> 11 | R39: =F39+I39+L39+O39 -> 15
C40: BP Currimao (Anchorage) | D40: =shipcalls!M40 -> 10 | E40: =shipcalls!N40 -> 2 | F40: =shipcalls!O40 -> 8 | G40: =shipcalls!Y40 -> 2 | H40: =shipcalls!Z40 -> 0 | I40: =shipcalls!AA40 -> 2 | J40: =shipcalls!AK40 -> 0 | K40: =shipcalls!AL40 -> 0 | L40: =shipcalls!AM40 -> 0 | M40: =shipcalls!AW40 -> 0 | N40: =shipcalls!AX40 -> 0 | O40: =shipcalls!AY40 -> 0 | P40: =D40+G40+J40+M40 -> 12 | Q40: =E40+H40+K40+N40 -> 2 | R40: =F40+I40+L40+O40 -> 10
C41: TMO Batanes | D41: =shipcalls!M41 -> 150 | E41: =shipcalls!N41 -> 150 | F41: =shipcalls!O41 -> 0 | G41: =shipcalls!Y41 -> 169 | H41: =shipcalls!Z41 -> 168 | I41: =shipcalls!AA41 -> 1 | J41: =shipcalls!AK41 -> 122 | K41: =shipcalls!AL41 -> 122 | L41: =shipcalls!AM41 -> 0 | M41: =shipcalls!AW41 -> 0 | N41: =shipcalls!AX41 -> 0 | O41: =shipcalls!AY41 -> 0 | P41: =D41+G41+J41+M41 -> 441 | Q41: =E41+H41+K41+N41 -> 440 | R41: =F41+I41+L41+O41 -> 1
C42: TP Basco | D42: =shipcalls!M42 -> 150 | E42: =shipcalls!N42 -> 150 | F42: =shipcalls!O42 -> 0 | G42: =shipcalls!Y42 -> 167 | H42: =shipcalls!Z42 -> 167 | I42: =shipcalls!AA42 -> 0 | J42: =shipcalls!AK42 -> 122 | K42: =shipcalls!AL42 -> 122 | L42: =shipcalls!AM42 -> 0 | M42: =shipcalls!AW42 -> 0 | N42: =shipcalls!AX42 -> 0 | O42: =shipcalls!AY42 -> 0 | P42: =D42+G42+J42+M42 -> 439 | Q42: =E42+H42+K42+N42 -> 439 | R42: =F42+I42+L42+O42 -> 0
C43: TP Basco (Anchorage) | D43: =shipcalls!M43 -> 0 | E43: =shipcalls!N43 -> 0 | F43: =shipcalls!O43 -> 0 | G43: =shipcalls!Y43 -> 2 | H43: =shipcalls!Z43 -> 1 | I43: =shipcalls!AA43 -> 1 | J43: =shipcalls!AK43 -> 0 | K43: =shipcalls!AL43 -> 0 | L43: =shipcalls!AM43 -> 0 | M43: =shipcalls!AW43 -> 0 | N43: =shipcalls!AX43 -> 0 | O43: =shipcalls!AY43 -> 0 | P43: =D43+G43+J43+M43 -> 2 | Q43: =E43+H43+K43+N43 -> 1 | R43: =F43+I43+L43+O43 -> 1
C44: TMO Cagayan/Isabela/Ilocos | D44: =shipcalls!M44 -> 8 | E44: =shipcalls!N44 -> 4 | F44: =shipcalls!O44 -> 4 | G44: =shipcalls!Y44 -> 2 | H44: =shipcalls!Z44 -> 0 | I44: =shipcalls!AA44 -> 2 | J44: =shipcalls!AK44 -> 1 | K44: =shipcalls!AL44 -> 0 | L44: =shipcalls!AM44 -> 1 | M44: =shipcalls!AW44 -> 0 | N44: =shipcalls!AX44 -> 0 | O44: =shipcalls!AY44 -> 0 | P44: =D44+G44+J44+M44 -> 11 | Q44: =E44+H44+K44+N44 -> 4 | R44: =F44+I44+L44+O44 -> 7
C45: TP Aparri (Anchorage) | D45: =shipcalls!M45 -> 3 | E45: =shipcalls!N45 -> 1 | F45: =shipcalls!O45 -> 2 | G45: =shipcalls!Y45 -> 0 | H45: =shipcalls!Z45 -> 0 | I45: =shipcalls!AA45 -> 0 | J45: =shipcalls!AK45 -> 0 | K45: =shipcalls!AL45 -> 0 | L45: =shipcalls!AM45 -> 0 | M45: =shipcalls!AW45 -> 0 | N45: =shipcalls!AX45 -> 0 | O45: =shipcalls!AY45 -> 0 | P45: =D45+G45+J45+M45 -> 3 | Q45: =E45+H45+K45+N45 -> 1 | R45: =F45+I45+L45+O45 -> 2
C46: TP Claveria (Tagat Norte) (Anchorage) | D46: =shipcalls!M46 -> 1 | E46: =shipcalls!N46 -> 0 | F46: =shipcalls!O46 -> 1 | G46: =shipcalls!Y46 -> 0 | H46: =shipcalls!Z46 -> 0 | I46: =shipcalls!AA46 -> 0 | J46: =shipcalls!AK46 -> 0 | K46: =shipcalls!AL46 -> 0 | L46: =shipcalls!AM46 -> 0 | M46: =shipcalls!AW46 -> 0 | N46: =shipcalls!AX46 -> 0 | O46: =shipcalls!AY46 -> 0 | P46: =D46+G46+J46+M46 -> 1 | Q46: =E46+H46+K46+N46 -> 0 | R46: =F46+I46+L46+O46 -> 1
C47: TP Salomague | D47: =shipcalls!M47 -> 4 | E47: =shipcalls!N47 -> 3 | F47: =shipcalls!O47 -> 1 | G47: =shipcalls!Y47 -> 1 | H47: =shipcalls!Z47 -> 0 | I47: =shipcalls!AA47 -> 1 | J47: =shipcalls!AK47 -> 1 | K47: =shipcalls!AL47 -> 0 | L47: =shipcalls!AM47 -> 1 | M47: =shipcalls!AW47 -> 0 | N47: =shipcalls!AX47 -> 0 | O47: =shipcalls!AY47 -> 0 | P47: =D47+G47+J47+M47 -> 6 | Q47: =E47+H47+K47+N47 -> 3 | R47: =F47+I47+L47+O47 -> 3
...

Sheet shipcalls
A1: SHIPPING STATISTICS BY PMO/PORT
A2: Philippine Ports Authority
A3: 2026
A4: SHIPCALLS
A6: Port Management Offices | D6: January | G6: February | J6: March | M6: 1st Quarter | P6: April | S6: May | V6: June | Y6: 2nd Quarter | AB6: July | AE6: August | AH6: September | AK6: 3rd Quarter | AN6: October | AQ6: November | AT6: December | AW6: 4th Quarter | AZ6: GRAND TOTAL
D7: Total | E7: Domestic | F7: Foreign | G7: Total | H7: Domestic | I7: Foreign | J7: Total | K7: Domestic | L7: Foreign | M7: Total | N7: Domestic | O7: Foreign | P7: Total | Q7: Domestic | R7: Foreign | S7: Total | T7: Domestic | U7: Foreign | V7: Total | W7: Domestic | X7: Foreign | Y7: Total | Z7: Domestic | AA7: Foreign | AB7: Total | AC7: Domestic | AD7: Foreign | AE7: Total | AF7: Domestic | AG7: Foreign | AH7: Total | AI7: Domestic | AJ7: Foreign | AK7: Total | AL7: Domestic | AM7: Foreign | AN7: Total | AO7: Domestic | AP7: Foreign | AQ7: Total | AR7: Domestic | AS7: Foreign | AT7: Total | AU7: Domestic | AV7: Foreign | AW7: Total | AX7: Domestic | AY7: Foreign | AZ7: Total | BA7: Domestic | BB7: Foreign
A10: Manila/Northern Luzon | D10: =SUM(E10:F10) -> 1798 | E10: =E12+E23+E27+E36+E53 -> 1448 | F10: =F12+F23+F27+F36+F53 -> 350 | G10: =SUM(H10:I10) -> 1652 | H10: =H12+H23+H27+H36+H53 -> 1321 | I10: =I12+I23+I27+I36+I53 -> 331 | J10: =SUM(K10:L10) -> 1807 | K10: =K12+K23+K27+K36+K53 -> 1447 | L10: =L12+L23+L27+L36+L53 -> 360 | M10: =SUM(N10:O10) -> 5257 | N10: =N12+N23+N27+N36+N53 -> 4216 | O10: =O12+O23+O27+O36+O53 -> 1041 | P10: =SUM(Q10:R10) -> 1721 | Q10: =Q12+Q23+Q27+Q36+Q53 -> 1384 | R10: =R12+R23+R27+R36+R53 -> 337 | S10: =SUM(T10:U10) -> 1855 | T10: =T12+T23+T27+T36+T53 -> 1513 | U10: =U12+U23+U27+U36+U53 -> 342 | V10: =SUM(W10:X10) -> 1775 | W10: =W12+W23+W27+W36+W53 -> 1437 | X10: =X12+X23+X27+X36+X53 -> 338 | Y10: =SUM(Z10:AA10) -> 5351 | Z10: =Z12+Z23+Z27+Z36+Z53 -> 4334 | AA10: =AA12+AA23+AA27+AA36+AA53 -> 1017 | AB10: =SUM(AC10:AD10) -> 1832 | AC10: =AC12+AC23+AC27+AC36+AC53 -> 1510 | AD10: =AD12+AD23+AD27+AD36+AD53 -> 322 | AE10: =SUM(AF10:AG10) -> 1407 | AF10: =AF12+AF23+AF27+AF36+AF53 -> 1129 | AG10: =AG12+AG23+AG27+AG36+AG53 -> 278 | AH10: =SUM(AI10:AJ10) -> 1505 | AI10: =AI12+AI23+AI27+AI36+AI53 -> 1211 | AJ10: =AJ12+AJ23+AJ27+AJ36+AJ53 -> 294 | AK10: =SUM(AL10:AM10) -> 4744 | AL10: =AL12+AL23+AL27+AL36+AL53 -> 3850 | AM10: =AM12+AM23+AM27+AM36+AM53 -> 894 | AN10: =SUM(AO10:AP10) -> 0 | AO10: =AO12+AO23+AO27+AO36+AO53 -> 0 | AP10: =AP12+AP23+AP27+AP36+AP53 -> 0 | AQ10: =SUM(AR10:AS10) -> 0 | AR10: =AR12+AR23+AR27+AR36+AR53 -> 0 | AS10: =AS12+AS23+AS27+AS36+AS53 -> 0 | AT10: =SUM(AU10:AV10) -> 0 | AU10: =AU12+AU23+AU27+AU36+AU53 -> 0 | AV10: =AV12+AV23+AV27+AV36+AV53 -> 0 | AW10: =SUM(AX10:AY10) -> 0 | AX10: =AX12+AX23+AX27+AX36+AX53 -> 0 | AY10: =AY12+AY23+AY27+AY36+AY53 -> 0 | AZ10: =SUM(BA10:BB10) -> 15352 | BA10: =BA12+BA23+BA27+BA36+BA53 -> 12400 | BB10: =BB12+BB23+BB27+BB36+BB53 -> 2952
B12: PMO NCR South | D12: =SUM(E12:F12) -> 353 | E12: =E13+E18+E21 -> 246 | F12: =F13+F18+F21 -> 107 | G12: =SUM(H12:I12) -> 295 | H12: =H13+H18+H21 -> 191 | I12: =I13+I18+I21 -> 104 | J12: =SUM(K12:L12) -> 314 | K12: =K13+K18+K21 -> 188 | L12: =L13+L18+L21 -> 126 | M12: =SUM(N12:O12) -> 962 | N12: =N13+N18+N21 -> 625 | O12: =O13+O18+O21 -> 337 | P12: =SUM(Q12:R12) -> 288 | Q12: =Q13+Q18+Q21 -> 174 | R12: =R13+R18+R21 -> 114 | S12: =SUM(T12:U12) -> 301 | T12: =T13+T18+T21 -> 184 | U12: =U13+U18+U21 -> 117 | V12: =SUM(W12:X12) -> 321 | W12: =W13+W18+W21 -> 210 | X12: =X13+X18+X21 -> 111 | Y12: =SUM(Z12:AA12) -> 910 | Z12: =Z13+Z18+Z21 -> 568 | AA12: =AA13+AA18+AA21 -> 342 | AB12: =SUM(AC12:AD12) -> 296 | AC12: =AC13+AC18+AC21 -> 184 | AD12: =AD13+AD18+AD21 -> 112 | AE12: =SUM(AF12:AG12) -> 258 | AF12: =AF13+AF18+AF21 -> 157 | AG12: =AG13+AG18+AG21 -> 101 | AH12: =SUM(AI12:AJ12) -> 292 | AI12: =AI13+AI18+AI21 -> 193 | AJ12: =AJ13+AJ18+AJ21 -> 99 | AK12: =SUM(AL12:AM12) -> 846 | AL12: =AL13+AL18+AL21 -> 534 | AM12: =AM13+AM18+AM21 -> 312 | AN12: =SUM(AO12:AP12) -> 0 | AO12: =AO13+AO18+AO21 -> 0 | AP12: =AP13+AP18+AP21 -> 0 | AQ12: =SUM(AR12:AS12) -> 0 | AR12: =AR13+AR18+AR21 -> 0 | AS12: =AS13+AS18+AS21 -> 0 | AT12: =SUM(AU12:AV12) -> 0 | AU12: =AU13+AU18+AU21 -> 0 | AV12: =AV13+AV18+AV21 -> 0 | AW12: =SUM(AX12:AY12) -> 0 | AX12: =AX13+AX18+AX21 -> 0 | AY12: =AY13+AY18+AY21 -> 0 | AZ12: =SUM(BA12:BB12) -> 2718 | BA12: =BA13+BA18+BA21 -> 1727 | BB12: =BB13+BB18+BB21 -> 991
C13: BP South Harbor | D13: =SUM(E13:F13) -> 107 | E13: =SUM(E14:E17) -> 0 | F13: =SUM(F14:F17) -> 107 | G13: =SUM(H13:I13) -> 104 | H13: =SUM(H14:H17) -> 0 | I13: =SUM(I14:I17) -> 104 | J13: =SUM(K13:L13) -> 126 | K13: =SUM(K14:K17) -> 0 | L13: =SUM(L14:L17) -> 126 | M13: =SUM(N13:O13) -> 337 | N13: =SUM(N14:N17) -> 0 | O13: =SUM(O14:O17) -> 337 | P13: =SUM(Q13:R13) -> 114 | Q13: =SUM(Q14:Q17) -> 0 | R13: =SUM(R14:R17) -> 114 | S13: =SUM(T13:U13) -> 117 | T13: =SUM(T14:T17) -> 0 | U13: =SUM(U14:U17) -> 117 | V13: =SUM(W13:X13) -> 111 | W13: =SUM(W14:W17) -> 0 | X13: =SUM(X14:X17) -> 111 | Y13: =SUM(Z13:AA13) -> 342 | Z13: =SUM(Z14:Z17) -> 0 | AA13: =SUM(AA14:AA17) -> 342 | AB13: =SUM(AC13:AD13) -> 112 | AC13: =SUM(AC14:AC17) -> 0 | AD13: =SUM(AD14:AD17) -> 112 | AE13: =SUM(AF13:AG13) -> 101 | AF13: =SUM(AF14:AF17) -> 0 | AG13: =SUM(AG14:AG17) -> 101 | AH13: =SUM(AI13:AJ13) -> 99 | AI13: =SUM(AI14:AI17) -> 0 | AJ13: =SUM(AJ14:AJ17) -> 99 | AK13: =SUM(AL13:AM13) -> 312 | AL13: =SUM(AL14:AL17) -> 0 | AM13: =SUM(AM14:AM17) -> 312 | AN13: =SUM(AO13:AP13) -> 0 | AO13: =SUM(AO14:AO17) -> 0 | AP13: =SUM(AP14:AP17) -> 0 | AQ13: =SUM(AR13:AS13) -> 0 | AR13: =SUM(AR14:AR17) -> 0 | AS13: =SUM(AS14:AS17) -> 0 | AT13: =SUM(AU13:AV13) -> 0 | AU13: =SUM(AU14:AU17) -> 0 | AV13: =SUM(AV14:AV17) -> 0 | AW13: =SUM(AX13:AY13) -> 0 | AX13: =SUM(AX14:AX17) -> 0 | AY13: =SUM(AY14:AY17) -> 0 | AZ13: =SUM(BA13:BB13) -> 991 | BA13: =SUM(BA14:BA17) -> 0 | BB13: =SUM(BB14:BB17) -> 991
C14: Pier 3 | D14: =E14+F14 -> 38 | E14: 0 | F14: 38 | G14: =H14+I14 -> 36 | H14: 0 | I14: 36 | J14: =K14+L14 -> 35 | K14: 0 | L14: 35 | M14: =N14+O14 -> 109 | N14: =+E14+H14+K14 -> 0 | O14: =+F14+I14+L14 -> 109 | P14: =Q14+R14 -> 29 | Q14: 0 | R14: 29 | S14: =T14+U14 -> 31 | T14: 0 | U14: 31 | V14: =W14+X14 -> 36 | W14: 0 | X14: 36 | Y14: =Z14+AA14 -> 96 | Z14: =+Q14+T14+W14 -> 0 | AA14: =+R14+U14+X14 -> 96 | AB14: =AC14+AD14 -> 41 | AC14: 0 | AD14: 41 | AE14: =AF14+AG14 -> 36 | AF14: 0 | AG14: 36 | AH14: =AI14+AJ14 -> 32 | AI14: 0 | AJ14: 32 | AK14: =AL14+AM14 -> 109 | AL14: =+AC14+AF14+AI14 -> 0 | AM14: =+AD14+AG14+AJ14 -> 109 | AN14: =AO14+AP14 -> 0 | AO14: 0 | AP14: 0 | AQ14: =AR14+AS14 -> 0 | AR14: 0 | AS14: 0 | AT14: =AU14+AV14 -> 0 | AU14: 0 | AV14: 0 | AW14: =AX14+AY14 -> 0 | AX14: =+AO14+AR14+AU14 -> 0 | AY14: =+AP14+AS14+AV14 -> 0 | AZ14: =BA14+BB14 -> 314 | BA14: =N14+Z14+AL14+AX14 -> 0 | BB14: =O14+AA14+AM14+AY14 -> 314
C15: Pier 5 | D15: =E15+F15 -> 41 | E15: 0 | F15: 41 | G15: =H15+I15 -> 37 | H15: 0 | I15: 37 | J15: =K15+L15 -> 54 | K15: 0 | L15: 54 | M15: =N15+O15 -> 132 | N15: =+E15+H15+K15 -> 0 | O15: =+F15+I15+L15 -> 132 | P15: =Q15+R15 -> 53 | Q15: 0 | R15: 53 | S15: =T15+U15 -> 50 | T15: 0 | U15: 50 | V15: =W15+X15 -> 44 | W15: 0 | X15: 44 | Y15: =Z15+AA15 -> 147 | Z15: =+Q15+T15+W15 -> 0 | AA15: =+R15+U15+X15 -> 147 | AB15: =AC15+AD15 -> 39 | AC15: 0 | AD15: 39 | AE15: =AF15+AG15 -> 33 | AF15: 0 | AG15: 33 | AH15: =AI15+AJ15 -> 34 | AI15: 0 | AJ15: 34 | AK15: =AL15+AM15 -> 106 | AL15: =+AC15+AF15+AI15 -> 0 | AM15: =+AD15+AG15+AJ15 -> 106 | AN15: =AO15+AP15 -> 0 | AO15: 0 | AP15: 0 | AQ15: =AR15+AS15 -> 0 | AR15: 0 | AS15: 0 | AT15: =AU15+AV15 -> 0 | AU15: 0 | AV15: 0 | AW15: =AX15+AY15 -> 0 | AX15: =+AO15+AR15+AU15 -> 0 | AY15: =+AP15+AS15+AV15 -> 0 | AZ15: =BA15+BB15 -> 385 | BA15: =N15+Z15+AL15+AX15 -> 0 | BB15: =O15+AA15+AM15+AY15 -> 385
C16: Pier 15 | D16: =E16+F16 -> 11 | E16: 0 | F16: 11 | G16: =H16+I16 -> 11 | H16: 0 | I16: 11 | J16: =K16+L16 -> 21 | K16: 0 | L16: 21 | M16: =N16+O16 -> 43 | N16: =+E16+H16+K16 -> 0 | O16: =+F16+I16+L16 -> 43 | P16: =Q16+R16 -> 15 | Q16: 0 | R16: 15 | S16: =T16+U16 -> 20 | T16: 0 | U16: 20 | V16: =W16+X16 -> 14 | W16: 0 | X16: 14 | Y16: =Z16+AA16 -> 49 | Z16: =+Q16+T16+W16 -> 0 | AA16: =+R16+U16+X16 -> 49 | AB16: =AC16+AD16 -> 14 | AC16: 0 | AD16: 14 | AE16: =AF16+AG16 -> 8 | AF16: 0 | AG16: 8 | AH16: =AI16+AJ16 -> 9 | AI16: 0 | AJ16: 9 | AK16: =AL16+AM16 -> 31 | AL16: =+AC16+AF16+AI16 -> 0 | AM16: =+AD16+AG16+AJ16 -> 31 | AN16: =AO16+AP16 -> 0 | AO16: 0 | AP16: 0 | AQ16: =AR16+AS16 -> 0 | AR16: 0 | AS16: 0 | AT16: =AU16+AV16 -> 0 | AU16: 0 | AV16: 0 | AW16: =AX16+AY16 -> 0 | AX16: =+AO16+AR16+AU16 -> 0 | AY16: =+AP16+AS16+AV16 -> 0 | AZ16: =BA16+BB16 -> 123 | BA16: =N16+Z16+AL16+AX16 -> 0 | BB16: =O16+AA16+AM16+AY16 -> 123
C17: South Harbor (Anchorage) | D17: =E17+F17 -> 17 | E17: 0 | F17: 17 | G17: =H17+I17 -> 20 | H17: 0 | I17: 20 | J17: =K17+L17 -> 16 | K17: 0 | L17: 16 | M17: =N17+O17 -> 53 | N17: =+E17+H17+K17 -> 0 | O17: =+F17+I17+L17 -> 53 | P17: =Q17+R17 -> 17 | Q17: 0 | R17: 17 | S17: =T17+U17 -> 16 | T17: 0 | U17: 16 | V17: =W17+X17 -> 17 | W17: 0 | X17: 17 | Y17: =Z17+AA17 -> 50 | Z17: =+Q17+T17+W17 -> 0 | AA17: =+R17+U17+X17 -> 50 | AB17: =AC17+AD17 -> 18 | AC17: 0 | AD17: 18 | AE17: =AF17+AG17 -> 24 | AF17: 0 | AG17: 24 | AH17: =AI17+AJ17 -> 24 | AI17: 0 | AJ17: 24 | AK17: =AL17+AM17 -> 66 | AL17: =+AC17+AF17+AI17 -> 0 | AM17: =+AD17+AG17+AJ17 -> 66 | AN17: =AO17+AP17 -> 0 | AO17: 0 | AP17: 0 | AQ17: =AR17+AS17 -> 0 | AR17: 0 | AS17: 0 | AT17: =AU17+AV17 -> 0 | AU17: 0 | AV17: 0 | AW17: =AX17+AY17 -> 0 | AX17: =+AO17+AR17+AU17 -> 0 | AY17: =+AP17+AS17+AV17 -> 0 | AZ17: =BA17+BB17 -> 169 | BA17: =N17+Z17+AL17+AX17 -> 0 | BB17: =O17+AA17+AM17+AY17 -> 169
C18: TMO Pasig | D18: =SUM(E18:F18) -> 113 | E18: =E19+E20 -> 113 | F18: =F19+F20 -> 0 | G18: =SUM(H18:I18) -> 99 | H18: =H19+H20 -> 99 | I18: =I19+I20 -> 0 | J18: =SUM(K18:L18) -> 113 | K18: =K19+K20 -> 113 | L18: =L19+L20 -> 0 | M18: =SUM(N18:O18) -> 325 | N18: =N19+N20 -> 325 | O18: =O19+O20 -> 0 | P18: =SUM(Q18:R18) -> 95 | Q18: =Q19+Q20 -> 95 | R18: =R19+R20 -> 0 | S18: =SUM(T18:U18) -> 86 | T18: =T19+T20 -> 86 | U18: =U19+U20 -> 0 | V18: =SUM(W18:X18) -> 104 | W18: =W19+W20 -> 104 | X18: =X19+X20 -> 0 | Y18: =SUM(Z18:AA18) -> 285 | Z18: =Z19+Z20 -> 285 | AA18: =AA19+AA20 -> 0 | AB18: =SUM(AC18:AD18) -> 103 | AC18: =AC19+AC20 -> 103 | AD18: =AD19+AD20 -> 0 | AE18: =SUM(AF18:AG18) -> 107 | AF18: =AF19+AF20 -> 107 | AG18: =AG19+AG20 -> 0 | AH18: =SUM(AI18:AJ18) -> 117 | AI18: =AI19+AI20 -> 117 | AJ18: =AJ19+AJ20 -> 0 | AK18: =SUM(AL18:AM18) -> 327 | AL18: =AL19+AL20 -> 327 | AM18: =AM19+AM20 -> 0 | AN18: =SUM(AO18:AP18) -> 0 | AO18: =AO19+AO20 -> 0 | AP18: =AP19+AP20 -> 0 | AQ18: =SUM(AR18:AS18) -> 0 | AR18: =AR19+AR20 -> 0 | AS18: =AS19+AS20 -> 0 | AT18: =SUM(AU18:AV18) -> 0 | AU18: =AU19+AU20 -> 0 | AV18: =AV19+AV20 -> 0 | AW18: =SUM(AX18:AY18) -> 0 | AX18: =AX19+AX20 -> 0 | AY18: =AY19+AY20 -> 0 | AZ18: =SUM(BA18:BB18) -> 937 | BA18: =BA19+BA20 -> 937 | BB18: =BB19+BB20 -> 0
C19: Terminal Pasig Bank - Government Bay & River | D19: =E19+F19 -> 68 | E19: 68 | F19: 0 | G19: =H19+I19 -> 58 | H19: 58 | I19: 0 | J19: =K19+L19 -> 69 | K19: 69 | L19: 0 | M19: =N19+O19 -> 195 | N19: =+E19+H19+K19 -> 195 | O19: =+F19+I19+L19 -> 0 | P19: =Q19+R19 -> 55 | Q19: 55 | R19: 0 | S19: =T19+U19 -> 43 | T19: 43 | U19: 0 | V19: =W19+X19 -> 59 | W19: 59 | X19: 0 | Y19: =Z19+AA19 -> 157 | Z19: =+Q19+T19+W19 -> 157 | AA19: =+R19+U19+X19 -> 0 | AB19: =AC19+AD19 -> 48 | AC19: 48 | AD19: 0 | AE19: =AF19+AG19 -> 61 | AF19: 61 | AG19: 0 | AH19: =AI19+AJ19 -> 68 | AI19: 68 | AJ19: 0 | AK19: =AL19+AM19 -> 177 | AL19: =+AC19+AF19+AI19 -> 177 | AM19: =+AD19+AG19+AJ19 -> 0 | AN19: =AO19+AP19 -> 0 | AO19: 0 | AP19: 0 | AQ19: =AR19+AS19 -> 0 | AR19: 0 | AS19: 0 | AT19: =AU19+AV19 -> 0 | AU19: 0 | AV19: 0 | AW19: =AX19+AY19 -> 0 | AX19: =+AO19+AR19+AU19 -> 0 | AY19: =+AP19+AS19+AV19 -> 0 | AZ19: =BA19+BB19 -> 529 | BA19: =N19+Z19+AL19+AX19 -> 529 | BB19: =O19+AA19+AM19+AY19 -> 0
C20: Terminal Pasig Bank - Government Coastwise | D20: =E20+F20 -> 45 | E20: 45 | F20: 0 | G20: =H20+I20 -> 41 | H20: 41 | I20: 0 | J20: =K20+L20 -> 44 | K20: 44 | L20: 0 | M20: =N20+O20 -> 130 | N20: =+E20+H20+K20 -> 130 | O20: =+F20+I20+L20 -> 0 | P20: =Q20+R20 -> 40 | Q20: 40 | R20: 0 | S20: =T20+U20 -> 43 | T20: 43 | U20: 0 | V20: =W20+X20 -> 45 | W20: 45 | X20: 0 | Y20: =Z20+AA20 -> 128 | Z20: =+Q20+T20+W20 -> 128 | AA20: =+R20+U20+X20 -> 0 | AB20: =AC20+AD20 -> 55 | AC20: 55 | AD20: 0 | AE20: =AF20+AG20 -> 46 | AF20: 46 | AG20: 0 | AH20: =AI20+AJ20 -> 49 | AI20: 49 | AJ20: 0 | AK20: =AL20+AM20 -> 150 | AL20: =+AC20+AF20+AI20 -> 150 | AM20: =+AD20+AG20+AJ20 -> 0 | AN20: =AO20+AP20 -> 0 | AO20: 0 | AP20: 0 | AQ20: =AR20+AS20 -> 0 | AR20: 0 | AS20: 0 | AT20: =AU20+AV20 -> 0 | AU20: 0 | AV20: 0 | AW20: =AX20+AY20 -> 0 | AX20: =+AO20+AR20+AU20 -> 0 | AY20: =+AP20+AS20+AV20 -> 0 | AZ20: =BA20+BB20 -> 408 | BA20: =N20+Z20+AL20+AX20 -> 408 | BB20: =O20+AA20+AM20+AY20 -> 0
C21: Private Ports | D21: =E21+F21 -> 133 | E21: 133 | F21: 0 | G21: =H21+I21 -> 92 | H21: 92 | I21: 0 | J21: =K21+L21 -> 75 | K21: 75 | L21: 0 | M21: =N21+O21 -> 300 | N21: =+E21+H21+K21 -> 300 | O21: =+F21+I21+L21 -> 0 | P21: =Q21+R21 -> 79 | Q21: 79 | R21: 0 | S21: =T21+U21 -> 98 | T21: 98 | U21: 0 | V21: =W21+X21 -> 106 | W21: 106 | X21: 0 | Y21: =Z21+AA21 -> 283 | Z21: =+Q21+T21+W21 -> 283 | AA21: =+R21+U21+X21 -> 0 | AB21: =AC21+AD21 -> 81 | AC21: 81 | AD21: 0 | AE21: =AF21+AG21 -> 50 | AF21: 50 | AG21: 0 | AH21: =AI21+AJ21 -> 76 | AI21: 76 | AJ21: 0 | AK21: =AL21+AM21 -> 207 | AL21: =+AC21+AF21+AI21 -> 207 | AM21: =+AD21+AG21+AJ21 -> 0 | AN21: =AO21+AP21 -> 0 | AO21: 0 | AP21: 0 | AQ21: =AR21+AS21 -> 0 | AR21: 0 | AS21: 0 | AT21: =AU21+AV21 -> 0 | AU21: 0 | AV21: 0 | AW21: =AX21+AY21 -> 0 | AX21: =+AO21+AR21+AU21 -> 0 | AY21: =+AP21+AS21+AV21 -> 0 | AZ21: =BA21+BB21 -> 790 | BA21: =N21+Z21+AL21+AX21 -> 790 | BB21: =O21+AA21+AM21+AY21 -> 0
C23: Manila International Container Terminal (MICT) | D23: =SUM(E23:F23) -> 120 | E23: =E24+E25 -> 0 | F23: =F24+F25 -> 120 | G23: =SUM(H23:I23) -> 112 | H23: =H24+H25 -> 0 | I23: =I24+I25 -> 112 | J23: =SUM(K23:L23) -> 121 | K23: =K24+K25 -> 0 | L23: =L24+L25 -> 121 | M23: =SUM(N23:O23) -> 353 | N23: =N24+N25 -> 0 | O23: =O24+O25 -> 353 | P23: =SUM(Q23:R23) -> 121 | Q23: =Q24+Q25 -> 0 | R23: =R24+R25 -> 121 | S23: =SUM(T23:U23) -> 122 | T23: =T24+T25 -> 0 | U23: =U24+U25 -> 122 | V23: =SUM(W23:X23) -> 120 | W23: =W24+W25 -> 0 | X23: =X24+X25 -> 120 | Y23: =SUM(Z23:AA23) -> 363 | Z23: =Z24+Z25 -> 0 | AA23: =AA24+AA25 -> 363 | AB23: =SUM(AC23:AD23) -> 121 | AC23: =AC24+AC25 -> 0 | AD23: =AD24+AD25 -> 121 | AE23: =SUM(AF23:AG23) -> 106 | AF23: =AF24+AF25 -> 0 | AG23: =AG24+AG25 -> 106 | AH23: =SUM(AI23:AJ23) -> 111 | AI23: =AI24+AI25 -> 0 | AJ23: =AJ24+AJ25 -> 111 | AK23: =SUM(AL23:AM23) -> 338 | AL23: =AL24+AL25 -> 0 | AM23: =AM24+AM25 -> 338 | AN23: =SUM(AO23:AP23) -> 0 | AO23: =AO24+AO25 -> 0 | AP23: =AP24+AP25 -> 0 | AQ23: =SUM(AR23:AS23) -> 0 | AR23: =AR24+AR25 -> 0 | AS23: =AS24+AS25 -> 0 | AT23: =SUM(AU23:AV23) -> 0 | AU23: =AU24+AU25 -> 0 | AV23: =AV24+AV25 -> 0 | AW23: =SUM(AX23:AY23) -> 0 | AX23: =AX24+AX25 -> 0 | AY23: =AY24+AY25 -> 0 | AZ23: =SUM(BA23:BB23) -> 1054 | BA23: =BA24+BA25 -> 0 | BB23: =BB24+BB25 -> 1054
C24: MICT | D24: =E24+F24 -> 115 | E24: 0 | F24: 115 | G24: =H24+I24 -> 110 | H24: 0 | I24: 110 | J24: =K24+L24 -> 119 | K24: 0 | L24: 119 | M24: =N24+O24 -> 344 | N24: =+E24+H24+K24 -> 0 | O24: =+F24+I24+L24 -> 344 | P24: =Q24+R24 -> 119 | Q24: 0 | R24: 119 | S24: =T24+U24 -> 121 | T24: 0 | U24: 121 | V24: =W24+X24 -> 117 | W24: 0 | X24: 117 | Y24: =Z24+AA24 -> 357 | Z24: =+Q24+T24+W24 -> 0 | AA24: =+R24+U24+X24 -> 357 | AB24: =AC24+AD24 -> 119 | AC24: 0 | AD24: 119 | AE24: =AF24+AG24 -> 105 | AF24: 0 | AG24: 105 | AH24: =AI24+AJ24 -> 107 | AI24: 0 | AJ24: 107 | AK24: =AL24+AM24 -> 331 | AL24: =+AC24+AF24+AI24 -> 0 | AM24: =+AD24+AG24+AJ24 -> 331 | AN24: =AO24+AP24 -> 0 | AO24: 0 | AP24: 0 | AQ24: =AR24+AS24 -> 0 | AR24: 0 | AS24: 0 | AT24: =AU24+AV24 -> 0 | AU24: 0 | AV24: 0 | AW24: =AX24+AY24 -> 0 | AX24: =+AO24+AR24+AU24 -> 0 | AY24: =+AP24+AS24+AV24 -> 0 | AZ24: =BA24+BB24 -> 1032 | BA24: =N24+Z24+AL24+AX24 -> 0 | BB24: =O24+AA24+AM24+AY24 -> 1032
C25: MICT (Anchorage) | D25: =E25+F25 -> 5 | E25: 0 | F25: 5 | G25: =H25+I25 -> 2 | H25: 0 | I25: 2 | J25: =K25+L25 -> 2 | K25: 0 | L25: 2 | M25: =N25+O25 -> 9 | N25: =+E25+H25+K25 -> 0 | O25: =+F25+I25+L25 -> 9 | P25: =Q25+R25 -> 2 | Q25: 0 | R25: 2 | S25: =T25+U25 -> 1 | T25: 0 | U25: 1 | V25: =W25+X25 -> 3 | W25: 0 | X25: 3 | Y25: =Z25+AA25 -> 6 | Z25: =+Q25+T25+W25 -> 0 | AA25: =+R25+U25+X25 -> 6 | AB25: =AC25+AD25 -> 2 | AC25: 0 | AD25: 2 | AE25: =AF25+AG25 -> 1 | AF25: 0 | AG25: 1 | AH25: =AI25+AJ25 -> 4 | AI25: 0 | AJ25: 4 | AK25: =AL25+AM25 -> 7 | AL25: =+AC25+AF25+AI25 -> 0 | AM25: =+AD25+AG25+AJ25 -> 7 | AN25: =AO25+AP25 -> 0 | AO25: 0 | AP25: 0 | AQ25: =AR25+AS25 -> 0 | AR25: 0 | AS25: 0 | AT25: =AU25+AV25 -> 0 | AU25: 0 | AV25: 0 | AW25: =AX25+AY25 -> 0 | AX25: =+AO25+AR25+AU25 -> 0 | AY25: =+AP25+AS25+AV25 -> 0 | AZ25: =BA25+BB25 -> 22 | BA25: =N25+Z25+AL25+AX25 -> 0 | BB25: =O25+AA25+AM25+AY25 -> 22
B27: PMO NCR North | D27: =SUM(E27:F27) -> 497 | E27: =+E28+E31+E34 -> 477 | F27: =+F28+F31+F34 -> 20 | G27: =SUM(H27:I27) -> 510 | H27: =+H28+H31+H34 -> 483 | I27: =+I28+I31+I34 -> 27 | J27: =SUM(K27:L27) -> 551 | K27: =+K28+K31+K34 -> 524 | L27: =+L28+L31+L34 -> 27 | M27: =SUM(N27:O27) -> 1558 | N27: =+N28+N31+N34 -> 1484 | O27: =+O28+O31+O34 -> 74 | P27: =SUM(Q27:R27) -> 513 | Q27: =+Q28+Q31+Q34 -> 489 | R27: =+R28+R31+R34 -> 24 | S27: =SUM(T27:U27) -> 553 | T27: =+T28+T31+T34 -> 528 | U27: =+U28+U31+U34 -> 25 | V27: =SUM(W27:X27) -> 469 | W27: =+W28+W31+W34 -> 442 | X27: =+X28+X31+X34 -> 27 | Y27: =SUM(Z27:AA27) -> 1535 | Z27: =+Z28+Z31+Z34 -> 1459 | AA27: =+AA28+AA31+AA34 -> 76 | AB27: =SUM(AC27:AD27) -> 545 | AC27: =+AC28+AC31+AC34 -> 524 | AD27: =+AD28+AD31+AD34 -> 21 | AE27: =SUM(AF27:AG27) -> 468 | AF27: =+AF28+AF31+AF34 -> 449 | AG27: =+AG28+AG31+AG34 -> 19 | AH27: =SUM(AI27:AJ27) -> 510 | AI27: =+AI28+AI31+AI34 -> 490 | AJ27: =+AJ28+AJ31+AJ34 -> 20 | AK27: =SUM(AL27:AM27) -> 1523 | AL27: =+AL28+AL31+AL34 -> 1463 | AM27: =+AM28+AM31+AM34 -> 60 | AN27: =SUM(AO27:AP27) -> 0 | AO27: =+AO28+AO31+AO34 -> 0 | AP27: =+AP28+AP31+AP34 -> 0 | AQ27: =SUM(AR27:AS27) -> 0 | AR27: =+AR28+AR31+AR34 -> 0 | AS27: =+AS28+AS31+AS34 -> 0 | AT27: =SUM(AU27:AV27) -> 0 | AU27: =+AU28+AU31+AU34 -> 0 | AV27: =+AV28+AV31+AV34 -> 0 | AW27: =SUM(AX27:AY27) -> 0 | AX27: =+AX28+AX31+AX34 -> 0 | AY27: =+AY28+AY31+AY34 -> 0 | AZ27: =SUM(BA27:BB27) -> 4616 | BA27: =+BA28+BA31+BA34 -> 4406 | BB27: =+BB28+BB31+BB34 -> 210
