Workbook

Sheet summary
A1: SUMMARY PORT STATISTICS
A2: Philippine Ports Authority
A3: 2026
A5: PARTICULARS | E5: TOTAL | F5: 1st Quarter | K5: TOTAL | L5: 2nd Quarter | Q5: TOTAL | R5: 3rd Quarter | W5: TOTAL | X5: 4th Quarter | AC5: TOTAL | AD5: GRAND TOTAL
F6: MANILA/ N. LUZON | G6: SOUTHERN LUZON | H6: VISAYAS | I6: NORTHERN MINDANAO | J6: SOUTHERN MINDANAO | L6: MANILA/ N. LUZON | M6: SOUTHERN LUZON | N6: VISAYAS | O6: NORTHERN MINDANAO | P6: SOUTHERN MINDANAO | R6: MANILA/ N. LUZON | S6: SOUTHERN LUZON | T6: VISAYAS | U6: NORTHERN MINDANAO | V6: SOUTHERN MINDANAO | X6: MANILA/ N. LUZON | Y6: SOUTHERN LUZON | Z6: VISAYAS | AA6: NORTHERN MINDANAO | AB6: SOUTHERN MINDANAO | AD6: MANILA/ N. LUZON | AE6: SOUTHERN LUZON | AF6: VISAYAS | AG6: NORTHERN MINDANAO | AH6: SOUTHERN MINDANAO
A9: 1. Shipcalls | E9: =+E10+E11 -> 164584 | F9: =+F10+F11 -> 5257 | G9: =+G10+G11 -> 33492 | H9: =+H10+H11 -> 82183 | I9: =+I10+I11 -> 12697 | J9: =+J10+J11 -> 30955 | K9: =+K10+K11 -> 166192 | L9: =+L10+L11 -> 5351 | ... AH9: =+AH10+AH11 -> 94690
B10: Domestic | E10: =SUM(F10:J10) -> 161859 | F10: ='sum-ship'!E10 -> 4216 | G10: ='sum-ship'!E67 -> 32804 | H10: ='sum-ship'!E185 -> 81943 | I10: ='sum-ship'!E311 -> 12492 | J10: ='sum-ship'!E374 -> 30404 | K10: =SUM(L10:P10) -> 163282 | L10: ='sum-ship'!H10 -> 4334 | M10: ='sum-ship'!H67 -> 32009 | N10: ='sum-ship'!H185 -> 82988 | O10: ='sum-ship'!H311 -> 13663 | P10: ='sum-ship'!H374 -> 30288 | Q10: =SUM(R10:V10) -> 151908 | R10: ='sum-ship'!K10 -> 3850 | S10: ='sum-ship'!K67 -> 26293 | T10: ='sum-ship'!K185 -> 75838 | U10: ='sum-ship'!K311 -> 13495 | V10: ='sum-ship'!K374 -> 32432 | W10: =SUM(X10:AB10) -> 0 | X10: ='sum-ship'!N10 -> 0 | Y10: ='sum-ship'!N67 -> 0 | Z10: ='sum-ship'!N185 -> 0 | AA10: ='sum-ship'!N311 -> 0 | AB10: ='sum-ship'!N374 -> 0 | AC10: =SUM(AD10:AH10) -> 477049 | AD10: =F10+L10+R10+X10 -> 12400 | AE10: =G10+M10+S10+Y10 -> 91106 | AF10: =H10+N10+T10+Z10 -> 240769 | AG10: =I10+O10+U10+AA10 -> 39650 | AH10: =J10+P10+V10+AB10 -> 93124
B11: Foreign | E11: =SUM(F11:J11) -> 2725 | F11: ='sum-ship'!F10 -> 1041 | G11: ='sum-ship'!F67 -> 688 | H11: ='sum-ship'!F185 -> 240 | I11: ='sum-ship'!F311 -> 205 | J11: ='sum-ship'!F374 -> 551 | K11: =SUM(L11:P11) -> 2910 | L11: ='sum-ship'!I10 -> 1017 | M11: ='sum-ship'!I67 -> 672 | N11: ='sum-ship'!I185 -> 297 | O11: ='sum-ship'!I311 -> 411 | P11: ='sum-ship'!I374 -> 513 | Q11: =SUM(R11:V11) -> 2788 | R11: ='sum-ship'!L10 -> 894 | S11: ='sum-ship'!L67 -> 635 | T11: ='sum-ship'!L185 -> 254 | U11: ='sum-ship'!L311 -> 503 | V11: ='sum-ship'!L374 -> 502 | W11: =SUM(X11:AB11) -> 0 | X11: ='sum-ship'!O10 -> 0 | Y11: ='sum-ship'!O67 -> 0 | Z11: ='sum-ship'!O185 -> 0 | AA11: ='sum-ship'!O311 -> 0 | AB11: ='sum-ship'!O374 -> 0 | AC11: =SUM(AD11:AH11) -> 8423 | AD11: =F11+L11+R11+X11 -> 2952 | AE11: =G11+M11+S11+Y11 -> 1995 | AF11: =H11+N11+T11+Z11 -> 791 | AG11: =I11+O11+U11+AA11 -> 1119 | AH11: =J11+P11+V11+AB11 -> 1566
A13: 2. Cargo Throughput (in metric tons) | E13: =+E14+E18 -> 67185633 | F13: =+F14+F18 -> 28866210 | G13: =+G14+G18 -> 12092679 | H13: =+H14+H18 -> 12552758 | I13: =+I14+I18 -> 5540846.5 | J13: =+J14+J18 -> 8133139.9 | K13: =+K14+K18 -> 87246306 | L13: =+L14+L18 -> 30332996 | ... AH13: =+AH14+AH18 -> 26430151
B14: Domestic | E14: =+E15+E16 -> 27507003 | F14: =+F15+F16 -> 10117191 | G14: =+G15+G16 -> 4860748 | H14: =+H15+H16 -> 6884529.2 | I14: =+I15+I16 -> 2896426.5 | J14: =+J15+J16 -> 2748108.2 | K14: =+K15+K16 -> 28673734 | L14: =+L15+L16 -> 10247368 | ... AH14: =+AH15+AH16 -> 8848962.6
C15: Inbound | E15: =SUM(F15:J15) -> 13131923 | F15: ='sum-cargo'!F10 -> 2712076.6 | G15: ='sum-cargo'!F67 -> 3519652 | H15: ='sum-cargo'!F185 -> 3315703.6 | I15: ='sum-cargo'!F311 -> 1709812.7 | J15: ='sum-cargo'!F374 -> 1874677.6 | K15: =SUM(L15:P15) -> 13570668 | L15: ='sum-cargo'!M10 -> 2717641.3 | M15: ='sum-cargo'!M67 -> 4028533.1 | N15: ='sum-cargo'!M185 -> 3114314.7 | O15: ='sum-cargo'!M311 -> 1719545.3 | P15: ='sum-cargo'!M374 -> 1990633.7 | Q15: =SUM(R15:V15) -> 13703961 | R15: ='sum-cargo'!T10 -> 2850268.1 | S15: ='sum-cargo'!T67 -> 3710768 | T15: ='sum-cargo'!T185 -> 3230303.3 | U15: ='sum-cargo'!T311 -> 1913404.7 | V15: ='sum-cargo'!T374 -> 1999217.3 | W15: =SUM(X15:AB15) -> 0 | X15: ='sum-cargo'!AA10 -> 0 | Y15: ='sum-cargo'!AA67 -> 0 | Z15: ='sum-cargo'!AA185 -> 0 | AA15: ='sum-cargo'!AA311 -> 0 | AB15: ='sum-cargo'!AA374 -> 0 | AC15: =SUM(AD15:AH15) -> 40406552 | AD15: =F15+L15+R15+X15 -> 8279986.1 | AE15: =G15+M15+S15+Y15 -> 11258953 | AF15: =H15+N15+T15+Z15 -> 9660321.7 | AG15: =I15+O15+U15+AA15 -> 5342762.7 | AH15: =J15+P15+V15+AB15 -> 5864528.6
C16: Outbound | E16: =SUM(F16:J16) -> 14375080 | F16: ='sum-cargo'!G10 -> 7405114.3 | G16: ='sum-cargo'!G67 -> 1341096 | H16: ='sum-cargo'!G185 -> 3568825.6 | I16: ='sum-cargo'!G311 -> 1186613.9 | J16: ='sum-cargo'!G374 -> 873430.53 | K16: =SUM(L16:P16) -> 15103066 | L16: ='sum-cargo'!N10 -> 7529726.3 | M16: ='sum-cargo'!N67 -> 1461433.8 | N16: ='sum-cargo'!N185 -> 3884009.7 | O16: ='sum-cargo'!N311 -> 1234030.8 | P16: ='sum-cargo'!N374 -> 993865.49 | Q16: =SUM(R16:V16) -> 14294305 | R16: ='sum-cargo'!U10 -> 6402030.7 | S16: ='sum-cargo'!U67 -> 1389317.1 | T16: ='sum-cargo'!U185 -> 4049525.2 | U16: ='sum-cargo'!U311 -> 1336294.6 | V16: ='sum-cargo'!U374 -> 1117137.9 | W16: =SUM(X16:AB16) -> 0 | X16: ='sum-cargo'!AB10 -> 0 | Y16: ='sum-cargo'!AB67 -> 0 | Z16: ='sum-cargo'!AB185 -> 0 | AA16: ='sum-cargo'!AB311 -> 0 | AB16: ='sum-cargo'!AB374 -> 0 | AC16: =SUM(AD16:AH16) -> 43772452 | AD16: =F16+L16+R16+X16 -> 21336871 | AE16: =G16+M16+S16+Y16 -> 4191846.9 | AF16: =H16+N16+T16+Z16 -> 11502360 | AG16: =I16+O16+U16+AA16 -> 3756939.3 | AH16: =J16+P16+V16+AB16 -> 2984433.9
B18: Foreign | E18: =+E19+E20 -> 39678631 | F18: =+F19+F20 -> 18749019 | G18: =+G19+G20 -> 7231931 | H18: =+H19+H20 -> 5668229.2 | I18: =+I19+I20 -> 2644420 | J18: =+J19+J20 -> 5385031.7 | K18: =+K19+K20 -> 58572572 | L18: =+L19+L20 -> 20085629 | ... AH18: =+AH19+AH20 -> 17581188
C19: Import | E19: =SUM(F19:J19) -> 26949299 | F19: ='sum-cargo'!I10 -> 14705739 | G19: ='sum-cargo'!I67 -> 5979405.8 | H19: ='sum-cargo'!I185 -> 1258294.5 | I19: ='sum-cargo'!I311 -> 1807768.6 | J19: ='sum-cargo'!I374 -> 3198090.3 | K19: =SUM(L19:P19) -> 29023176 | L19: ='sum-cargo'!P10 -> 16491534 | M19: ='sum-cargo'!P67 -> 6059995.4 | N19: ='sum-cargo'!P185 -> 1455246.8 | O19: ='sum-cargo'!P311 -> 1909969.3 | P19: ='sum-cargo'!P374 -> 3106430.2 | Q19: =SUM(R19:V19) -> 27290211 | R19: ='sum-cargo'!W10 -> 14457589 | S19: ='sum-cargo'!W67 -> 6233647.2 | T19: ='sum-cargo'!W185 -> 1383352.1 | U19: ='sum-cargo'!W311 -> 1880473.7 | V19: ='sum-cargo'!W374 -> 3335148.1 | W19: =SUM(X19:AB19) -> 0 | X19: ='sum-cargo'!AD10 -> 0 | Y19: ='sum-cargo'!AD67 -> 0 | Z19: ='sum-cargo'!AD185 -> 0 | AA19: ='sum-cargo'!AD311 -> 0 | AB19: ='sum-cargo'!AD374 -> 0 | AC19: =SUM(AD19:AH19) -> 83262685 | AD19: =F19+L19+R19+X19 -> 45654863 | AE19: =G19+M19+S19+Y19 -> 18273048 | AF19: =H19+N19+T19+Z19 -> 4096893.4 | AG19: =I19+O19+U19+AA19 -> 5598211.6 | AH19: =J19+P19+V19+AB19 -> 9639668.6
C20: Export | E20: =SUM(F20:J20) -> 12729332 | F20: ='sum-cargo'!J10 -> 4043279.3 | G20: ='sum-cargo'!J67 -> 1252525.2 | H20: ='sum-cargo'!J185 -> 4409934.7 | I20: ='sum-cargo'!J311 -> 836651.32 | J20: ='sum-cargo'!J374 -> 2186941.4 | K20: =SUM(L20:P20) -> 29549396 | L20: ='sum-cargo'!Q10 -> 3594094.5 | M20: ='sum-cargo'!Q67 -> 2302004.5 | N20: ='sum-cargo'!Q185 -> 7538903.2 | O20: ='sum-cargo'!Q311 -> 13034358 | P20: ='sum-cargo'!Q374 -> 3080035.8 | Q20: =SUM(R20:V20) -> 30186006 | R20: ='sum-cargo'!X10 -> 2507833.6 | S20: ='sum-cargo'!X67 -> 1372761.9 | T20: ='sum-cargo'!X185 -> 5282019.9 | U20: ='sum-cargo'!X311 -> 18348848 | V20: ='sum-cargo'!X374 -> 2674542.3 | W20: =SUM(X20:AB20) -> 0 | X20: ='sum-cargo'!AE10 -> 0 | Y20: ='sum-cargo'!AE67 -> 0 | Z20: ='sum-cargo'!AE185 -> 0 | AA20: ='sum-cargo'!AE311 -> 0 | AB20: ='sum-cargo'!AE374 -> 0 | AC20: =SUM(AD20:AH20) -> 72464734 | AD20: =F20+L20+R20+X20 -> 10145207 | AE20: =G20+M20+S20+Y20 -> 4927291.7 | AF20: =H20+N20+T20+Z20 -> 17230858 | AG20: =I20+O20+U20+AA20 -> 32219857 | AH20: =J20+P20+V20+AB20 -> 7941519.5
A22: 3. Container Throughput (in TEUs) | E22: =+E23+E27 -> 2130938.1 | F22: =+F23+F27 -> 1509192.5 | G22: =+G23+G27 -> 119999.89 | H22: =+H23+H27 -> 117395.5 | I22: =+I23+I27 -> 99858.75 | J22: =+J23+J27 -> 284491.5 | K22: =+K23+K27 -> 2174284.5 | L22: =+L23+L27 -> 1514614 | ... AH22: =+AH23+AH27 -> 875100.75
B23: Domestic | E23: =+E24+E25 -> 758594.39 | F23: =+F24+F25 -> 377108 | G23: =+G24+G25 -> 50397.64 | H23: =+H24+H25 -> 113697.25 | I23: =+I24+I25 -> 99858.75 | J23: =+J24+J25 -> 117532.75 | K23: =+K24+K25 -> 743455.75 | L23: =+L24+L25 -> 354428.75 | ... AH23: =+AH24+AH25 -> 353851
C24: Inbound | E24: =SUM(F24:J24) -> 382458.39 | F24: ='sum-teu'!F10 -> 177707.75 | G24: ='sum-teu'!F67 -> 25002.14 | H24: ='sum-teu'!F185 -> 60953 | I24: ='sum-teu'!F311 -> 51258.75 | J24: ='sum-teu'!F374 -> 67536.75 | K24: =SUM(L24:P24) -> 376308.75 | L24: ='sum-teu'!M10 -> 170598.75 | M24: ='sum-teu'!M67 -> 25786.25 | N24: ='sum-teu'!M185 -> 63271.75 | O24: ='sum-teu'!M311 -> 50965.5 | P24: ='sum-teu'!M374 -> 65686.5 | Q24: =SUM(R24:V24) -> 381220.5 | R24: ='sum-teu'!T10 -> 171414.5 | S24: ='sum-teu'!T67 -> 25055.5 | T24: ='sum-teu'!T185 -> 62966.5 | U24: ='sum-teu'!T311 -> 53120.5 | V24: ='sum-teu'!T374 -> 68663.5 | W24: =SUM(X24:AB24) -> 0 | X24: ='sum-teu'!AA10 -> 0 | Y24: ='sum-teu'!AA67 -> 0 | Z24: ='sum-teu'!AA185 -> 0 | AA24: ='sum-teu'!AA311 -> 0 | AB24: ='sum-teu'!AA374 -> 0 | AC24: =SUM(AD24:AH24) -> 1139987.6 | AD24: =F24+L24+R24+X24 -> 519721 | AE24: =G24+M24+S24+Y24 -> 75843.89 | AF24: =H24+N24+T24+Z24 -> 187191.25 | AG24: =I24+O24+U24+AA24 -> 155344.75 | AH24: =J24+P24+V24+AB24 -> 201886.75
C25: Outbound | E25: =SUM(F25:J25) -> 376136 | F25: ='sum-teu'!G10 -> 199400.25 | G25: ='sum-teu'!G67 -> 25395.5 | H25: ='sum-teu'!G185 -> 52744.25 | I25: ='sum-teu'!G311 -> 48600 | J25: ='sum-teu'!G374 -> 49996 | K25: =SUM(L25:P25) -> 367147 | L25: ='sum-teu'!N10 -> 183830 | M25: ='sum-teu'!N67 -> 26046.5 | N25: ='sum-teu'!N185 -> 55882 | O25: ='sum-teu'!N311 -> 51507.25 | P25: ='sum-teu'!N374 -> 49881.25 | Q25: =SUM(R25:V25) -> 372701.25 | R25: ='sum-teu'!U10 -> 193559.25 | S25: ='sum-teu'!U67 -> 24038.5 | T25: ='sum-teu'!U185 -> 51012.5 | U25: ='sum-teu'!U311 -> 52004 | V25: ='sum-teu'!U374 -> 52087 | W25: =SUM(X25:AB25) -> 0 | X25: ='sum-teu'!AB10 -> 0 | Y25: ='sum-teu'!AB67 -> 0 | Z25: ='sum-teu'!AB185 -> 0 | AA25: ='sum-teu'!AB311 -> 0 | AB25: ='sum-teu'!AB374 -> 0 | AC25: =SUM(AD25:AH25) -> 1115984.2 | AD25: =F25+L25+R25+X25 -> 576789.5 | AE25: =G25+M25+S25+Y25 -> 75480.5 | AF25: =H25+N25+T25+Z25 -> 159638.75 | AG25: =I25+O25+U25+AA25 -> 152111.25 | AH25: =J25+P25+V25+AB25 -> 151964.25
B27: Foreign | E27: =+E28+E29 -> 1372343.8 | F27: =+F28+F29 -> 1132084.5 | G27: =+G28+G29 -> 69602.25 | H27: =+H28+H29 -> 3698.25 | I27: =+I28+I29 -> 0 | J27: =+J28+J29 -> 166958.75 | K27: =+K28+K29 -> 1430828.8 | L27: =+L28+L29 -> 1160185.2 | ... AH27: =+AH28+AH29 -> 521249.75
C28: Import | E28: =SUM(F28:J28) -> 690485.5 | F28: ='sum-teu'!I10 -> 578694.25 | G28: ='sum-teu'!I67 -> 33204.25 | H28: ='sum-teu'!I185 -> 1842.25 | I28: ='sum-teu'!I311 -> 0 | J28: ='sum-teu'!I374 -> 76744.75 | K28: =SUM(L28:P28) -> 738009.5 | L28: ='sum-teu'!P10 -> 606609.25 | M28: ='sum-teu'!P67 -> 40669.5 | N28: ='sum-teu'!P185 -> 2593 | O28: ='sum-teu'!P311 -> 0 | P28: ='sum-teu'!P374 -> 88137.75 | Q28: =SUM(R28:V28) -> 742954 | R28: ='sum-teu'!W10 -> 613119.25 | S28: ='sum-teu'!W67 -> 45119.5 | T28: ='sum-teu'!W185 -> 3234 | U28: ='sum-teu'!W311 -> 0 | V28: ='sum-teu'!W374 -> 81481.25 | W28: =SUM(X28:AB28) -> 0 | X28: ='sum-teu'!AD10 -> 0 | Y28: ='sum-teu'!AD67 -> 0 | Z28: ='sum-teu'!AD185 -> 0 | AA28: ='sum-teu'!AD311 -> 0 | AB28: ='sum-teu'!AD374 -> 0 | AC28: =SUM(AD28:AH28) -> 2171449 | AD28: =F28+L28+R28+X28 -> 1798422.8 | AE28: =G28+M28+S28+Y28 -> 118993.25 | AF28: =H28+N28+T28+Z28 -> 7669.25 | AG28: =I28+O28+U28+AA28 -> 0 | AH28: =J28+P28+V28+AB28 -> 246363.75
C29: Export | E29: =SUM(F29:J29) -> 681858.25 | F29: ='sum-teu'!J10 -> 553390.25 | G29: ='sum-teu'!J67 -> 36398 | H29: ='sum-teu'!J185 -> 1856 | I29: ='sum-teu'!J311 -> 0 | J29: ='sum-teu'!J374 -> 90214 | K29: =SUM(L29:P29) -> 692819.25 | L29: ='sum-teu'!Q10 -> 553576 | M29: ='sum-teu'!Q67 -> 44563.25 | N29: ='sum-teu'!Q185 -> 3512.25 | O29: ='sum-teu'!Q311 -> 0 | P29: ='sum-teu'!Q374 -> 91167.75 | Q29: =SUM(R29:V29) -> 679528.25 | R29: ='sum-teu'!X10 -> 530851.5 | S29: ='sum-teu'!X67 -> 49299.5 | T29: ='sum-teu'!X185 -> 5873 | U29: ='sum-teu'!X311 -> 0 | V29: ='sum-teu'!X374 -> 93504.25 | W29: =SUM(X29:AB29) -> 0 | X29: ='sum-teu'!AE10 -> 0 | Y29: ='sum-teu'!AE67 -> 0 | Z29: ='sum-teu'!AE185 -> 0 | AA29: ='sum-teu'!AE311 -> 0 | AB29: ='sum-teu'!AE374 -> 0 | AC29: =SUM(AD29:AH29) -> 2054205.8 | AD29: =F29+L29+R29+X29 -> 1637817.8 | AE29: =G29+M29+S29+Y29 -> 130260.75 | AF29: =H29+N29+T29+Z29 -> 11241.25 | AG29: =I29+O29+U29+AA29 -> 0 | AH29: =J29+P29+V29+AB29 -> 274886
A31: 4. Passenger Traffic | E31: =+E32+E33+E34 -> 20018437 | F31: =+F32+F33+F34 -> 243202 | G31: =+G32+G33+G34 -> 5314910 | H31: =+H32+H33+H34 -> 9906860 | I31: =+I32+I33+I34 -> 1464094 | J31: =+J32+J33+J34 -> 3089371 | K31: =+K32+K33+K34 -> 25567967 | L31: =+L32+L33+L34 -> 292082 | ... AH31: =+AH32+AH33+AH34 -> 9934688
B32: Disembarked | E32: =SUM(F32:J32) -> 10004855 | F32: ='sum-pass'!E10 -> 88259 | G32: ='sum-pass'!E67 -> 2679512 | H32: ='sum-pass'!E185 -> 4938093 | I32: ='sum-pass'!E311 -> 736376 | J32: ='sum-pass'!E374 -> 1562615 | K32: =SUM(L32:P32) -> 12956205 | L32: ='sum-pass'!I10 -> 140390 | M32: ='sum-pass'!I67 -> 3483946 | N32: ='sum-pass'!I185 -> 6425723 | O32: ='sum-pass'!I311 -> 1184363 | P32: ='sum-pass'!I374 -> 1721783 | Q32: =SUM(R32:V32) -> 9155534 | R32: ='sum-pass'!M10 -> 59692 | S32: ='sum-pass'!M67 -> 1973861 | T32: ='sum-pass'!M185 -> 4574013 | U32: ='sum-pass'!M311 -> 811990 | V32: ='sum-pass'!M374 -> 1735978 | W32: =SUM(X32:AB32) -> 0 | X32: ='sum-pass'!Q10 -> 0 | Y32: ='sum-pass'!Q67 -> 0 | Z32: ='sum-pass'!Q185 -> 0 | AA32: ='sum-pass'!Q311 -> 0 | AB32: ='sum-pass'!Q374 -> 0 | AC32: =SUM(AD32:AH32) -> 32116594 | AD32: =F32+L32+R32+X32 -> 288341 | AE32: =G32+M32+S32+Y32 -> 8137319 | AF32: =H32+N32+T32+Z32 -> 15937829 | AG32: =I32+O32+U32+AA32 -> 2732729 | AH32: =J32+P32+V32+AB32 -> 5020376
B33: Embarked | E33: =SUM(F33:J33) -> 9878422 | F33: ='sum-pass'!F10 -> 87126 | G33: ='sum-pass'!F67 -> 2579898 | H33: ='sum-pass'!F185 -> 4956924 | I33: ='sum-pass'!F311 -> 727718 | J33: ='sum-pass'!F374 -> 1526756 | K33: =SUM(L33:P33) -> 12581160 | L33: ='sum-pass'!J10 -> 133023 | M33: ='sum-pass'!J67 -> 3393989 | N33: ='sum-pass'!J185 -> 6233520 | O33: ='sum-pass'!J311 -> 1138010 | P33: ='sum-pass'!J374 -> 1682618 | Q33: =SUM(R33:V33) -> 9004178 | R33: ='sum-pass'!N10 -> 61393 | S33: ='sum-pass'!N67 -> 1953022 | T33: ='sum-pass'!N185 -> 4504087 | U33: ='sum-pass'!N311 -> 780738 | V33: ='sum-pass'!N374 -> 1704938 | W33: =SUM(X33:AB33) -> 0 | X33: ='sum-pass'!R10 -> 0 | Y33: ='sum-pass'!R67 -> 0 | Z33: ='sum-pass'!R185 -> 0 | AA33: ='sum-pass'!R311 -> 0 | AB33: ='sum-pass'!R374 -> 0 | AC33: =SUM(AD33:AH33) -> 31463760 | AD33: =F33+L33+R33+X33 -> 281542 | AE33: =G33+M33+S33+Y33 -> 7926909 | AF33: =H33+N33+T33+Z33 -> 15694531 | AG33: =I33+O33+U33+AA33 -> 2646466 | AH33: =J33+P33+V33+AB33 -> 4914312
B34: Cruise Passengers | E34: =SUM(F34:J34) -> 135160 | F34: ='sum-pass'!$G$10 -> 67817 | G34: ='sum-pass'!$G$67 -> 55500 | H34: ='sum-pass'!$G$185 -> 11843 | I34: ='sum-pass'!$G$311 -> 0 | J34: ='sum-pass'!$G$374 -> 0 | K34: =SUM(L34:P34) -> 30602 | L34: ='sum-pass'!$K$10 -> 18669 | M34: ='sum-pass'!$K$67 -> 8453 | N34: ='sum-pass'!$K$185 -> 3285 | O34: ='sum-pass'!$K$311 -> 195 | P34: ='sum-pass'!$K$374 -> 0 | Q34: =SUM(R34:V34) -> 850 | R34: ='sum-pass'!$O$10 -> 0 | S34: ='sum-pass'!$O$67 -> 280 | T34: ='sum-pass'!$O$185 -> 570 | U34: ='sum-pass'!$O$311 -> 0 | V34: ='sum-pass'!$O$374 -> 0 | W34: =SUM(X34:AB34) -> 0 | X34: ='sum-pass'!$S$10 -> 0 | Y34: ='sum-pass'!$S$67 -> 0 | Z34: ='sum-pass'!$S$185 -> 0 | AA34: ='sum-pass'!$S$311 -> 0 | AB34: ='sum-pass'!$S$374 -> 0 | AC34: =SUM(AD34:AH34) -> 166612 | AD34: =F34+L34+R34+X34 -> 86486 | AE34: =G34+M34+S34+Y34 -> 64233 | AF34: =H34+N34+T34+Z34 -> 15698 | AG34: =I34+O34+U34+AA34 -> 195 | AH34: =J34+P34+V34+AB34 -> 0
A36: 5. Ro-Ro Traffic (number of vehicles carried by Ro-Ro vessels)
E37: =E38+E44 -> 3253455 | F37: =F38+F44 -> 0 | G37: =G38+G44 -> 915404 | H37: =H38+H44 -> 1292048 | I37: =I38+I44 -> 217030 | J37: =J38+J44 -> 828973 | K37: =K38+K44 -> 3626842 | L37: =L38+L44 -> 149 | ... AH37: =AH38+AH44 -> 2982412
B38: Inbound | E38: =SUM(E39:E42) -> 1624360 | F38: =SUM(F39:F42) -> 0 | G38: =SUM(G39:G42) -> 452025 | H38: =SUM(H39:H42) -> 648921 | I38: =SUM(I39:I42) -> 112149 | J38: =SUM(J39:J42) -> 411265 | K38: =SUM(K39:K42) -> 1818066 | L38: =SUM(L39:L42) -> 21 | ... AH38: =SUM(AH39:AH42) -> 1490099
C39: Type 1 | E39: =SUM(F39:J39) -> 480715 | F39: ='sum-roro'!F10 -> 0 | G39: ='sum-roro'!F67 -> 78718 | H39: ='sum-roro'!F185 -> 162831 | I39: ='sum-roro'!F311 -> 23677 | J39: ='sum-roro'!F374 -> 215489 | K39: =SUM(L39:P39) -> 594401 | L39: ='sum-roro'!Q10 -> 0 | M39: ='sum-roro'!Q67 -> 90938 | N39: ='sum-roro'!Q185 -> 178638 | O39: ='sum-roro'!Q311 -> 30205 | P39: ='sum-roro'!Q374 -> 294620 | Q39: =SUM(R39:V39) -> 528173 | R39: ='sum-roro'!AB10 -> 0 | S39: ='sum-roro'!AB67 -> 58091 | T39: ='sum-roro'!AB185 -> 133172 | U39: ='sum-roro'!AB311 -> 22793 | V39: ='sum-roro'!AB374 -> 314117 | W39: =SUM(X39:AB39) -> 0 | X39: ='sum-roro'!AM10 -> 0 | Y39: ='sum-roro'!AM67 -> 0 | Z39: ='sum-roro'!AM185 -> 0 | AA39: ='sum-roro'!AM311 -> 0 | AB39: ='sum-roro'!AM374 -> 0 | AC39: =SUM(AD39:AH39) -> 1603289 | AD39: =F39+L39+R39+X39 -> 0 | AE39: =G39+M39+S39+Y39 -> 227747 | AF39: =H39+N39+T39+Z39 -> 474641 | AG39: =I39+O39+U39+AA39 -> 76675 | AH39: =J39+P39+V39+AB39 -> 824226
C40: Type 2 | E40: =SUM(F40:J40) -> 503380 | F40: ='sum-roro'!G10 -> 0 | G40: ='sum-roro'!G67 -> 121220 | H40: ='sum-roro'!G185 -> 197232 | I40: ='sum-roro'!G311 -> 34867 | J40: ='sum-roro'!G374 -> 150061 | K40: =SUM(L40:P40) -> 579769 | L40: ='sum-roro'!R10 -> 15 | M40: ='sum-roro'!R67 -> 129662 | N40: ='sum-roro'!R185 -> 226611 | O40: ='sum-roro'!R311 -> 50380 | P40: ='sum-roro'!R374 -> 173101 | Q40: =SUM(R40:V40) -> 527762 | R40: ='sum-roro'!AC10 -> 0 | S40: ='sum-roro'!AC67 -> 99789 | T40: ='sum-roro'!AC185 -> 183901 | U40: ='sum-roro'!AC311 -> 40520 | V40: ='sum-roro'!AC374 -> 203552 | W40: =SUM(X40:AB40) -> 0 | X40: ='sum-roro'!AN10 -> 0 | Y40: ='sum-roro'!AN67 -> 0 | Z40: ='sum-roro'!AN185 -> 0 | AA40: ='sum-roro'!AN311 -> 0 | AB40: ='sum-roro'!AN374 -> 0 | AC40: =SUM(AD40:AH40) -> 1610911 | AD40: =F40+L40+R40+X40 -> 15 | AE40: =G40+M40+S40+Y40 -> 350671 | AF40: =H40+N40+T40+Z40 -> 607744 | AG40: =I40+O40+U40+AA40 -> 125767 | AH40: =J40+P40+V40+AB40 -> 526714
C41: Type 3 | E41: =SUM(F41:J41) -> 193486 | F41: ='sum-roro'!H10 -> 0 | G41: ='sum-roro'!H67 -> 78934 | H41: ='sum-roro'!H185 -> 76324 | I41: ='sum-roro'!H311 -> 16055 | J41: ='sum-roro'!H374 -> 22173 | K41: =SUM(L41:P41) -> 198405 | L41: ='sum-roro'!S10 -> 0 | M41: ='sum-roro'!S67 -> 84146 | N41: ='sum-roro'!S185 -> 80473 | O41: ='sum-roro'!S311 -> 13402 | P41: ='sum-roro'!S374 -> 20384 | Q41: =SUM(R41:V41) -> 185199 | R41: ='sum-roro'!AD10 -> 0 | S41: ='sum-roro'!AD67 -> 73312 | T41: ='sum-roro'!AD185 -> 72918 | U41: ='sum-roro'!AD311 -> 12583 | V41: ='sum-roro'!AD374 -> 26386 | W41: =SUM(X41:AB41) -> 0 | X41: ='sum-roro'!AO10 -> 0 | Y41: ='sum-roro'!AO67 -> 0 | Z41: ='sum-roro'!AO185 -> 0 | AA41: ='sum-roro'!AO311 -> 0 | AB41: ='sum-roro'!AO374 -> 0 | AC41: =SUM(AD41:AH41) -> 577090 | AD41: =F41+L41+R41+X41 -> 0 | AE41: =G41+M41+S41+Y41 -> 236392 | AF41: =H41+N41+T41+Z41 -> 229715 | AG41: =I41+O41+U41+AA41 -> 42040 | AH41: =J41+P41+V41+AB41 -> 68943
C42: Type 4 | E42: =SUM(F42:J42) -> 446779 | F42: ='sum-roro'!I10 -> 0 | G42: ='sum-roro'!I67 -> 173153 | H42: ='sum-roro'!I185 -> 212534 | I42: ='sum-roro'!I311 -> 37550 | J42: ='sum-roro'!I374 -> 23542 | K42: =SUM(L42:P42) -> 445491 | L42: ='sum-roro'!T10 -> 6 | M42: ='sum-roro'!T67 -> 173749 | N42: ='sum-roro'!T185 -> 211148 | O42: ='sum-roro'!T311 -> 38329 | P42: ='sum-roro'!T374 -> 22259 | Q42: =SUM(R42:V42) -> 429669 | R42: ='sum-roro'!AE10 -> 0 | S42: ='sum-roro'!AE67 -> 155564 | T42: ='sum-roro'!AE185 -> 207436 | U42: ='sum-roro'!AE311 -> 42254 | V42: ='sum-roro'!AE374 -> 24415 | W42: =SUM(X42:AB42) -> 0 | X42: ='sum-roro'!AP10 -> 0 | Y42: ='sum-roro'!AP67 -> 0 | Z42: ='sum-roro'!AP185 -> 0 | AA42: ='sum-roro'!AP311 -> 0 | AB42: ='sum-roro'!AP374 -> 0 | AC42: =SUM(AD42:AH42) -> 1321939 | AD42: =F42+L42+R42+X42 -> 6 | AE42: =G42+M42+S42+Y42 -> 502466 | AF42: =H42+N42+T42+Z42 -> 631118 | AG42: =I42+O42+U42+AA42 -> 118133 | AH42: =J42+P42+V42+AB42 -> 70216
B44: Outbound | E44: =SUM(E45:E48) -> 1629095 | F44: =SUM(F45:F48) -> 0 | G44: =SUM(G45:G48) -> 463379 | H44: =SUM(H45:H48) -> 643127 | I44: =SUM(I45:I48) -> 104881 | J44: =SUM(J45:J48) -> 417708 | K44: =SUM(K45:K48) -> 1808776 | L44: =SUM(L45:L48) -> 128 | ... AH44: =SUM(AH45:AH48) -> 1492313
C45: Type 1 | E45: =SUM(F45:J45) -> 503916 | F45: ='sum-roro'!K10 -> 0 | G45: ='sum-roro'!K67 -> 84607 | H45: ='sum-roro'!K185 -> 172268 | I45: ='sum-roro'!K311 -> 23425 | J45: ='sum-roro'!K374 -> 223616 | K45: =SUM(L45:P45) -> 608341 | L45: ='sum-roro'!V10 -> 0 | M45: ='sum-roro'!V67 -> 97839 | N45: ='sum-roro'!V185 -> 184794 | O45: ='sum-roro'!V311 -> 29529 | P45: ='sum-roro'!V374 -> 296179 | Q45: =SUM(R45:V45) -> 531739 | R45: ='sum-roro'!AG10 -> 0 | S45: ='sum-roro'!AG67 -> 59090 | T45: ='sum-roro'!AG185 -> 136370 | U45: ='sum-roro'!AG311 -> 22129 | V45: ='sum-roro'!AG374 -> 314150 | W45: =SUM(X45:AB45) -> 0 | X45: ='sum-roro'!AR10 -> 0 | Y45: ='sum-roro'!AR67 -> 0 | Z45: ='sum-roro'!AR185 -> 0 | AA45: ='sum-roro'!AR311 -> 0 | AB45: ='sum-roro'!AR374 -> 0 | AC45: =SUM(AD45:AH45) -> 1643996 | AD45: =F45+L45+R45+X45 -> 0 | AE45: =G45+M45+S45+Y45 -> 241536 | AF45: =H45+N45+T45+Z45 -> 493432 | AG45: =I45+O45+U45+AA45 -> 75083 | AH45: =J45+P45+V45+AB45 -> 833945
C46: Type 2 | E46: =SUM(F46:J46) -> 494584 | F46: ='sum-roro'!L10 -> 0 | G46: ='sum-roro'!L67 -> 120811 | H46: ='sum-roro'!L185 -> 194723 | I46: ='sum-roro'!L311 -> 29791 | J46: ='sum-roro'!L374 -> 149259 | K46: =SUM(L46:P46) -> 562378 | L46: ='sum-roro'!W10 -> 94 | M46: ='sum-roro'!W67 -> 132444 | N46: ='sum-roro'!W185 -> 217997 | O46: ='sum-roro'!W311 -> 39881 | P46: ='sum-roro'!W374 -> 171962 | Q46: =SUM(R46:V46) -> 506134 | R46: ='sum-roro'!AH10 -> 20 | S46: ='sum-roro'!AH67 -> 105346 | T46: ='sum-roro'!AH185 -> 170008 | U46: ='sum-roro'!AH311 -> 29942 | V46: ='sum-roro'!AH374 -> 200818 | W46: =SUM(X46:AB46) -> 0 | X46: ='sum-roro'!AS10 -> 0 | Y46: ='sum-roro'!AS67 -> 0 | Z46: ='sum-roro'!AS185 -> 0 | AA46: ='sum-roro'!AS311 -> 0 | AB46: ='sum-roro'!AS374 -> 0 | AC46: =SUM(AD46:AH46) -> 1563096 | AD46: =F46+L46+R46+X46 -> 114 | AE46: =G46+M46+S46+Y46 -> 358601 | AF46: =H46+N46+T46+Z46 -> 582728 | AG46: =I46+O46+U46+AA46 -> 99614 | AH46: =J46+P46+V46+AB46 -> 522039
C47: Type 3 | E47: =SUM(F47:J47) -> 173494 | F47: ='sum-roro'!M10 -> 0 | G47: ='sum-roro'!M67 -> 77548 | H47: ='sum-roro'!M185 -> 59342 | I47: ='sum-roro'!M311 -> 15113 | J47: ='sum-roro'!M374 -> 21491 | K47: =SUM(L47:P47) -> 183492 | L47: ='sum-roro'!X10 -> 0 | M47: ='sum-roro'!X67 -> 81695 | N47: ='sum-roro'!X185 -> 64805 | O47: ='sum-roro'!X311 -> 17263 | P47: ='sum-roro'!X374 -> 19729 | Q47: =SUM(R47:V47) -> 176422 | R47: ='sum-roro'!AI10 -> 0 | S47: ='sum-roro'!AI67 -> 71861 | T47: ='sum-roro'!AI185 -> 64117 | U47: ='sum-roro'!AI311 -> 14815 | V47: ='sum-roro'!AI374 -> 25629 | W47: =SUM(X47:AB47) -> 0 | X47: ='sum-roro'!AT10 -> 0 | Y47: ='sum-roro'!AT67 -> 0 | Z47: ='sum-roro'!AT185 -> 0 | AA47: ='sum-roro'!AT311 -> 0 | AB47: ='sum-roro'!AT374 -> 0 | AC47: =SUM(AD47:AH47) -> 533408 | AD47: =F47+L47+R47+X47 -> 0 | AE47: =G47+M47+S47+Y47 -> 231104 | AF47: =H47+N47+T47+Z47 -> 188264 | AG47: =I47+O47+U47+AA47 -> 47191 | AH47: =J47+P47+V47+AB47 -> 66849
C48: Type 4 | E48: =SUM(F48:J48) -> 457101 | F48: ='sum-roro'!N10 -> 0 | G48: ='sum-roro'!N67 -> 180413 | H48: ='sum-roro'!N185 -> 216794 | I48: ='sum-roro'!N311 -> 36552 | J48: ='sum-roro'!N374 -> 23342 | K48: =SUM(L48:P48) -> 454565 | L48: ='sum-roro'!Y10 -> 34 | M48: ='sum-roro'!Y67 -> 180121 | N48: ='sum-roro'!Y185 -> 214722 | O48: ='sum-roro'!Y311 -> 37637 | P48: ='sum-roro'!Y374 -> 22051 | Q48: =SUM(R48:V48) -> 440615 | R48: ='sum-roro'!AJ10 -> 3 | S48: ='sum-roro'!AJ67 -> 166870 | T48: ='sum-roro'!AJ185 -> 207705 | U48: ='sum-roro'!AJ311 -> 41950 | V48: ='sum-roro'!AJ374 -> 24087 | W48: =SUM(X48:AB48) -> 0 | X48: ='sum-roro'!AU10 -> 0 | Y48: ='sum-roro'!AU67 -> 0 | Z48: ='sum-roro'!AU185 -> 0 | AA48: ='sum-roro'!AU311 -> 0 | AB48: ='sum-roro'!AU374 -> 0 | AC48: =SUM(AD48:AH48) -> 1352281 | AD48: =F48+L48+R48+X48 -> 37 | AE48: =G48+M48+S48+Y48 -> 527404 | AF48: =H48+N48+T48+Z48 -> 639221 | AG48: =I48+O48+U48+AA48 -> 116139 | AH48: =J48+P48+V48+AB48 -> 69480
A51: Source: Port Management Offices' Monthly Statistical Report
A52: Notes:
A53: (1) Values may not add up due to rounding off.
A54: (2) TMOs' statistics contain only the Terminal Ports under its jurisdiction. Statistics for Government Ports and Private Ports are presented in lump-sum totals.
A55: (3) CY 2026 PPA Port Statistics are preliminary data.
A56: (4) Ro-Ro Traffic refers to the number of vehicles carried by Ro-Ro vessels. Ro-Ro vehicle type classification are as follows (Source: PPA MC No. 017-2003):
B57: Type 1: Motorcycle, Tricycle, Scooter;
B58: Type 2: Car, Minivan, SUV, AUV, Owner Jeep, PUH (up to 16 pax);
B59: Type 3: Light Delivery Van, Pick-up Truck, PUJ (more than 16 pax);
B60: Type 4: Stake Truck, Heavy Delivery Truck, Passenger/Tourist Bus, Prime Mover/Tractor Head (with or without Trailer/chassis)

Sheet sum-ship
A1: SHIPPING STATISTICS SUMMARY BY PMO/PORT
A2: Philippine Ports Authority
A3: 2026
A4: SHIPCALLS
A6: Port Management Offices | D6: 1st Quarter | G6: 2nd Quarter | J6: 3rd Quarter | M6: 4th Quarter | P6: GRAND TOTAL
D7: Total | E7: Domestic | F7: Foreign | G7: Total | H7: Domestic | I7: Foreign | J7: Total | K7: Domestic | L7: Foreign | M7: Total | N7: Domestic | O7: Foreign | P7: Total | Q7: Domestic | R7: Foreign
A10: Manila/Northern Luzon | D10: =shipcalls!M10 -> 5257 | E10: =shipcalls!N10 -> 4216 | F10: =shipcalls!O10 -> 1041 | G10: =shipcalls!Y10 -> 5351 | H10: =shipcalls!Z10 -> 4334 | I10: =shipcalls!AA10 -> 1017 | J10: =shipcalls!AK10 -> 4744 | K10: =shipcalls!AL10 -> 3850 | L10: =shipcalls!AM10 -> 894 | M10: =shipcalls!AW10 -> 0 | N10: =shipcalls!AX10 -> 0 | O10: =shipcalls!AY10 -> 0 | P10: =D10+G10+J10+M10 -> 15352 | Q10: =E10+H10+K10+N10 -> 12400 | R10: =F10+I10+L10+O10 -> 2952
B12: PMO NCR South | D12: =shipcalls!M12 -> 962 | E12: =shipcalls!N12 -> 625 | F12: =shipcalls!O12 -> 337 | G12: =shipcalls!Y12 -> 910 | H12: =shipcalls!Z12 -> 568 | I12: =shipcalls!AA12 -> 342 | J12: =shipcalls!AK12 -> 846 | K12: =shipcalls!AL12 -> 534 | L12: =shipcalls!AM12 -> 312 | M12: =shipcalls!AW12 -> 0 | N12: =shipcalls!AX12 -> 0 | O12: =shipcalls!AY12 -> 0 | P12: =D12+G12+J12+M12 -> 2718 | Q12: =E12+H12+K12+N12 -> 1727 | R12: =F12+I12+L12+O12 -> 991
C13: BP South Harbor | D13: =shipcalls!M13 -> 337 | E13: =shipcalls!N13 -> 0 | F13: =shipcalls!O13 -> 337 | G13: =shipcalls!Y13 -> 342 | H13: =shipcalls!Z13 -> 0 | I13: =shipcalls!AA13 -> 342 | J13: =shipcalls!AK13 -> 312 | K13: =shipcalls!AL13 -> 0 | L13: =shipcalls!AM13 -> 312 | M13: =shipcalls!AW13 -> 0 | N13: =shipcalls!AX13 -> 0 | O13: =shipcalls!AY13 -> 0 | P13: =D13+G13+J13+M13 -> 991 | Q13: =E13+H13+K13+N13 -> 0 | R13: =F13+I13+L13+O13 -> 991
C14: Pier 3 | D14: =shipcalls!M14 -> 109 | E14: =shipcalls!N14 -> 0 | F14: =shipcalls!O14 -> 109 | G14: =shipcalls!Y14 -> 96 | H14: =shipcalls!Z14 -> 0 | I14: =shipcalls!AA14 -> 96 | J14: =shipcalls!AK14 -> 109 | K14: =shipcalls!AL14 -> 0 | L14: =shipcalls!AM14 -> 109 | M14: =shipcalls!AW14 -> 0 | N14: =shipcalls!AX14 -> 0 | O14: =shipcalls!AY14 -> 0 | P14: =D14+G14+J14+M14 -> 314 | Q14: =E14+H14+K14+N14 -> 0 | R14: =F14+I14+L14+O14 -> 314
C15: Pier 5 | D15: =shipcalls!M15 -> 132 | E15: =shipcalls!N15 -> 0 | F15: =shipcalls!O15 -> 132 | G15: =shipcalls!Y15 -> 147 | H15: =shipcalls!Z15 -> 0 | I15: =shipcalls!AA15 -> 147 | J15: =shipcalls!AK15 -> 106 | K15: =shipcalls!AL15 -> 0 | L15: =shipcalls!AM15 -> 106 | M15: =shipcalls!AW15 -> 0 | N15: =shipcalls!AX15 -> 0 | O15: =shipcalls!AY15 -> 0 | P15: =D15+G15+J15+M15 -> 385 | Q15: =E15+H15+K15+N15 -> 0 | R15: =F15+I15+L15+O15 -> 385
C16: Pier 15 | D16: =shipcalls!M16 -> 43 | E16: =shipcalls!N16 -> 0 | F16: =shipcalls!O16 -> 43 | G16: =shipcalls!Y16 -> 49 | H16: =shipcalls!Z16 -> 0 | I16: =shipcalls!AA16 -> 49 | J16: =shipcalls!AK16 -> 31 | K16: =shipcalls!AL16 -> 0 | L16: =shipcalls!AM16 -> 31 | M16: =shipcalls!AW16 -> 0 | N16: =shipcalls!AX16 -> 0 | O16: =shipcalls!AY16 -> 0 | P16: =D16+G16+J16+M16 -> 123 | Q16: =E16+H16+K16+N16 -> 0 | R16: =F16+I16+L16+O16 -> 123
C17: South Harbor (Anchorage) | D17: =shipcalls!M17 -> 53 | E17: =shipcalls!N17 -> 0 | F17: =shipcalls!O17 -> 53 | G17: =shipcalls!Y17 -> 50 | H17: =shipcalls!Z17 -> 0 | I17: =shipcalls!AA17 -> 50 | J17: =shipcalls!AK17 -> 66 | K17: =shipcalls!AL17 -> 0 | L17: =shipcalls!AM17 -> 66 | M17: =shipcalls!AW17 -> 0 | N17: =shipcalls!AX17 -> 0 | O17: =shipcalls!AY17 -> 0 | P17: =D17+G17+J17+M17 -> 169 | Q17: =E17+H17+K17+N17 -> 0 | R17: =F17+I17+L17+O17 -> 169
C18: TMO Pasig | D18: =shipcalls!M18 -> 325 | E18: =shipcalls!N18 -> 325 | F18: =shipcalls!O18 -> 0 | G18: =shipcalls!Y18 -> 285 | H18: =shipcalls!Z18 -> 285 | I18: =shipcalls!AA18 -> 0 | J18: =shipcalls!AK18 -> 327 | K18: =shipcalls!AL18 -> 327 | L18: =shipcalls!AM18 -> 0 | M18: =shipcalls!AW18 -> 0 | N18: =shipcalls!AX18 -> 0 | O18: =shipcalls!AY18 -> 0 | P18: =D18+G18+J18+M18 -> 937 | Q18: =E18+H18+K18+N18 -> 937 | R18: =F18+I18+L18+O18 -> 0
C19: Terminal Pasig Bank - Government Bay & River | D19: =shipcalls!M19 -> 195 | E19: =shipcalls!N19 -> 195 | F19: =shipcalls!O19 -> 0 | G19: =shipcalls!Y19 -> 157 | H19: =shipcalls!Z19 -> 157 | I19: =shipcalls!AA19 -> 0 | J19: =shipcalls!AK19 -> 177 | K19: =shipcalls!AL19 -> 177 | L19: =shipcalls!AM19 -> 0 | M19: =shipcalls!AW19 -> 0 | N19: =shipcalls!AX19 -> 0 | O19: =shipcalls!AY19 -> 0 | P19: =D19+G19+J19+M19 -> 529 | Q19: =E19+H19+K19+N19 -> 529 | R19: =F19+I19+L19+O19 -> 0
C20: Terminal Pasig Bank - Government Coastwise | D20: =shipcalls!M20 -> 130 | E20: =shipcalls!N20 -> 130 | F20: =shipcalls!O20 -> 0 | G20: =shipcalls!Y20 -> 128 | H20: =shipcalls!Z20 -> 128 | I20: =shipcalls!AA20 -> 0 | J20: =shipcalls!AK20 -> 150 | K20: =shipcalls!AL20 -> 150 | L20: =shipcalls!AM20 -> 0 | M20: =shipcalls!AW20 -> 0 | N20: =shipcalls!AX20 -> 0 | O20: =shipcalls!AY20 -> 0 | P20: =D20+G20+J20+M20 -> 408 | Q20: =E20+H20+K20+N20 -> 408 | R20: =F20+I20+L20+O20 -> 0
C21: Private Ports | D21: =shipcalls!M21 -> 300 | E21: =shipcalls!N21 -> 300 | F21: =shipcalls!O21 -> 0 | G21: =shipcalls!Y21 -> 283 | H21: =shipcalls!Z21 -> 283 | I21: =shipcalls!AA21 -> 0 | J21: =shipcalls!AK21 -> 207 | K21: =shipcalls!AL21 -> 207 | L21: =shipcalls!AM21 -> 0 | M21: =shipcalls!AW21 -> 0 | N21: =shipcalls!AX21 -> 0 | O21: =shipcalls!AY21 -> 0 | P21: =D21+G21+J21+M21 -> 790 | Q21: =E21+H21+K21+N21 -> 790 | R21: =F21+I21+L21+O21 -> 0
C23: Manila International Container Terminal (MICT) | D23: =shipcalls!M23 -> 353 | E23: =shipcalls!N23 -> 0 | F23: =shipcalls!O23 -> 353 | G23: =shipcalls!Y23 -> 363 | H23: =shipcalls!Z23 -> 0 | I23: =shipcalls!AA23 -> 363 | J23: =shipcalls!AK23 -> 338 | K23: =shipcalls!AL23 -> 0 | L23: =shipcalls!AM23 -> 338 | M23: =shipcalls!AW23 -> 0 | N23: =shipcalls!AX23 -> 0 | O23: =shipcalls!AY23 -> 0 | P23: =D23+G23+J23+M23 -> 1054 | Q23: =E23+H23+K23+N23 -> 0 | R23: =F23+I23+L23+O23 -> 1054
C24: MICT | D24: =shipcalls!M24 -> 344 | E24: =shipcalls!N24 -> 0 | F24: =shipcalls!O24 -> 344 | G24: =shipcalls!Y24 -> 357 | H24: =shipcalls!Z24 -> 0 | I24: =shipcalls!AA24 -> 357 | J24: =shipcalls!AK24 -> 331 | K24: =shipcalls!AL24 -> 0 | L24: =shipcalls!AM24 -> 331 | M24: =shipcalls!AW24 -> 0 | N24: =shipcalls!AX24 -> 0 | O24: =shipcalls!AY24 -> 0 | P24: =D24+G24+J24+M24 -> 1032 | Q24: =E24+H24+K24+N24 -> 0 | R24: =F24+I24+L24+O24 -> 1032
C25: MICT (Anchorage) | D25: =shipcalls!M25 -> 9 | E25: =shipcalls!N25 -> 0 | F25: =shipcalls!O25 -> 9 | G25: =shipcalls!Y25 -> 6 | H25: =shipcalls!Z25 -> 0 | I25: =shipcalls!AA25 -> 6 | J25: =shipcalls!AK25 -> 7 | K25: =shipcalls!AL25 -> 0 | L25: =shipcalls!AM25 -> 7 | M25: =shipcalls!AW25 -> 0 | N25: =shipcalls!AX25 -> 0 | O25: =shipcalls!AY25 -> 0 | P25: =D25+G25+J25+M25 -> 22 | Q25: =E25+H25+K25+N25 -> 0 | R25: =F25+I25+L25+O25 -> 22
B27: PMO NCR North | D27: =shipcalls!M27 -> 1558 | E27: =shipcalls!N27 -> 1484 | F27: =shipcalls!O27 -> 74 | G27: =shipcalls!Y27 -> 1535 | H27: =shipcalls!Z27 -> 1459 | I27: =shipcalls!AA27 -> 76 | J27: =shipcalls!AK27 -> 1523 | K27: =shipcalls!AL27 -> 1463 | L27: =shipcalls!AM27 -> 60 | M27: =shipcalls!AW27 -> 0 | N27: =shipcalls!AX27 -> 0 | O27: =shipcalls!AY27 -> 0 | P27: =D27+G27+J27+M27 -> 4616 | Q27: =E27+H27+K27+N27 -> 4406 | R27: =F27+I27+L27+O27 -> 210
C28: BP North Harbor | D28: =shipcalls!M28 -> 700 | E28: =shipcalls!N28 -> 700 | F28: =shipcalls!O28 -> 0 | G28: =shipcalls!Y28 -> 686 | H28: =shipcalls!Z28 -> 686 | I28: =shipcalls!AA28 -> 0 | J28: =shipcalls!AK28 -> 715 | K28: =shipcalls!AL28 -> 715 | L28: =shipcalls!AM28 -> 0 | M28: =shipcalls!AW28 -> 0 | N28: =shipcalls!AX28 -> 0 | O28: =shipcalls!AY28 -> 0 | P28: =D28+G28+J28+M28 -> 2101 | Q28: =E28+H28+K28+N28 -> 2101 | R28: =F28+I28+L28+O28 -> 0
C29: BP North Harbor Ro-Ro | D29: =shipcalls!M29 -> 139 | E29: =shipcalls!N29 -> 139 | F29: =shipcalls!O29 -> 0 | G29: =shipcalls!Y29 -> 156 | H29: =shipcalls!Z29 -> 156 | I29: =shipcalls!AA29 -> 0 | J29: =shipcalls!AK29 -> 165 | K29: =shipcalls!AL29 -> 165 | L29: =shipcalls!AM29 -> 0 | M29: =shipcalls!AW29 -> 0 | N29: =shipcalls!AX29 -> 0 | O29: =shipcalls!AY29 -> 0 | P29: =D29+G29+J29+M29 -> 460 | Q29: =E29+H29+K29+N29 -> 460 | R29: =F29+I29+L29+O29 -> 0
C30: BP North Harbor | D30: =shipcalls!M30 -> 561 | E30: =shipcalls!N30 -> 561 | F30: =shipcalls!O30 -> 0 | G30: =shipcalls!Y30 -> 530 | H30: =shipcalls!Z30 -> 530 | I30: =shipcalls!AA30 -> 0 | J30: =shipcalls!AK30 -> 550 | K30: =shipcalls!AL30 -> 550 | L30: =shipcalls!AM30 -> 0 | M30: =shipcalls!AW30 -> 0 | N30: =shipcalls!AX30 -> 0 | O30: =shipcalls!AY30 -> 0 | P30: =D30+G30+J30+M30 -> 1641 | Q30: =E30+H30+K30+N30 -> 1641 | R30: =F30+I30+L30+O30 -> 0
C31: TMO Vitas | D31: =shipcalls!M31 -> 156 | E31: =shipcalls!N31 -> 155 | F31: =shipcalls!O31 -> 1 | G31: =shipcalls!Y31 -> 162 | H31: =shipcalls!Z31 -> 162 | I31: =shipcalls!AA31 -> 0 | J31: =shipcalls!AK31 -> 122 | K31: =shipcalls!AL31 -> 122 | L31: =shipcalls!AM31 -> 0 | M31: =shipcalls!AW31 -> 0 | N31: =shipcalls!AX31 -> 0 | O31: =shipcalls!AY31 -> 0 | P31: =D31+G31+J31+M31 -> 440 | Q31: =E31+H31+K31+N31 -> 439 | R31: =F31+I31+L31+O31 -> 1
C32: TP Vitas | D32: =shipcalls!M32 -> 102 | E32: =shipcalls!N32 -> 102 | F32: =shipcalls!O32 -> 0 | G32: =shipcalls!Y32 -> 99 | H32: =shipcalls!Z32 -> 99 | I32: =shipcalls!AA32 -> 0 | J32: =shipcalls!AK32 -> 69 | K32: =shipcalls!AL32 -> 69 | L32: =shipcalls!AM32 -> 0 | M32: =shipcalls!AW32 -> 0 | N32: =shipcalls!AX32 -> 0 | O32: =shipcalls!AY32 -> 0 | P32: =D32+G32+J32+M32 -> 270 | Q32: =E32+H32+K32+N32 -> 270 | R32: =F32+I32+L32+O32 -> 0
C33: TP Vitas (Anchorage) | D33: =shipcalls!M33 -> 54 | E33: =shipcalls!N33 -> 53 | F33: =shipcalls!O33 -> 1 | G33: =shipcalls!Y33 -> 63 | H33: =shipcalls!Z33 -> 63 | I33: =shipcalls!AA33 -> 0 | J33: =shipcalls!AK33 -> 53 | K33: =shipcalls!AL33 -> 53 | L33: =shipcalls!AM33 -> 0 | M33: =shipcalls!AW33 -> 0 | N33: =shipcalls!AX33 -> 0 | O33: =shipcalls!AY33 -> 0 | P33: =D33+G33+J33+M33 -> 170 | Q33: =E33+H33+K33+N33 -> 169 | R33: =F33+I33+L33+O33 -> 1
C34: Private Ports | D34: =shipcalls!M34 -> 702 | E34: =shipcalls!N34 -> 629 | F34: =shipcalls!O34 -> 73 | G34: =shipcalls!Y34 -> 687 | H34: =shipcalls!Z34 -> 611 | I34: =shipcalls!AA34 -> 76 | J34: =shipcalls!AK34 -> 686 | K34: =shipcalls!AL34 -> 626 | L34: =shipcalls!AM34 -> 60 | M34: =shipcalls!AW34 -> 0 | N34: =shipcalls!AX34 -> 0 | O34: =shipcalls!AY34 -> 0 | P34: =D34+G34+J34+M34 -> 2075 | Q34: =E34+H34+K34+N34 -> 1866 | R34: =F34+I34+L34+O34 -> 209
B36: PMO Northern Luzon | D36: =shipcalls!M36 -> 813 | E36: =shipcalls!N36 -> 694 | F36: =shipcalls!O36 -> 119 | G36: =shipcalls!Y36 -> 898 | H36: =shipcalls!Z36 -> 802 | I36: =shipcalls!AA36 -> 96 | J36: =shipcalls!AK36 -> 585 | K36: =shipcalls!AL36 -> 522 | L36: =shipcalls!AM36 -> 63 | M36: =shipcalls!AW36 -> 0 | N36: =shipcalls!AX36 -> 0 | O36: =shipcalls!AY36 -> 0 | P36: =D36+G36+J36+M36 -> 2296 | Q36: =E36+H36+K36+N36 -> 2018 | R36: =F36+I36+L36+O36 -> 278
C37: BP Currimao | D37: =shipcalls!M37 -> 22 | E37: =shipcalls!N37 -> 5 | F37: =shipcalls!O37 -> 17 | G37: =SUM(H37:I37) -> 11 | H37: =shipcalls!Z37 -> 6 | I37: =shipcalls!AA37 -> 5 | J37: =shipcalls!AK37 -> 6 | K37: =shipcalls!AL37 -> 3 | L37: =shipcalls!AM37 -> 3 | M37: =shipcalls!AW37 -> 0 | N37: =shipcalls!AX37 -> 0 | O37: =shipcalls!AY37 -> 0 | P37: =D37+G37+J37+M37 -> 39 | Q37: =E37+H37+K37+N37 -> 14 | R37: =F37+I37+L37+O37 -> 25
C38: BP Currimao Ro-Ro | D38: =shipcalls!M38 -> 0 | E38: =shipcalls!N38 -> 0 | F38: =shipcalls!O38 -> 0 | G38: =shipcalls!Y38 -> 1 | H38: =shipcalls!Z38 -> 1 | I38: =shipcalls!AA38 -> 0 | J38: =shipcalls!AK38 -> 0 | K38: =shipcalls!AL38 -> 0 | L38: =shipcalls!AM38 -> 0 | M38: =shipcalls!AW38 -> 0 | N38: =shipcalls!AX38 -> 0 | O38: =shipcalls!AY38 -> 0 | P38: =D38+G38+J38+M38 -> 1 | Q38: =E38+H38+K38+N38 -> 1 | R38: =F38+I38+L38+O38 -> 0
C39: BP Currimao | D39: =shipcalls!M39 -> 12 | E39: =shipcalls!N39 -> 3 | F39: =shipcalls!O39 -> 9 | G39: =shipcalls!Y39 -> 8 | H39: =shipcalls!Z39 -> 5 | I39: =shipcalls!AA39 -> 3 | J39: =shipcalls!AK39 -> 6 | K39: =shipcalls!AL39 -> 3 | L39: =shipcalls!AM39 -> 3 | M39: =shipcalls!AW39 -> 0 | N39: =shipcalls!AX39 -> 0 | O39: =shipcalls!AY39 -> 0 | P39: =D39+G39+J39+M39 -> 26 | Q39: =E39+H39+K39+N39 -> 11 | R39: =F39+I39+L39+O39 -> 15
C40: BP Currimao (Anchorage) | D40: =shipcalls!M40 -> 10 | E40: =shipcalls!N40 -> 2 | F40: =shipcalls!O40 -> 8 | G40: =shipcalls!Y40 -> 2 | H40: =shipcalls!Z40 -> 0 | I40: =shipcalls!AA40 -> 2 | J40: =shipcalls!AK40 -> 0 | K40: =shipcalls!AL40 -> 0 | L40: =shipcalls!AM40 -> 0 | M40: =shipcalls!AW40 -> 0 | N40: =shipcalls!AX40 -> 0 | O40: =shipcalls!AY40 -> 0 | P40: =D40+G40+J40+M40 -> 12 | Q40: =E40+H40+K40+N40 -> 2 | R40: =F40+I40+L40+O40 -> 10
C41: TMO Batanes | D41: =shipcalls!M41 -> 150 | E41: =shipcalls!N41 -> 150 | F41: =shipcalls!O41 -> 0 | G41: =shipcalls!Y41 -> 169 | H41: =shipcalls!Z41 -> 168 | I41: =shipcalls!AA41 -> 1 | J41: =shipcalls!AK41 -> 122 | K41: =shipcalls!AL41 -> 122 | L41: =shipcalls!AM41 -> 0 | M41: =shipcalls!AW41 -> 0 | N41: =shipcalls!AX41 -> 0 | O41: =shipcalls!AY41 -> 0 | P41: =D41+G41+J41+M41 -> 441 | Q41: =E41+H41+K41+N41 -> 440 | R41: =F41+I41+L41+O41 -> 1
C42: TP Basco | D42: =shipcalls!M42 -> 150 | E42: =shipcalls!N42 -> 150 | F42: =shipcalls!O42 -> 0 | G42: =shipcalls!Y42 -> 167 | H42: =shipcalls!Z42 -> 167 | I42: =shipcalls!AA42 -> 0 | J42: =shipcalls!AK42 -> 122 | K42: =shipcalls!AL42 -> 122 | L42: =shipcalls!AM42 -> 0 | M42: =shipcalls!AW42 -> 0 | N42: =shipcalls!AX42 -> 0 | O42: =shipcalls!AY42 -> 0 | P42: =D42+G42+J42+M42 -> 439 | Q42: =E42+H42+K42+N42 -> 439 | R42: =F42+I42+L42+O42 -> 0
C43: TP Basco (Anchorage) | D43: =shipcalls!M43 -> 0 | E43: =shipcalls!N43 -> 0 | F43: =shipcalls!O43 -> 0 | G43: =shipcalls!Y43 -> 2 | H43: =shipcalls!Z43 -> 1 | I43: =shipcalls!AA43 -> 1 | J43: =shipcalls!AK43 -> 0 | K43: =shipcalls!AL43 -> 0 | L43: =shipcalls!AM43 -> 0 | M43: =shipcalls!AW43 -> 0 | N43: =shipcalls!AX43 -> 0 | O43: =shipcalls!AY43 -> 0 | P43: =D43+G43+J43+M43 -> 2 | Q43: =E43+H43+K43+N43 -> 1 | R43: =F43+I43+L43+O43 -> 1
C44: TMO Cagayan/Isabela/Ilocos | D44: =shipcalls!M44 -> 8 | E44: =shipcalls!N44 -> 4 | F44: =shipcalls!O44 -> 4 | G44: =shipcalls!Y44 -> 2 | H44: =shipcalls!Z44 -> 0 | I44: =shipcalls!AA44 -> 2 | J44: =shipcalls!AK44 -> 1 | K44: =shipcalls!AL44 -> 0 | L44: =shipcalls!AM44 -> 1 | M44: =shipcalls!AW44 -> 0 | N44: =shipcalls!AX44 -> 0 | O44: =shipcalls!AY44 -> 0 | P44: =D44+G44+J44+M44 -> 11 | Q44: =E44+H44+K44+N44 -> 4 | R44: =F44+I44+L44+O44 -> 7
C45: TP Aparri (Anchorage) | D45: =shipcalls!M45 -> 3 | E45: =shipcalls!N45 -> 1 | F45: =shipcalls!O45 -> 2 | G45: =shipcalls!Y45 -> 0 | H45: =shipcalls!Z45 -> 0 | I45: =shipcalls!AA45 -> 0 | J45: =shipcalls!AK45 -> 0 | K45: =shipcalls!AL45 -> 0 | L45: =shipcalls!AM45 -> 0 | M45: =shipcalls!AW45 -> 0 | N45: =shipcalls!AX45 -> 0 | O45: =shipcalls!AY45 -> 0 | P45: =D45+G45+J45+M45 -> 3 | Q45: =E45+H45+K45+N45 -> 1 | R45: =F45+I45+L45+O45 -> 2
C46: TP Claveria (Tagat Norte) (Anchorage) | D46: =shipcalls!M46 -> 1 | E46: =shipcalls!N46 -> 0 | F46: =shipcalls!O46 -> 1 | G46: =shipcalls!Y46 -> 0 | H46: =shipcalls!Z46 -> 0 | I46: =shipcalls!AA46 -> 0 | J46: =shipcalls!AK46 -> 0 | K46: =shipcalls!AL46 -> 0 | L46: =shipcalls!AM46 -> 0 | M46: =shipcalls!AW46 -> 0 | N46: =shipcalls!AX46 -> 0 | O46: =shipcalls!AY46 -> 0 | P46: =D46+G46+J46+M46 -> 1 | Q46: =E46+H46+K46+N46 -> 0 | R46: =F46+I46+L46+O46 -> 1
C47: TP Salomague | D47: =shipcalls!M47 -> 4 | E47: =shipcalls!N47 -> 3 | F47: =shipcalls!O47 -> 1 | G47: =shipcalls!Y47 -> 1 | H47: =shipcalls!Z47 -> 0 | I47: =shipcalls!AA47 -> 1 | J47: =shipcalls!AK47 -> 1 | K47: =shipcalls!AL47 -> 0 | L47: =shipcalls!AM47 -> 1 | M47: =shipcalls!AW47 -> 0 | N47: =shipcalls!AX47 -> 0 | O47: =shipcalls!AY47 -> 0 | P47: =D47+G47+J47+M47 -> 6 | Q47: =E47+H47+K47+N47 -> 3 | R47: =F47+I47+L47+O47 -> 3
C48: TP Salomague (Anchorage) | D48: =shipcalls!M48 -> 0 | E48: =shipcalls!N48 -> 0 | F48: =shipcalls!O48 -> 0 | G48: =shipcalls!Y48 -> 1 | H48: =shipcalls!Z48 -> 0 | I48: =shipcalls!AA48 -> 1 | J48: =shipcalls!AK48 -> 0 | K48: =shipcalls!AL48 -> 0 | L48: =shipcalls!AM48 -> 0 | M48: =shipcalls!AW48 -> 0 | N48: =shipcalls!AX48 -> 0 | O48: =shipcalls!AY48 -> 0 | P48: =D48+G48+J48+M48 -> 1 | Q48: =E48+H48+K48+N48 -> 0 | R48: =F48+I48+L48+O48 -> 1
C49: TMO Pangasinan (TP Sual (Anchorage)) | D49: =shipcalls!M49 -> 1 | E49: =shipcalls!N49 -> 0 | F49: =shipcalls!O49 -> 1 | G49: =shipcalls!Y49 -> 3 | H49: =shipcalls!Z49 -> 2 | I49: =shipcalls!AA49 -> 1 | J49: =shipcalls!AK49 -> 1 | K49: =shipcalls!AL49 -> 1 | L49: =shipcalls!AM49 -> 0 | M49: =shipcalls!AW49 -> 0 | N49: =shipcalls!AX49 -> 0 | O49: =shipcalls!AY49 -> 0 | P49: =D49+G49+J49+M49 -> 5 | Q49: =E49+H49+K49+N49 -> 3 | R49: =F49+I49+L49+O49 -> 2
... C51: Private Ports | D51: =shipcalls!M51 -> 310 | E51: =shipcalls!N51 -> 219 | F51: =shipcalls!O51 -> 91 | G51: =shipcalls!Y51 -> 327 | H51: =shipcalls!Z51 -> 245 | I51: =shipcalls!AA51 -> 82 | J51: =shipcalls!AK51 -> 211 | K51: =shipcalls!AL51 -> 153 | L51: =shipcalls!AM51 -> 58 | M51: =shipcalls!AW51 -> 0 | N51: =shipcalls!AX51 -> 0 | O51: =shipcalls!AY51 -> 0 | P51: =D51+G51+J51+M51 -> 848 | Q51: =E51+H51+K51+N51 -> 617 | R51: =F51+I51+L51+O51 -> 231
B53: PMO Bataan/Aurora | D53: =shipcalls!M53 -> 1571 | E53: =shipcalls!N53 -> 1413 | F53: =shipcalls!O53 -> 158 | G53: =shipcalls!Y53 -> 1645 | H53: =shipcalls!Z53 -> 1505 | I53: =shipcalls!AA53 -> 140 | J53: =shipcalls!AK53 -> 1452 | K53: =shipcalls!AL53 -> 1331 | L53: =shipcalls!AM53 -> 121 | M53: =shipcalls!AW53 -> 0 | N53: =shipcalls!AX53 -> 0 | O53: =shipcalls!AY53 -> 0 | P53: =D53+G53+J53+M53 -> 4668 | Q53: =E53+H53+K53+N53 -> 4249 | R53: =F53+I53+L53+O53 -> 419
C54: BP Limay (Lamao) | D54: =shipcalls!M54 -> 59 | E54: =shipcalls!N54 -> 58 | F54: =shipcalls!O54 -> 1 | G54: =shipcalls!Y54 -> 85 | H54: =shipcalls!Z54 -> 85 | I54: =shipcalls!AA54 -> 0 | J54: =shipcalls!AK54 -> 65 | K54: =shipcalls!AL54 -> 64 | L54: =shipcalls!AM54 -> 1 | M54: =shipcalls!AW54 -> 0 | N54: =shipcalls!AX54 -> 0 | O54: =shipcalls!AY54 -> 0 | P54: =D54+G54+J54+M54 -> 209 | Q54: =E54+H54+K54+N54 -> 207 | R54: =F54+I54+L54+O54 -> 2
C55: BP Limay (Lamao) | D55: =shipcalls!M55 -> 0 | E55: =shipcalls!N55 -> 0 | F55: =shipcalls!O55 -> 0 | G55: =shipcalls!Y55 -> 8 | H55: =shipcalls!Z55 -> 8 | I55: =shipcalls!AA55 -> 0 | J55: =shipcalls!AK55 -> 1 | K55: =shipcalls!AL55 -> 1 | L55: =shipcalls!AM55 -> 0 | M55: =shipcalls!AW55 -> 0 | N55: =shipcalls!AX55 -> 0 | O55: =shipcalls!AY55 -> 0 | P55: =D55+G55+J55+M55 -> 9 | Q55: =E55+H55+K55+N55 -> 9 | R55: =F55+I55+L55+O55 -> 0
C56: BP Limay (Lamao) (Anchorage) | D56: =shipcalls!M56 -> 59 | E56: =shipcalls!N56 -> 58 | F56: =shipcalls!O56 -> 1 | G56: =shipcalls!Y56 -> 77 | H56: =shipcalls!Z56 -> 77 | I56: =shipcalls!AA56 -> 0 | J56: =shipcalls!AK56 -> 64 | K56: =shipcalls!AL56 -> 63 | L56: =shipcalls!AM56 -> 1 | M56: =shipcalls!AW56 -> 0 | N56: =shipcalls!AX56 -> 0 | O56: =shipcalls!AY56 -> 0 | P56: =D56+G56+J56+M56 -> 200 | Q56: =E56+H56+K56+N56 -> 198 | R56: =F56+I56+L56+O56 -> 2
C57: TMO Capinpin | D57: =shipcalls!M57 -> 18 | E57: =shipcalls!N57 -> 18 | F57: =shipcalls!O57 -> 0 | G57: =shipcalls!Y57 -> 27 | H57: =shipcalls!Z57 -> 27 | I57: =shipcalls!AA57 -> 0 | J57: =shipcalls!AK57 -> 38 | K57: =shipcalls!AL57 -> 38 | L57: =shipcalls!AM57 -> 0 | M57: =shipcalls!AW57 -> 0 | N57: =shipcalls!AX57 -> 0 | O57: =shipcalls!AY57 -> 0 | P57: =D57+G57+J57+M57 -> 83 | Q57: =E57+H57+K57+N57 -> 83 | R57: =F57+I57+L57+O57 -> 0
C58: TP Capinpin | D58: =shipcalls!M58 -> 18 | E58: =shipcalls!N58 -> 18 | F58: =shipcalls!O58 -> 0 | G58: =shipcalls!Y58 -> 22 | H58: =shipcalls!Z58 -> 22 | I58: =shipcalls!AA58 -> 0 | J58: =shipcalls!AK58 -> 21 | K58: =shipcalls!AL58 -> 21 | L58: =shipcalls!AM58 -> 0 | M58: =shipcalls!AW58 -> 0 | N58: =shipcalls!AX58 -> 0 | O58: =shipcalls!AY58 -> 0 | P58: =D58+G58+J58+M58 -> 61 | Q58: =E58+H58+K58+N58 -> 61 | R58: =F58+I58+L58+O58 -> 0
C59: TP Capinpin (Anchorage) | D59: =shipcalls!M59 -> 0 | E59: =shipcalls!N59 -> 0 | F59: =shipcalls!O59 -> 0 | G59: =shipcalls!Y59 -> 5 | H59: =shipcalls!Z59 -> 5 | I59: =shipcalls!AA59 -> 0 | J59: =shipcalls!AK59 -> 17 | K59: =shipcalls!AL59 -> 17 | L59: =shipcalls!AM59 -> 0 | M59: =shipcalls!AW59 -> 0 | N59: =shipcalls!AX59 -> 0 | O59: =shipcalls!AY59 -> 0 | P59: =D59+G59+J59+M59 -> 22 | Q59: =E59+H59+K59+N59 -> 22 | R59: =F59+I59+L59+O59 -> 0
C60: TMO Casiguran | D60: =shipcalls!M60 -> 0 | E60: =shipcalls!N60 -> 0 | F60: =shipcalls!O60 -> 0 | G60: =shipcalls!Y60 -> 1 | H60: =shipcalls!Z60 -> 1 | I60: =shipcalls!AA60 -> 0 | J60: =shipcalls!AK60 -> 3 | K60: =shipcalls!AL60 -> 3 | L60: =shipcalls!AM60 -> 0 | M60: =shipcalls!AW60 -> 0 | N60: =shipcalls!AX60 -> 0 | O60: =shipcalls!AY60 -> 0 | P60: =D60+G60+J60+M60 -> 4 | Q60: =E60+H60+K60+N60 -> 4 | R60: =F60+I60+L60+O60 -> 0
C61: TP Casiguran | D61: =shipcalls!M61 -> 0 | E61: =shipcalls!N61 -> 0 | F61: =shipcalls!O61 -> 0 | G61: =shipcalls!Y61 -> 1 | H61: =shipcalls!Z61 -> 1 | I61: =shipcalls!AA61 -> 0 | J61: =shipcalls!AK61 -> 0 | K61: =shipcalls!AL61 -> 0 | L61: =shipcalls!AM61 -> 0 | M61: =shipcalls!AW61 -> 0 | N61: =shipcalls!AX61 -> 0 | O61: =shipcalls!AY61 -> 0 | P61: =D61+G61+J61+M61 -> 1 | Q61: =E61+H61+K61+N61 -> 1 | R61: =F61+I61+L61+O61 -> 0
C62: TP Casiguran (Anchorage) | D62: =shipcalls!M62 -> 0 | E62: =shipcalls!N62 -> 0 | F62: =shipcalls!O62 -> 0 | G62: =shipcalls!Y62 -> 0 | H62: =shipcalls!Z62 -> 0 | I62: =shipcalls!AA62 -> 0 | J62: =shipcalls!AK62 -> 3 | K62: =shipcalls!AL62 -> 3 | L62: =shipcalls!AM62 -> 0 | M62: =shipcalls!AW62 -> 0 | N62: =shipcalls!AX62 -> 0 | O62: =shipcalls!AY62 -> 0 | P62: =D62+G62+J62+M62 -> 3 | Q62: =E62+H62+K62+N62 -> 3 | R62: =F62+I62+L62+O62 -> 0
C63: TMO Dingalan | D63: =shipcalls!M63 -> 0 | E63: =shipcalls!N63 -> 0 | F63: =shipcalls!O63 -> 0 | G63: =shipcalls!Y63 -> 0 | H63: =shipcalls!Z63 -> 0 | I63: =shipcalls!AA63 -> 0 | J63: =shipcalls!AK63 -> 0 | K63: =shipcalls!AL63 -> 0 | L63: =shipcalls!AM63 -> 0 | M63: =shipcalls!AW63 -> 0 | N63: =shipcalls!AX63 -> 0 | O63: =shipcalls!AY63 -> 0 | P63: =D63+G63+J63+M63 -> 0 | Q63: =E63+H63+K63+N63 -> 0 | R63: =F63+I63+L63+O63 -> 0
C64: Government Ports | D64: =shipcalls!M64 -> 115 | E64: =shipcalls!N64 -> 115 | F64: =shipcalls!O64 -> 0 | G64: =shipcalls!Y64 -> 129 | H64: =shipcalls!Z64 -> 129 | I64: =shipcalls!AA64 -> 0 | J64: =shipcalls!AK64 -> 138 | K64: =shipcalls!AL64 -> 137 | L64: =shipcalls!AM64 -> 1 | M64: =shipcalls!AW64 -> 0 | N64: =shipcalls!AX64 -> 0 | O64: =shipcalls!AY64 -> 0 | P64: =D64+G64+J64+M64 -> 382 | Q64: =E64+H64+K64+N64 -> 381 | R64: =F64+I64+L64+O64 -> 1
C65: Private Ports | D65: =shipcalls!M65 -> 1379 | E65: =shipcalls!N65 -> 1222 | F65: =shipcalls!O65 -> 157 | G65: =shipcalls!Y65 -> 1403 | H65: =shipcalls!Z65 -> 1263 | I65: =shipcalls!AA65 -> 140 | J65: =shipcalls!AK65 -> 1208 | K65: =shipcalls!AL65 -> 1089 | L65: =shipcalls!AM65 -> 119 | M65: =shipcalls!AW65 -> 0 | N65: =shipcalls!AX65 -> 0 | O65: =shipcalls!AY65 -> 0 | P65: =D65+G65+J65+M65 -> 3990 | Q65: =E65+H65+K65+N65 -> 3574 | R65: =F65+I65+L65+O65 -> 416
A67: Southern Luzon | D67: =shipcalls!M67 -> 33492 | E67: =shipcalls!N67 -> 32804 | F67: =shipcalls!O67 -> 688 | G67: =shipcalls!Y67 -> 32681 | H67: =shipcalls!Z67 -> 32009 | I67: =shipcalls!AA67 -> 672 | J67: =shipcalls!AK67 -> 26928 | K67: =shipcalls!AL67 -> 26293 | L67: =shipcalls!AM67 -> 635 | M67: =shipcalls!AW67 -> 0 | N67: =shipcalls!AX67 -> 0 | O67: =shipcalls!AY67 -> 0 | P67: =D67+G67+J67+M67 -> 93101 | Q67: =E67+H67+K67+N67 -> 91106 | R67: =F67+I67+L67+O67 -> 1995
B69: PMO Batangas | D69: =shipcalls!M69 -> 9677 | E69: =shipcalls!N69 -> 9201 | F69: =shipcalls!O69 -> 476 | G69: =shipcalls!Y69 -> 9889 | H69: =shipcalls!Z69 -> 9432 | I69: =shipcalls!AA69 -> 457 | J69: =shipcalls!AK69 -> 8538 | K69: =shipcalls!AL69 -> 8069 | L69: =shipcalls!AM69 -> 469 | M69: =shipcalls!AW69 -> 0 | N69: =shipcalls!AX69 -> 0 | O69: =shipcalls!AY69 -> 0 | P69: =D69+G69+J69+M69 -> 28104 | Q69: =E69+H69+K69+N69 -> 26702 | R69: =F69+I69+L69+O69 -> 1402
C70: BP Batangas | D70: =shipcalls!M70 -> 6524 | E70: =shipcalls!N70 -> 6317 | F70: =shipcalls!O70 -> 207 | G70: =shipcalls!Y70 -> 6735 | H70: =shipcalls!Z70 -> 6528 | I70: =shipcalls!AA70 -> 207 | J70: =shipcalls!AK70 -> 5655 | K70: =shipcalls!AL70 -> 5430 | L70: =shipcalls!AM70 -> 225 | M70: =shipcalls!AW70 -> 0 | N70: =shipcalls!AX70 -> 0 | O70: =shipcalls!AY70 -> 0 | P70: =D70+G70+J70+M70 -> 18914 | Q70: =E70+H70+K70+N70 -> 18275 | R70: =F70+I70+L70+O70 -> 639
C71: Batangas Ro-Ro | D71: =shipcalls!M71 -> 4891 | E71: =shipcalls!N71 -> 4891 | F71: =shipcalls!O71 -> 0 | G71: =shipcalls!Y71 -> 5068 | H71: =shipcalls!Z71 -> 5068 | I71: =shipcalls!AA71 -> 0 | J71: =shipcalls!AK71 -> 4491 | K71: =shipcalls!AL71 -> 4491 | L71: =shipcalls!AM71 -> 0 | M71: =shipcalls!AW71 -> 0 | N71: =shipcalls!AX71 -> 0 | O71: =shipcalls!AY71 -> 0 | P71: =D71+G71+J71+M71 -> 14450 | Q71: =E71+H71+K71+N71 -> 14450 | R71: =F71+I71+L71+O71 -> 0
C72: Batangas | D72: =shipcalls!M72 -> 1151 | E72: =shipcalls!N72 -> 1085 | F72: =shipcalls!O72 -> 66 | G72: =shipcalls!Y72 -> 1237 | H72: =shipcalls!Z72 -> 1176 | I72: =shipcalls!AA72 -> 61 | J72: =shipcalls!AK72 -> 723 | K72: =shipcalls!AL72 -> 661 | L72: =shipcalls!AM72 -> 62 | M72: =shipcalls!AW72 -> 0 | N72: =shipcalls!AX72 -> 0 | O72: =shipcalls!AY72 -> 0 | P72: =D72+G72+J72+M72 -> 3111 | Q72: =E72+H72+K72+N72 -> 2922 | R72: =F72+I72+L72+O72 -> 189
C73: Batangas Phase 2 | D73: =shipcalls!M73 -> 117 | E73: =shipcalls!N73 -> 0 | F73: =shipcalls!O73 -> 117 | G73: =shipcalls!Y73 -> 117 | H73: =shipcalls!Z73 -> 0 | I73: =shipcalls!AA73 -> 117 | J73: =shipcalls!AK73 -> 119 | K73: =shipcalls!AL73 -> 0 | L73: =shipcalls!AM73 -> 119 | M73: =shipcalls!AW73 -> 0 | N73: =shipcalls!AX73 -> 0 | O73: =shipcalls!AY73 -> 0 | P73: =D73+G73+J73+M73 -> 353 | Q73: =E73+H73+K73+N73 -> 0 | R73: =F73+I73+L73+O73 -> 353
C74: Batangas (Anchorage) | D74: =shipcalls!M74 -> 365 | E74: =shipcalls!N74 -> 341 | F74: =shipcalls!O74 -> 24 | G74: =shipcalls!Y74 -> 313 | H74: =shipcalls!Z74 -> 284 | I74: =shipcalls!AA74 -> 29 | J74: =shipcalls!AK74 -> 322 | K74: =shipcalls!AL74 -> 278 | L74: =shipcalls!AM74 -> 44 | M74: =shipcalls!AW74 -> 0 | N74: =shipcalls!AX74 -> 0 | O74: =shipcalls!AY74 -> 0 | P74: =D74+G74+J74+M74 -> 1000 | Q74: =E74+H74+K74+N74 -> 903 | R74: =F74+I74+L74+O74 -> 97
C75: TMO Bauan (TP Bauan) | D75: =shipcalls!M75 -> 57 | E75: =shipcalls!N75 -> 57 | F75: =shipcalls!O75 -> 0 | G75: =shipcalls!Y75 -> 38 | H75: =shipcalls!Z75 -> 38 | I75: =shipcalls!AA75 -> 0 | J75: =shipcalls!AK75 -> 33 | K75: =shipcalls!AL75 -> 33 | L75: =shipcalls!AM75 -> 0 | M75: =shipcalls!AW75 -> 0 | N75: =shipcalls!AX75 -> 0 | O75: =shipcalls!AY75 -> 0 | P75: =D75+G75+J75+M75 -> 128 | Q75: =E75+H75+K75+N75 -> 128 | R75: =F75+I75+L75+O75 -> 0
C76: TMO Tablas | D76: =shipcalls!M76 -> 241 | E76: =shipcalls!N76 -> 241 | F76: =shipcalls!O76 -> 0 | G76: =shipcalls!Y76 -> 248 | H76: =shipcalls!Z76 -> 248 | I76: =shipcalls!AA76 -> 0 | J76: =shipcalls!AK76 -> 225 | K76: =shipcalls!AL76 -> 225 | L76: =shipcalls!AM76 -> 0 | M76: =shipcalls!AW76 -> 0 | N76: =shipcalls!AX76 -> 0 | O76: =shipcalls!AY76 -> 0 | P76: =D76+G76+J76+M76 -> 714 | Q76: =E76+H76+K76+N76 -> 714 | R76: =F76+I76+L76+O76 -> 0
C77: TP Tablas Ro-Ro | D77: =shipcalls!M77 -> 215 | E77: =shipcalls!N77 -> 215 | F77: =shipcalls!O77 -> 0 | G77: =shipcalls!Y77 -> 219 | H77: =shipcalls!Z77 -> 219 | I77: =shipcalls!AA77 -> 0 | J77: =shipcalls!AK77 -> 206 | K77: =shipcalls!AL77 -> 206 | L77: =shipcalls!AM77 -> 0 | M77: =shipcalls!AW77 -> 0 | N77: =shipcalls!AX77 -> 0 | O77: =shipcalls!AY77 -> 0 | P77: =D77+G77+J77+M77 -> 640 | Q77: =E77+H77+K77+N77 -> 640 | R77: =F77+I77+L77+O77 -> 0
C78: TP Tablas | D78: =shipcalls!M78 -> 26 | E78: =shipcalls!N78 -> 26 | F78: =shipcalls!O78 -> 0 | G78: =shipcalls!Y78 -> 29 | H78: =shipcalls!Z78 -> 29 | I78: =shipcalls!AA78 -> 0 | J78: =shipcalls!AK78 -> 19 | K78: =shipcalls!AL78 -> 19 | L78: =shipcalls!AM78 -> 0 | M78: =shipcalls!AW78 -> 0 | N78: =shipcalls!AX78 -> 0 | O78: =shipcalls!AY78 -> 0 | P78: =D78+G78+J78+M78 -> 74 | Q78: =E78+H78+K78+N78 -> 74 | R78: =F78+I78+L78+O78 -> 0
C79: TMO Romblon | D79: =shipcalls!M79 -> 506 | E79: =shipcalls!N79 -> 506 | F79: =shipcalls!O79 -> 0 | G79: =shipcalls!Y79 -> 503 | H79: =shipcalls!Z79 -> 502 | I79: =shipcalls!AA79 -> 1 | J79: =shipcalls!AK79 -> 496 | K79: =shipcalls!AL79 -> 496 | L79: =shipcalls!AM79 -> 0 | M79: =shipcalls!AW79 -> 0 | N79: =shipcalls!AX79 -> 0 | O79: =shipcalls!AY79 -> 0 | P79: =D79+G79+J79+M79 -> 1505 | Q79: =E79+H79+K79+N79 -> 1504 | R79: =F79+I79+L79+O79 -> 1
C80: TP Romblon Ro-Ro | D80: =shipcalls!M80 -> 496 | E80: =shipcalls!N80 -> 496 | F80: =shipcalls!O80 -> 0 | G80: =shipcalls!Y80 -> 489 | H80: =shipcalls!Z80 -> 489 | I80: =shipcalls!AA80 -> 0 | J80: =shipcalls!AK80 -> 488 | K80: =shipcalls!AL80 -> 488 | L80: =shipcalls!AM80 -> 0 | M80: =shipcalls!AW80 -> 0 | N80: =shipcalls!AX80 -> 0 | O80: =shipcalls!AY80 -> 0 | P80: =D80+G80+J80+M80 -> 1473 | Q80: =E80+H80+K80+N80 -> 1473 | R80: =F80+I80+L80+O80 -> 0
C81: TP Romblon | D81: =shipcalls!M81 -> 10 | E81: =shipcalls!N81 -> 10 | F81: =shipcalls!O81 -> 0 | G81: =shipcalls!Y81 -> 13 | H81: =shipcalls!Z81 -> 13 | I81: =shipcalls!AA81 -> 0 | J81: =shipcalls!AK81 -> 8 | K81: =shipcalls!AL81 -> 8 | L81: =shipcalls!AM81 -> 0 | M81: =shipcalls!AW81 -> 0 | N81: =shipcalls!AX81 -> 0 | O81: =shipcalls!AY81 -> 0 | P81: =D81+G81+J81+M81 -> 31 | Q81: =E81+H81+K81+N81 -> 31 | R81: =F81+I81+L81+O81 -> 0
... C84: Private Ports | D84: =shipcalls!M84 -> 1307 | E84: =shipcalls!N84 -> 1059 | F84: =shipcalls!O84 -> 248 | G84: =shipcalls!Y84 -> 1269 | H84: =shipcalls!Z84 -> 1040 | I84: =shipcalls!AA84 -> 229 | J84: =shipcalls!AK84 -> 1172 | K84: =shipcalls!AL84 -> 942 | L84: =shipcalls!AM84 -> 230 | M84: =shipcalls!AW84 -> 0 | N84: =shipcalls!AX84 -> 0 | O84: =shipcalls!AY84 -> 0 | P84: =D84+G84+J84+M84 -> 3748 | Q84: =E84+H84+K84+N84 -> 3041 | R84: =F84+I84+L84+O84 -> 707
B86: PMO Bicol | D86: =shipcalls!M86 -> 5415 | E86: =shipcalls!N86 -> 5404 | F86: =shipcalls!O86 -> 11 | G86: =shipcalls!Y86 -> 5560 | H86: =shipcalls!Z86 -> 5548 | I86: =shipcalls!AA86 -> 12 | J86: =shipcalls!AK86 -> 5367 | K86: =shipcalls!AL86 -> 5352 | L86: =shipcalls!AM86 -> 15 | M86: =shipcalls!AW86 -> 0 | N86: =shipcalls!AX86 -> 0 | O86: =shipcalls!AY86 -> 0 | P86: =D86+G86+J86+M86 -> 16342 | Q86: =E86+H86+K86+N86 -> 16304 | R86: =F86+I86+L86+O86 -> 38
C87: BP Legazpi | D87: =shipcalls!M87 -> 152 | E87: =shipcalls!N87 -> 152 | F87: =shipcalls!O87 -> 0 | G87: =shipcalls!Y87 -> 186 | H87: =shipcalls!Z87 -> 185 | I87: =shipcalls!AA87 -> 1 | J87: =shipcalls!AK87 -> 185 | K87: =shipcalls!AL87 -> 184 | L87: =shipcalls!AM87 -> 1 | M87: =shipcalls!AW87 -> 0 | N87: =shipcalls!AX87 -> 0 | O87: =shipcalls!AY87 -> 0 | P87: =D87+G87+J87+M87 -> 523 | Q87: =E87+H87+K87+N87 -> 521 | R87: =F87+I87+L87+O87 -> 2
C88: BP Legazpi | D88: =shipcalls!M88 -> 152 | E88: =shipcalls!N88 -> 152 | F88: =shipcalls!O88 -> 0 | G88: =shipcalls!Y88 -> 186 | H88: =shipcalls!Z88 -> 185 | I88: =shipcalls!AA88 -> 1 | J88: =shipcalls!AK88 -> 185 | K88: =shipcalls!AL88 -> 184 | L88: =shipcalls!AM88 -> 1 | M88: =shipcalls!AW88 -> 0 | N88: =shipcalls!AX88 -> 0 | O88: =shipcalls!AY88 -> 0 | P88: =D88+G88+J88+M88 -> 523 | Q88: =E88+H88+K88+N88 -> 521 | R88: =F88+I88+L88+O88 -> 2
C89: TMO Bulan | D89: =shipcalls!M89 -> 416 | E89: =shipcalls!N89 -> 416 | F89: =shipcalls!O89 -> 0 | G89: =shipcalls!Y89 -> 364 | H89: =shipcalls!Z89 -> 364 | I89: =shipcalls!AA89 -> 0 | J89: =shipcalls!AK89 -> 331 | K89: =shipcalls!AL89 -> 331 | L89: =shipcalls!AM89 -> 0 | M89: =shipcalls!AW89 -> 0 | N89: =shipcalls!AX89 -> 0 | O89: =shipcalls!AY89 -> 0 | P89: =D89+G89+J89+M89 -> 1111 | Q89: =E89+H89+K89+N89 -> 1111 | R89: =F89+I89+L89+O89 -> 0
C90: TP Bulan Ro-Ro | D90: =shipcalls!M90 -> 248 | E90: =shipcalls!N90 -> 248 | F90: =shipcalls!O90 -> 0 | G90: =shipcalls!Y90 -> 183 | H90: =shipcalls!Z90 -> 183 | I90: =shipcalls!AA90 -> 0 | J90: =shipcalls!AK90 -> 188 | K90: =shipcalls!AL90 -> 188 | L90: =shipcalls!AM90 -> 0 | M90: =shipcalls!AW90 -> 0 | N90: =shipcalls!AX90 -> 0 | O90: =shipcalls!AY90 -> 0 | P90: =D90+G90+J90+M90 -> 619 | Q90: =E90+H90+K90+N90 -> 619 | R90: =F90+I90+L90+O90 -> 0
C91: TP Bulan | D91: =shipcalls!M91 -> 167 | E91: =shipcalls!N91 -> 167 | F91: =shipcalls!O91 -> 0 | G91: =shipcalls!Y91 -> 181 | H91: =shipcalls!Z91 -> 181 | I91: =shipcalls!AA91 -> 0 | J91: =shipcalls!AK91 -> 142 | K91: =shipcalls!AL91 -> 142 | L91: =shipcalls!AM91 -> 0 | M91: =shipcalls!AW91 -> 0 | N91: =shipcalls!AX91 -> 0 | O91: =shipcalls!AY91 -> 0 | P91: =D91+G91+J91+M91 -> 490 | Q91: =E91+H91+K91+N91 -> 490 | R91: =F91+I91+L91+O91 -> 0
C92: TP Bulan (Anchorage) | D92: =shipcalls!M92 -> 1 | E92: =shipcalls!N92 -> 1 | F92: =shipcalls!O92 -> 0 | G92: =shipcalls!Y92 -> 0 | H92: =shipcalls!Z92 -> 0 | I92: =shipcalls!AA92 -> 0 | J92: =shipcalls!AK92 -> 1 | K92: =shipcalls!AL92 -> 1 | L92: =shipcalls!AM92 -> 0 | M92: =shipcalls!AW92 -> 0 | N92: =shipcalls!AX92 -> 0 | O92: =shipcalls!AY92 -> 0 | P92: =D92+G92+J92+M92 -> 2 | Q92: =E92+H92+K92+N92 -> 2 | R92: =F92+I92+L92+O92 -> 0
C93: TMO Matnog | D93: =shipcalls!M93 -> 2034 | E93: =shipcalls!N93 -> 2034 | F93: =shipcalls!O93 -> 0 | G93: =shipcalls!Y93 -> 2107 | H93: =shipcalls!Z93 -> 2107 | I93: =shipcalls!AA93 -> 0 | J93: =shipcalls!AK93 -> 2011 | K93: =shipcalls!AL93 -> 2011 | L93: =shipcalls!AM93 -> 0 | M93: =shipcalls!AW93 -> 0 | N93: =shipcalls!AX93 -> 0 | O93: =shipcalls!AY93 -> 0 | P93: =D93+G93+J93+M93 -> 6152 | Q93: =E93+H93+K93+N93 -> 6152 | R93: =F93+I93+L93+O93 -> 0
C94: TP Matnog Ro-Ro | D94: =shipcalls!M94 -> 2034 | E94: =shipcalls!N94 -> 2034 | F94: =shipcalls!O94 -> 0 | G94: =shipcalls!Y94 -> 2107 | H94: =shipcalls!Z94 -> 2107 | I94: =shipcalls!AA94 -> 0 | J94: =shipcalls!AK94 -> 2009 | K94: =shipcalls!AL94 -> 2009 | L94: =shipcalls!AM94 -> 0 | M94: =shipcalls!AW94 -> 0 | N94: =shipcalls!AX94 -> 0 | O94: =shipcalls!AY94 -> 0 | P94: =D94+G94+J94+M94 -> 6150 | Q94: =E94+H94+K94+N94 -> 6150 | R94: =F94+I94+L94+O94 -> 0
C95: TP Matnog (Anchorage) | D95: =shipcalls!M95 -> 0 | E95: =shipcalls!N95 -> 0 | F95: =shipcalls!O95 -> 0 | G95: =shipcalls!Y95 -> 0 | H95: =shipcalls!Z95 -> 0 | I95: =shipcalls!AA95 -> 0 | J95: =shipcalls!AK95 -> 2 | K95: =shipcalls!AL95 -> 2 | L95: =shipcalls!AM95 -> 0 | M95: =shipcalls!AW95 -> 0 | N95: =shipcalls!AX95 -> 0 | O95: =shipcalls!AY95 -> 0 | P95: =D95+G95+J95+M95 -> 2 | Q95: =E95+H95+K95+N95 -> 2 | R95: =F95+I95+L95+O95 -> 0
C96: TMO Camarines | D96: =shipcalls!M96 -> 206 | E96: =shipcalls!N96 -> 206 | F96: =shipcalls!O96 -> 0 | G96: =shipcalls!Y96 -> 223 | H96: =shipcalls!Z96 -> 223 | I96: =shipcalls!AA96 -> 0 | J96: =shipcalls!AK96 -> 166 | K96: =shipcalls!AL96 -> 166 | L96: =shipcalls!AM96 -> 0 | M96: =shipcalls!AW96 -> 0 | N96: =shipcalls!AX96 -> 0 | O96: =shipcalls!AY96 -> 0 | P96: =D96+G96+J96+M96 -> 595 | Q96: =E96+H96+K96+N96 -> 595 | R96: =F96+I96+L96+O96 -> 0
C97: TP Pasacao Ro-Ro | D97: =shipcalls!M97 -> 125 | E97: =shipcalls!N97 -> 125 | F97: =shipcalls!O97 -> 0 | G97: =shipcalls!Y97 -> 120 | H97: =shipcalls!Z97 -> 120 | I97: =shipcalls!AA97 -> 0 | J97: =shipcalls!AK97 -> 109 | K97: =shipcalls!AL97 -> 109 | L97: =shipcalls!AM97 -> 0 | M97: =shipcalls!AW97 -> 0 | N97: =shipcalls!AX97 -> 0 | O97: =shipcalls!AY97 -> 0 | P97: =D97+G97+J97+M97 -> 354 | Q97: =E97+H97+K97+N97 -> 354 | R97: =F97+I97+L97+O97 -> 0
C98: TP Pasacao | D98: =shipcalls!M98 -> 81 | E98: =shipcalls!N98 -> 81 | F98: =shipcalls!O98 -> 0 | G98: =shipcalls!Y98 -> 103 | H98: =shipcalls!Z98 -> 103 | I98: =shipcalls!AA98 -> 0 | J98: =shipcalls!AK98 -> 57 | K98: =shipcalls!AL98 -> 57 | L98: =shipcalls!AM98 -> 0 | M98: =shipcalls!AW98 -> 0 | N98: =shipcalls!AX98 -> 0 | O98: =shipcalls!AY98 -> 0 | P98: =D98+G98+J98+M98 -> 241 | Q98: =E98+H98+K98+N98 -> 241 | R98: =F98+I98+L98+O98 -> 0
... C105: TP Tabaco (Anchorage) | D105: =shipcalls!M105 -> 1 | E105: =shipcalls!N105 -> 0 | F105: =shipcalls!O105 -> 1 | G105: =shipcalls!Y105 -> 0 | H105: =shipcalls!Z105 -> 0 | I105: =shipcalls!AA105 -> 0 | J105: =shipcalls!AK105 -> 1 | K105: =shipcalls!AL105 -> 0 | L105: =shipcalls!AM105 -> 1 | M105: =shipcalls!AW105 -> 0 | N105: =shipcalls!AX105 -> 0 | O105: =shipcalls!AY105 -> 0 | P105: =D105+G105+J105+M105 -> 2 | Q105: =E105+H105+K105+N105 -> 0 | R105: =F105+I105+L105+O105 -> 2
C106: TMO Catanduanes | D106: =shipcalls!M106 -> 272 | E106: =SUM(E107:E108) -> 272 | F106: =shipcalls!O106 -> 0 | G106: =shipcalls!Y106 -> 239 | H106: =shipcalls!Z106 -> 239 | I106: =shipcalls!AA106 -> 0 | J106: =shipcalls!AK106 -> 294 | K106: =shipcalls!AL106 -> 294 | L106: =shipcalls!AM106 -> 0 | M106: =shipcalls!AW106 -> 0 | N106: =shipcalls!AX106 -> 0 | O106: =shipcalls!AY106 -> 0 | P106: =D106+G106+J106+M106 -> 805 | Q106: =E106+H106+K106+N106 -> 805 | R106: =F106+I106+L106+O106 -> 0
C107: TP Virac Ro-Ro | D107: =shipcalls!M107 -> 245 | E107: =shipcalls!N107 -> 245 | F107: =shipcalls!O107 -> 0 | G107: =shipcalls!Y107 -> 206 | H107: =shipcalls!Z107 -> 206 | I107: =shipcalls!AA107 -> 0 | J107: =shipcalls!AK107 -> 270 | K107: =shipcalls!AL107 -> 270 | L107: =shipcalls!AM107 -> 0 | M107: =shipcalls!AW107 -> 0 | N107: =shipcalls!AX107 -> 0 | O107: =shipcalls!AY107 -> 0 | P107: =D107+G107+J107+M107 -> 721 | Q107: =E107+H107+K107+N107 -> 721 | R107: =F107+I107+L107+O107 -> 0
C108: TP Virac | D108: =shipcalls!M108 -> 27 | E108: =shipcalls!N108 -> 27 | F108: =shipcalls!O108 -> 0 | G108: =shipcalls!Y108 -> 33 | H108: =shipcalls!Z108 -> 33 | I108: =shipcalls!AA108 -> 0 | J108: =shipcalls!AK108 -> 24 | K108: =shipcalls!AL108 -> 24 | L108: =shipcalls!AM108 -> 0 | M108: =shipcalls!AW108 -> 0 | N108: =shipcalls!AX108 -> 0 | O108: =shipcalls!AY108 -> 0 | P108: =D108+G108+J108+M108 -> 84 | Q108: =E108+H108+K108+N108 -> 84 | R108: =F108+I108+L108+O108 -> 0
C109: Government Ports | D109: =shipcalls!M109 -> 937 | E109: =shipcalls!N109 -> 936 | F109: =shipcalls!O109 -> 1 | G109: =shipcalls!Y109 -> 1052 | H109: =shipcalls!Z109 -> 1052 | I109: =shipcalls!AA109 -> 0 | J109: =shipcalls!AK109 -> 1010 | K109: =shipcalls!AL109 -> 1009 | L109: =shipcalls!AM109 -> 1 | M109: =shipcalls!AW109 -> 0 | N109: =shipcalls!AX109 -> 0 | O109: =shipcalls!AY109 -> 0 | P109: =D109+G109+J109+M109 -> 2999 | Q109: =E109+H109+K109+N109 -> 2997 | R109: =F109+I109+L109+O109 -> 2
C110: Private Ports | D110: =shipcalls!M110 -> 151 | E110: =shipcalls!N110 -> 146 | F110: =shipcalls!O110 -> 5 | G110: =shipcalls!Y110 -> 148 | H110: =shipcalls!Z110 -> 145 | I110: =shipcalls!AA110 -> 3 | J110: =shipcalls!AK110 -> 186 | K110: =shipcalls!AL110 -> 179 | L110: =shipcalls!AM110 -> 7 | M110: =shipcalls!AW110 -> 0 | N110: =shipcalls!AX110 -> 0 | O110: =shipcalls!AY110 -> 0 | P110: =D110+G110+J110+M110 -> 485 | Q110: =E110+H110+K110+N110 -> 470 | R110: =F110+I110+L110+O110 -> 15
B112: PMO Palawan | D112: =shipcalls!M112 -> 5631 | E112: =shipcalls!N112 -> 5478 | F112: =shipcalls!O112 -> 153 | G112: =shipcalls!Y112 -> 4271 | H112: =shipcalls!Z112 -> 4126 | I112: =shipcalls!AA112 -> 145 | J112: =shipcalls!AK112 -> 2127 | K112: =shipcalls!AL112 -> 2031 | L112: =shipcalls!AM112 -> 96 | M112: =shipcalls!AW112 -> 0 | N112: =shipcalls!AX112 -> 0 | O112: =shipcalls!AY112 -> 0 | P112: =D112+G112+J112+M112 -> 12029 | Q112: =E112+H112+K112+N112 -> 11635 | R112: =F112+I112+L112+O112 -> 394
C113: BP Puerto Princesa | D113: =shipcalls!M113 -> 264 | E113: =shipcalls!N113 -> 235 | F113: =shipcalls!O113 -> 29 | G113: =shipcalls!Y113 -> 370 | H113: =shipcalls!Z113 -> 351 | I113: =shipcalls!AA113 -> 19 | J113: =shipcalls!AK113 -> 224 | K113: =shipcalls!AL113 -> 210 | L113: =shipcalls!AM113 -> 14 | M113: =shipcalls!AW113 -> 0 | N113: =shipcalls!AX113 -> 0 | O113: =shipcalls!AY113 -> 0 | P113: =D113+G113+J113+M113 -> 858 | Q113: =E113+H113+K113+N113 -> 796 | R113: =F113+I113+L113+O113 -> 62
C114: BP Puerto Princesa Ro-Ro | D114: =shipcalls!M114 -> 41 | E114: =shipcalls!N114 -> 41 | F114: =shipcalls!O114 -> 0 | G114: =shipcalls!Y114 -> 53 | H114: =shipcalls!Z114 -> 53 | I114: =shipcalls!AA114 -> 0 | J114: =shipcalls!AK114 -> 56 | K114: =shipcalls!AL114 -> 56 | L114: =shipcalls!AM114 -> 0 | M114: =shipcalls!AW114 -> 0 | N114: =shipcalls!AX114 -> 0 | O114: =shipcalls!AY114 -> 0 | P114: =D114+G114+J114+M114 -> 150 | Q114: =E114+H114+K114+N114 -> 150 | R114: =F114+I114+L114+O114 -> 0
C115: BP Puerto Princesa | D115: =shipcalls!M115 -> 206 | E115: =shipcalls!N115 -> 190 | F115: =shipcalls!O115 -> 16 | G115: =shipcalls!Y115 -> 294 | H115: =shipcalls!Z115 -> 282 | I115: =shipcalls!AA115 -> 12 | J115: =shipcalls!AK115 -> 160 | K115: =shipcalls!AL115 -> 153 | L115: =shipcalls!AM115 -> 7 | M115: =shipcalls!AW115 -> 0 | N115: =shipcalls!AX115 -> 0 | O115: =shipcalls!AY115 -> 0 | P115: =D115+G115+J115+M115 -> 660 | Q115: =E115+H115+K115+N115 -> 625 | R115: =F115+I115+L115+O115 -> 35
C116: BP Puerto Princesa (Anchorage) | D116: =shipcalls!M116 -> 17 | E116: =shipcalls!N116 -> 4 | F116: =shipcalls!O116 -> 13 | G116: =shipcalls!Y116 -> 23 | H116: =shipcalls!Z116 -> 16 | I116: =shipcalls!AA116 -> 7 | J116: =shipcalls!AK116 -> 8 | K116: =shipcalls!AL116 -> 1 | L116: =shipcalls!AM116 -> 7 | M116: =shipcalls!AW116 -> 0 | N116: =shipcalls!AX116 -> 0 | O116: =shipcalls!AY116 -> 0 | P116: =D116+G116+J116+M116 -> 48 | Q116: =E116+H116+K116+N116 -> 21 | R116: =F116+I116+L116+O116 -> 27
C117: TMO Brooke's Point | D117: =shipcalls!M117 -> 30 | E117: =shipcalls!N117 -> 30 | F117: =shipcalls!O117 -> 0 | G117: =shipcalls!Y117 -> 39 | H117: =shipcalls!Z117 -> 39 | I117: =shipcalls!AA117 -> 0 | J117: =shipcalls!AK117 -> 31 | K117: =shipcalls!AL117 -> 31 | L117: =shipcalls!AM117 -> 0 | M117: =shipcalls!AW117 -> 0 | N117: =shipcalls!AX117 -> 0 | O117: =shipcalls!AY117 -> 0 | P117: =D117+G117+J117+M117 -> 100 | Q117: =E117+H117+K117+N117 -> 100 | R117: =F117+I117+L117+O117 -> 0
C118: TP Brooke's Point | D118: =shipcalls!M118 -> 29 | E118: =shipcalls!N118 -> 29 | F118: =shipcalls!O118 -> 0 | G118: =shipcalls!Y118 -> 39 | H118: =shipcalls!Z118 -> 39 | I118: =shipcalls!AA118 -> 0 | J118: =shipcalls!AK118 -> 28 | K118: =shipcalls!AL118 -> 28 | L118: =shipcalls!AM118 -> 0 | M118: =shipcalls!AW118 -> 0 | N118: =shipcalls!AX118 -> 0 | O118: =shipcalls!AY118 -> 0 | P118: =D118+G118+J118+M118 -> 96 | Q118: =E118+H118+K118+N118 -> 96 | R118: =F118+I118+L118+O118 -> 0
C119: TP Brooke's Point (Anchorage) | D119: =shipcalls!M119 -> 1 | E119: =shipcalls!N119 -> 1 | F119: =shipcalls!O119 -> 0 | G119: =shipcalls!Y119 -> 0 | H119: =shipcalls!Z119 -> 0 | I119: =shipcalls!AA119 -> 0 | J119: =shipcalls!AK119 -> 3 | K119: =shipcalls!AL119 -> 3 | L119: =shipcalls!AM119 -> 0 | M119: =shipcalls!AW119 -> 0 | N119: =shipcalls!AX119 -> 0 | O119: =shipcalls!AY119 -> 0 | P119: =D119+G119+J119+M119 -> 4 | Q119: =E119+H119+K119+N119 -> 4 | R119: =F119+I119+L119+O119 -> 0
C120: TMO Coron | D120: =shipcalls!M120 -> 1953 | E120: =shipcalls!N120 -> 1943 | F120: =shipcalls!O120 -> 10 | G120: =shipcalls!Y120 -> 1407 | H120: =shipcalls!Z120 -> 1399 | I120: =shipcalls!AA120 -> 8 | J120: =shipcalls!AK120 -> 662 | K120: =shipcalls!AL120 -> 662 | L120: =shipcalls!AM120 -> 0 | M120: =shipcalls!AW120 -> 0 | N120: =shipcalls!AX120 -> 0 | O120: =shipcalls!AY120 -> 0 | P120: =D120+G120+J120+M120 -> 4022 | Q120: =E120+H120+K120+N120 -> 4004 | R120: =F120+I120+L120+O120 -> 18
C121: TP Coron Ro-Ro | D121: =shipcalls!M121 -> 140 | E121: =shipcalls!N121 -> 140 | F121: =shipcalls!O121 -> 0 | G121: =shipcalls!Y121 -> 156 | H121: =shipcalls!Z121 -> 156 | I121: =shipcalls!AA121 -> 0 | J121: =shipcalls!AK121 -> 122 | K121: =shipcalls!AL121 -> 122 | L121: =shipcalls!AM121 -> 0 | M121: =shipcalls!AW121 -> 0 | N121: =shipcalls!AX121 -> 0 | O121: =shipcalls!AY121 -> 0 | P121: =D121+G121+J121+M121 -> 418 | Q121: =E121+H121+K121+N121 -> 418 | R121: =F121+I121+L121+O121 -> 0
...

Sheet shipcalls
A1: SHIPPING STATISTICS BY PMO/PORT
A2: Philippine Ports Authority
A3: 2026
A4: SHIPCALLS
A6: Port Management Offices | D6: January | G6: February | J6: March | M6: 1st Quarter | P6: April | S6: May | V6: June | Y6: 2nd Quarter | AB6: July | AE6: August | AH6: September | AK6: 3rd Quarter | AN6: October | AQ6: November | AT6: December | AW6: 4th Quarter | AZ6: GRAND TOTAL
D7: Total | E7: Domestic | F7: Foreign | G7: Total | H7: Domestic | I7: Foreign | J7: Total | K7: Domestic | L7: Foreign | M7: Total | N7: Domestic | O7: Foreign | P7: Total | Q7: Domestic | R7: Foreign | S7: Total | T7: Domestic | U7: Foreign | V7: Total | W7: Domestic | X7: Foreign | Y7: Total | Z7: Domestic | AA7: Foreign | AB7: Total | AC7: Domestic | AD7: Foreign | AE7: Total | AF7: Domestic | AG7: Foreign | AH7: Total | AI7: Domestic | AJ7: Foreign | AK7: Total | AL7: Domestic | AM7: Foreign | AN7: Total | AO7: Domestic | AP7: Foreign | AQ7: Total | AR7: Domestic | AS7: Foreign | AT7: Total | AU7: Domestic | AV7: Foreign | AW7: Total | AX7: Domestic | AY7: Foreign | AZ7: Total | BA7: Domestic | BB7: Foreign
A10: Manila/Northern Luzon | D10: =SUM(E10:F10) -> 1798 | E10: =E12+E23+E27+E36+E53 -> 1448 | F10: =F12+F23+F27+F36+F53 -> 350 | G10: =SUM(H10:I10) -> 1652 | H10: =H12+H23+H27+H36+H53 -> 1321 | I10: =I12+I23+I27+I36+I53 -> 331 | J10: =SUM(K10:L10) -> 1807 | K10: =K12+K23+K27+K36+K53 -> 1447 | L10: =L12+L23+L27+L36+L53 -> 360 | M10: =SUM(N10:O10) -> 5257 | N10: =N12+N23+N27+N36+N53 -> 4216 | O10: =O12+O23+O27+O36+O53 -> 1041 | P10: =SUM(Q10:R10) -> 1721 | Q10: =Q12+Q23+Q27+Q36+Q53 -> 1384 | R10: =R12+R23+R27+R36+R53 -> 337 | S10: =SUM(T10:U10) -> 1855 | T10: =T12+T23+T27+T36+T53 -> 1513 | U10: =U12+U23+U27+U36+U53 -> 342 | V10: =SUM(W10:X10) -> 1775 | W10: =W12+W23+W27+W36+W53 -> 1437 | X10: =X12+X23+X27+X36+X53 -> 338 | Y10: =SUM(Z10:AA10) -> 5351 | Z10: =Z12+Z23+Z27+Z36+Z53 -> 4334 | AA10: =AA12+AA23+AA27+AA36+AA53 -> 1017 | AB10: =SUM(AC10:AD10) -> 1832 | AC10: =AC12+AC23+AC27+AC36+AC53 -> 1510 | AD10: =AD12+AD23+AD27+AD36+AD53 -> 322 | AE10: =SUM(AF10:AG10) -> 1407 | AF10: =AF12+AF23+AF27+AF36+AF53 -> 1129 | AG10: =AG12+AG23+AG27+AG36+AG53 -> 278 | AH10: =SUM(AI10:AJ10) -> 1505 | AI10: =AI12+AI23+AI27+AI36+AI53 -> 1211 | AJ10: =AJ12+AJ23+AJ27+AJ36+AJ53 -> 294 | AK10: =SUM(AL10:AM10) -> 4744 | AL10: =AL12+AL23+AL27+AL36+AL53 -> 3850 | AM10: =AM12+AM23+AM27+AM36+AM53 -> 894 | AN10: =SUM(AO10:AP10) -> 0 | AO10: =AO12+AO23+AO27+AO36+AO53 -> 0 | AP10: =AP12+AP23+AP27+AP36+AP53 -> 0 | AQ10: =SUM(AR10:AS10) -> 0 | AR10: =AR12+AR23+AR27+AR36+AR53 -> 0 | AS10: =AS12+AS23+AS27+AS36+AS53 -> 0 | AT10: =SUM(AU10:AV10) -> 0 | AU10: =AU12+AU23+AU27+AU36+AU53 -> 0 | AV10: =AV12+AV23+AV27+AV36+AV53 -> 0 | AW10: =SUM(AX10:AY10) -> 0 | AX10: =AX12+AX23+AX27+AX36+AX53 -> 0 | AY10: =AY12+AY23+AY27+AY36+AY53 -> 0 | AZ10: =SUM(BA10:BB10) -> 15352 | BA10: =BA12+BA23+BA27+BA36+BA53 -> 12400 | BB10: =BB12+BB23+BB27+BB36+BB53 -> 2952
B12: PMO NCR South | D12: =SUM(E12:F12) -> 353 | E12: =E13+E18+E21 -> 246 | F12: =F13+F18+F21 -> 107 | G12: =SUM(H12:I12) -> 295 | H12: =H13+H18+H21 -> 191 | I12: =I13+I18+I21 -> 104 | J12: =SUM(K12:L12) -> 314 | K12: =K13+K18+K21 -> 188 | L12: =L13+L18+L21 -> 126 | M12: =SUM(N12:O12) -> 962 | N12: =N13+N18+N21 -> 625 | O12: =O13+O18+O21 -> 337 | P12: =SUM(Q12:R12) -> 288 | Q12: =Q13+Q18+Q21 -> 174 | R12: =R13+R18+R21 -> 114 | S12: =SUM(T12:U12) -> 301 | T12: =T13+T18+T21 -> 184 | U12: =U13+U18+U21 -> 117 | V12: =SUM(W12:X12) -> 321 | W12: =W13+W18+W21 -> 210 | X12: =X13+X18+X21 -> 111 | Y12: =SUM(Z12:AA12) -> 910 | Z12: =Z13+Z18+Z21 -> 568 | AA12: =AA13+AA18+AA21 -> 342 | AB12: =SUM(AC12:AD12) -> 296 | AC12: =AC13+AC18+AC21 -> 184 | AD12: =AD13+AD18+AD21 -> 112 | AE12: =SUM(AF12:AG12) -> 258 | AF12: =AF13+AF18+AF21 -> 157 | AG12: =AG13+AG18+AG21 -> 101 | AH12: =SUM(AI12:AJ12) -> 292 | AI12: =AI13+AI18+AI21 -> 193 | AJ12: =AJ13+AJ18+AJ21 -> 99 | AK12: =SUM(AL12:AM12) -> 846 | AL12: =AL13+AL18+AL21 -> 534 | AM12: =AM13+AM18+AM21 -> 312 | AN12: =SUM(AO12:AP12) -> 0 | AO12: =AO13+AO18+AO21 -> 0 | AP12: =AP13+AP18+AP21 -> 0 | AQ12: =SUM(AR12:AS12) -> 0 | AR12: =AR13+AR18+AR21 -> 0 | AS12: =AS13+AS18+AS21 -> 0 | AT12: =SUM(AU12:AV12) -> 0 | AU12: =AU13+AU18+AU21 -> 0 | AV12: =AV13+AV18+AV21 -> 0 | AW12: =SUM(AX12:AY12) -> 0 | AX12: =AX13+AX18+AX21 -> 0 | AY12: =AY13+AY18+AY21 -> 0 | AZ12: =SUM(BA12:BB12) -> 2718 | BA12: =BA13+BA18+BA21 -> 1727 | BB12: =BB13+BB18+BB21 -> 991
C13: BP South Harbor | D13: =SUM(E13:F13) -> 107 | E13: =SUM(E14:E17) -> 0 | F13: =SUM(F14:F17) -> 107 | G13: =SUM(H13:I13) -> 104 | H13: =SUM(H14:H17) -> 0 | I13: =SUM(I14:I17) -> 104 | J13: =SUM(K13:L13) -> 126 | K13: =SUM(K14:K17) -> 0 | L13: =SUM(L14:L17) -> 126 | M13: =SUM(N13:O13) -> 337 | N13: =SUM(N14:N17) -> 0 | O13: =SUM(O14:O17) -> 337 | P13: =SUM(Q13:R13) -> 114 | Q13: =SUM(Q14:Q17) -> 0 | R13: =SUM(R14:R17) -> 114 | S13: =SUM(T13:U13) -> 117 | T13: =SUM(T14:T17) -> 0 | U13: =SUM(U14:U17) -> 117 | V13: =SUM(W13:X13) -> 111 | W13: =SUM(W14:W17) -> 0 | X13: =SUM(X14:X17) -> 111 | Y13: =SUM(Z13:AA13) -> 342 | Z13: =SUM(Z14:Z17) -> 0 | AA13: =SUM(AA14:AA17) -> 342 | AB13: =SUM(AC13:AD13) -> 112 | AC13: =SUM(AC14:AC17) -> 0 | AD13: =SUM(AD14:AD17) -> 112 | AE13: =SUM(AF13:AG13) -> 101 | AF13: =SUM(AF14:AF17) -> 0 | AG13: =SUM(AG14:AG17) -> 101 | AH13: =SUM(AI13:AJ13) -> 99 | AI13: =SUM(AI14:AI17) -> 0 | AJ13: =SUM(AJ14:AJ17) -> 99 | AK13: =SUM(AL13:AM13) -> 312 | AL13: =SUM(AL14:AL17) -> 0 | AM13: =SUM(AM14:AM17) -> 312 | AN13: =SUM(AO13:AP13) -> 0 | AO13: =SUM(AO14:AO17) -> 0 | AP13: =SUM(AP14:AP17) -> 0 | AQ13: =SUM(AR13:AS13) -> 0 | AR13: =SUM(AR14:AR17) -> 0 | AS13: =SUM(AS14:AS17) -> 0 | AT13: =SUM(AU13:AV13) -> 0 | AU13: =SUM(AU14:AU17) -> 0 | AV13: =SUM(AV14:AV17) -> 0 | AW13: =SUM(AX13:AY13) -> 0 | AX13: =SUM(AX14:AX17) -> 0 | AY13: =SUM(AY14:AY17) -> 0 | AZ13: =SUM(BA13:BB13) -> 991 | BA13: =SUM(BA14:BA17) -> 0 | BB13: =SUM(BB14:BB17) -> 991
C14: Pier 3 | D14: =E14+F14 -> 38 | E14: 0 | F14: 38 | G14: =H14+I14 -> 36 | H14: 0 | I14: 36 | J14: =K14+L14 -> 35 | K14: 0 | L14: 35 | M14: =N14+O14 -> 109 | N14: =+E14+H14+K14 -> 0 | O14: =+F14+I14+L14 -> 109 | P14: =Q14+R14 -> 29 | Q14: 0 | R14: 29 | S14: =T14+U14 -> 31 | T14: 0 | U14: 31 | V14: =W14+X14 -> 36 | W14: 0 | X14: 36 | Y14: =Z14+AA14 -> 96 | Z14: =+Q14+T14+W14 -> 0 | AA14: =+R14+U14+X14 -> 96 | AB14: =AC14+AD14 -> 41 | AC14: 0 | AD14: 41 | AE14: =AF14+AG14 -> 36 | AF14: 0 | AG14: 36 | AH14: =AI14+AJ14 -> 32 | AI14: 0 | AJ14: 32 | AK14: =AL14+AM14 -> 109 | AL14: =+AC14+AF14+AI14 -> 0 | AM14: =+AD14+AG14+AJ14 -> 109 | AN14: =AO14+AP14 -> 0 | AO14: 0 | AP14: 0 | AQ14: =AR14+AS14 -> 0 | AR14: 0 | AS14: 0 | AT14: =AU14+AV14 -> 0 | AU14: 0 | AV14: 0 | AW14: =AX14+AY14 -> 0 | AX14: =+AO14+AR14+AU14 -> 0 | AY14: =+AP14+AS14+AV14 -> 0 | AZ14: =BA14+BB14 -> 314 | BA14: =N14+Z14+AL14+AX14 -> 0 | BB14: =O14+AA14+AM14+AY14 -> 314
C15: Pier 5 | D15: =E15+F15 -> 41 | E15: 0 | F15: 41 | G15: =H15+I15 -> 37 | H15: 0 | I15: 37 | J15: =K15+L15 -> 54 | K15: 0 | L15: 54 | M15: =N15+O15 -> 132 | N15: =+E15+H15+K15 -> 0 | O15: =+F15+I15+L15 -> 132 | P15: =Q15+R15 -> 53 | Q15: 0 | R15: 53 | S15: =T15+U15 -> 50 | T15: 0 | U15: 50 | V15: =W15+X15 -> 44 | W15: 0 | X15: 44 | Y15: =Z15+AA15 -> 147 | Z15: =+Q15+T15+W15 -> 0 | AA15: =+R15+U15+X15 -> 147 | AB15: =AC15+AD15 -> 39 | AC15: 0 | AD15: 39 | AE15: =AF15+AG15 -> 33 | AF15: 0 | AG15: 33 | AH15: =AI15+AJ15 -> 34 | AI15: 0 | AJ15: 34 | AK15: =AL15+AM15 -> 106 | AL15: =+AC15+AF15+AI15 -> 0 | AM15: =+AD15+AG15+AJ15 -> 106 | AN15: =AO15+AP15 -> 0 | AO15: 0 | AP15: 0 | AQ15: =AR15+AS15 -> 0 | AR15: 0 | AS15: 0 | AT15: =AU15+AV15 -> 0 | AU15: 0 | AV15: 0 | AW15: =AX15+AY15 -> 0 | AX15: =+AO15+AR15+AU15 -> 0 | AY15: =+AP15+AS15+AV15 -> 0 | AZ15: =BA15+BB15 -> 385 | BA15: =N15+Z15+AL15+AX15 -> 0 | BB15: =O15+AA15+AM15+AY15 -> 385
C16: Pier 15 | D16: =E16+F16 -> 11 | E16: 0 | F16: 11 | G16: =H16+I16 -> 11 | H16: 0 | I16: 11 | J16: =K16+L16 -> 21 | K16: 0 | L16: 21 | M16: =N16+O16 -> 43 | N16: =+E16+H16+K16 -> 0 | O16: =+F16+I16+L16 -> 43 | P16: =Q16+R16 -> 15 | Q16: 0 | R16: 15 | S16: =T16+U16 -> 20 | T16: 0 | U16: 20 | V16: =W16+X16 -> 14 | W16: 0 | X16: 14 | Y16: =Z16+AA16 -> 49 | Z16: =+Q16+T16+W16 -> 0 | AA16: =+R16+U16+X16 -> 49 | AB16: =AC16+AD16 -> 14 | AC16: 0 | AD16: 14 | AE16: =AF16+AG16 -> 8 | AF16: 0 | AG16: 8 | AH16: =AI16+AJ16 -> 9 | AI16: 0 | AJ16: 9 | AK16: =AL16+AM16 -> 31 | AL16: =+AC16+AF16+AI16 -> 0 | AM16: =+AD16+AG16+AJ16 -> 31 | AN16: =AO16+AP16 -> 0 | AO16: 0 | AP16: 0 | AQ16: =AR16+AS16 -> 0 | AR16: 0 | AS16: 0 | AT16: =AU16+AV16 -> 0 | AU16: 0 | AV16: 0 | AW16: =AX16+AY16 -> 0 | AX16: =+AO16+AR16+AU16 -> 0 | AY16: =+AP16+AS16+AV16 -> 0 | AZ16: =BA16+BB16 -> 123 | BA16: =N16+Z16+AL16+AX16 -> 0 | BB16: =O16+AA16+AM16+AY16 -> 123
C17: South Harbor (Anchorage) | D17: =E17+F17 -> 17 | E17: 0 | F17: 17 | G17: =H17+I17 -> 20 | H17: 0 | I17: 20 | J17: =K17+L17 -> 16 | K17: 0 | L17: 16 | M17: =N17+O17 -> 53 | N17: =+E17+H17+K17 -> 0 | O17: =+F17+I17+L17 -> 53 | P17: =Q17+R17 -> 17 | Q17: 0 | R17: 17 | S17: =T17+U17 -> 16 | T17: 0 | U17: 16 | V17: =W17+X17 -> 17 | W17: 0 | X17: 17 | Y17: =Z17+AA17 -> 50 | Z17: =+Q17+T17+W17 -> 0 | AA17: =+R17+U17+X17 -> 50 | AB17: =AC17+AD17 -> 18 | AC17: 0 | AD17: 18 | AE17: =AF17+AG17 -> 24 | AF17: 0 | AG17: 24 | AH17: =AI17+AJ17 -> 24 | AI17: 0 | AJ17: 24 | AK17: =AL17+AM17 -> 66 | AL17: =+AC17+AF17+AI17 -> 0 | AM17: =+AD17+AG17+AJ17 -> 66 | AN17: =AO17+AP17 -> 0 | AO17: 0 | AP17: 0 | AQ17: =AR17+AS17 -> 0 | AR17: 0 | AS17: 0 | AT17: =AU17+AV17 -> 0 | AU17: 0 | AV17: 0 | AW17: =AX17+AY17 -> 0 | AX17: =+AO17+AR17+AU17 -> 0 | AY17: =+AP17+AS17+AV17 -> 0 | AZ17: =BA17+BB17 -> 169 | BA17: =N17+Z17+AL17+AX17 -> 0 | BB17: =O17+AA17+AM17+AY17 -> 169
C18: TMO Pasig | D18: =SUM(E18:F18) -> 113 | E18: =E19+E20 -> 113 | F18: =F19+F20 -> 0 | G18: =SUM(H18:I18) -> 99 | H18: =H19+H20 -> 99 | I18: =I19+I20 -> 0 | J18: =SUM(K18:L18) -> 113 | K18: =K19+K20 -> 113 | L18: =L19+L20 -> 0 | M18: =SUM(N18:O18) -> 325 | N18: =N19+N20 -> 325 | O18: =O19+O20 -> 0 | P18: =SUM(Q18:R18) -> 95 | Q18: =Q19+Q20 -> 95 | R18: =R19+R20 -> 0 | S18: =SUM(T18:U18) -> 86 | T18: =T19+T20 -> 86 | U18: =U19+U20 -> 0 | V18: =SUM(W18:X18) -> 104 | W18: =W19+W20 -> 104 | X18: =X19+X20 -> 0 | Y18: =SUM(Z18:AA18) -> 285 | Z18: =Z19+Z20 -> 285 | AA18: =AA19+AA20 -> 0 | AB18: =SUM(AC18:AD18) -> 103 | AC18: =AC19+AC20 -> 103 | AD18: =AD19+AD20 -> 0 | AE18: =SUM(AF18:AG18) -> 107 | AF18: =AF19+AF20 -> 107 | AG18: =AG19+AG20 -> 0 | AH18: =SUM(AI18:AJ18) -> 117 | AI18: =AI19+AI20 -> 117 | AJ18: =AJ19+AJ20 -> 0 | AK18: =SUM(AL18:AM18) -> 327 | AL18: =AL19+AL20 -> 327 | AM18: =AM19+AM20 -> 0 | AN18: =SUM(AO18:AP18) -> 0 | AO18: =AO19+AO20 -> 0 | AP18: =AP19+AP20 -> 0 | AQ18: =SUM(AR18:AS18) -> 0 | AR18: =AR19+AR20 -> 0 | AS18: =AS19+AS20 -> 0 | AT18: =SUM(AU18:AV18) -> 0 | AU18: =AU19+AU20 -> 0 | AV18: =AV19+AV20 -> 0 | AW18: =SUM(AX18:AY18) -> 0 | AX18: =AX19+AX20 -> 0 | AY18: =AY19+AY20 -> 0 | AZ18: =SUM(BA18:BB18) -> 937 | BA18: =BA19+BA20 -> 937 | BB18: =BB19+BB20 -> 0
C19: Terminal Pasig Bank - Government Bay & River | D19: =E19+F19 -> 68 | E19: 68 | F19: 0 | G19: =H19+I19 -> 58 | H19: 58 | I19: 0 | J19: =K19+L19 -> 69 | K19: 69 | L19: 0 | M19: =N19+O19 -> 195 | N19: =+E19+H19+K19 -> 195 | O19: =+F19+I19+L19 -> 0 | P19: =Q19+R19 -> 55 | Q19: 55 | R19: 0 | S19: =T19+U19 -> 43 | T19: 43 | U19: 0 | V19: =W19+X19 -> 59 | W19: 59 | X19: 0 | Y19: =Z19+AA19 -> 157 | Z19: =+Q19+T19+W19 -> 157 | AA19: =+R19+U19+X19 -> 0 | AB19: =AC19+AD19 -> 48 | AC19: 48 | AD19: 0 | AE19: =AF19+AG19 -> 61 | AF19: 61 | AG19: 0 | AH19: =AI19+AJ19 -> 68 | AI19: 68 | AJ19: 0 | AK19: =AL19+AM19 -> 177 | AL19: =+AC19+AF19+AI19 -> 177 | AM19: =+AD19+AG19+AJ19 -> 0 | AN19: =AO19+AP19 -> 0 | AO19: 0 | AP19: 0 | AQ19: =AR19+AS19 -> 0 | AR19: 0 | AS19: 0 | AT19: =AU19+AV19 -> 0 | AU19: 0 | AV19: 0 | AW19: =AX19+AY19 -> 0 | AX19: =+AO19+AR19+AU19 -> 0 | AY19: =+AP19+AS19+AV19 -> 0 | AZ19: =BA19+BB19 -> 529 | BA19: =N19+Z19+AL19+AX19 -> 529 | BB19: =O19+AA19+AM19+AY19 -> 0
C20: Terminal Pasig Bank - Government Coastwise | D20: =E20+F20 -> 45 | E20: 45 | F20: 0 | G20: =H20+I20 -> 41 | H20: 41 | I20: 0 | J20: =K20+L20 -> 44 | K20: 44 | L20: 0 | M20: =N20+O20 -> 130 | N20: =+E20+H20+K20 -> 130 | O20: =+F20+I20+L20 -> 0 | P20: =Q20+R20 -> 40 | Q20: 40 | R20: 0 | S20: =T20+U20 -> 43 | T20: 43 | U20: 0 | V20: =W20+X20 -> 45 | W20: 45 | X20: 0 | Y20: =Z20+AA20 -> 128 | Z20: =+Q20+T20+W20 -> 128 | AA20: =+R20+U20+X20 -> 0 | AB20: =AC20+AD20 -> 55 | AC20: 55 | AD20: 0 | AE20: =AF20+AG20 -> 46 | AF20: 46 | AG20: 0 | AH20: =AI20+AJ20 -> 49 | AI20: 49 | AJ20: 0 | AK20: =AL20+AM20 -> 150 | AL20: =+AC20+AF20+AI20 -> 150 | AM20: =+AD20+AG20+AJ20 -> 0 | AN20: =AO20+AP20 -> 0 | AO20: 0 | AP20: 0 | AQ20: =AR20+AS20 -> 0 | AR20: 0 | AS20: 0 | AT20: =AU20+AV20 -> 0 | AU20: 0 | AV20: 0 | AW20: =AX20+AY20 -> 0 | AX20: =+AO20+AR20+AU20 -> 0 | AY20: =+AP20+AS20+AV20 -> 0 | AZ20: =BA20+BB20 -> 408 | BA20: =N20+Z20+AL20+AX20 -> 408 | BB20: =O20+AA20+AM20+AY20 -> 0
C21: Private Ports | D21: =E21+F21 -> 133 | E21: 133 | F21: 0 | G21: =H21+I21 -> 92 | H21: 92 | I21: 0 | J21: =K21+L21 -> 75 | K21: 75 | L21: 0 | M21: =N21+O21 -> 300 | N21: =+E21+H21+K21 -> 300 | O21: =+F21+I21+L21 -> 0 | P21: =Q21+R21 -> 79 | Q21: 79 | R21: 0 | S21: =T21+U21 -> 98 | T21: 98 | U21: 0 | V21: =W21+X21 -> 106 | W21: 106 | X21: 0 | Y21: =Z21+AA21 -> 283 | Z21: =+Q21+T21+W21 -> 283 | AA21: =+R21+U21+X21 -> 0 | AB21: =AC21+AD21 -> 81 | AC21: 81 | AD21: 0 | AE21: =AF21+AG21 -> 50 | AF21: 50 | AG21: 0 | AH21: =AI21+AJ21 -> 76 | AI21: 76 | AJ21: 0 | AK21: =AL21+AM21 -> 207 | AL21: =+AC21+AF21+AI21 -> 207 | AM21: =+AD21+AG21+AJ21 -> 0 | AN21: =AO21+AP21 -> 0 | AO21: 0 | AP21: 0 | AQ21: =AR21+AS21 -> 0 | AR21: 0 | AS21: 0 | AT21: =AU21+AV21 -> 0 | AU21: 0 | AV21: 0 | AW21: =AX21+AY21 -> 0 | AX21: =+AO21+AR21+AU21 -> 0 | AY21: =+AP21+AS21+AV21 -> 0 | AZ21: =BA21+BB21 -> 790 | BA21: =N21+Z21+AL21+AX21 -> 790 | BB21: =O21+AA21+AM21+AY21 -> 0
C23: Manila International Container Terminal (MICT) | D23: =SUM(E23:F23) -> 120 | E23: =E24+E25 -> 0 | F23: =F24+F25 -> 120 | G23: =SUM(H23:I23) -> 112 | H23: =H24+H25 -> 0 | I23: =I24+I25 -> 112 | J23: =SUM(K23:L23) -> 121 | K23: =K24+K25 -> 0 | L23: =L24+L25 -> 121 | M23: =SUM(N23:O23) -> 353 | N23: =N24+N25 -> 0 | O23: =O24+O25 -> 353 | P23: =SUM(Q23:R23) -> 121 | Q23: =Q24+Q25 -> 0 | R23: =R24+R25 -> 121 | S23: =SUM(T23:U23) -> 122 | T23: =T24+T25 -> 0 | U23: =U24+U25 -> 122 | V23: =SUM(W23:X23) -> 120 | W23: =W24+W25 -> 0 | X23: =X24+X25 -> 120 | Y23: =SUM(Z23:AA23) -> 363 | Z23: =Z24+Z25 -> 0 | AA23: =AA24+AA25 -> 363 | AB23: =SUM(AC23:AD23) -> 121 | AC23: =AC24+AC25 -> 0 | AD23: =AD24+AD25 -> 121 | AE23: =SUM(AF23:AG23) -> 106 | AF23: =AF24+AF25 -> 0 | AG23: =AG24+AG25 -> 106 | AH23: =SUM(AI23:AJ23) -> 111 | AI23: =AI24+AI25 -> 0 | AJ23: =AJ24+AJ25 -> 111 | AK23: =SUM(AL23:AM23) -> 338 | AL23: =AL24+AL25 -> 0 | AM23: =AM24+AM25 -> 338 | AN23: =SUM(AO23:AP23) -> 0 | AO23: =AO24+AO25 -> 0 | AP23: =AP24+AP25 -> 0 | AQ23: =SUM(AR23:AS23) -> 0 | AR23: =AR24+AR25 -> 0 | AS23: =AS24+AS25 -> 0 | AT23: =SUM(AU23:AV23) -> 0 | AU23: =AU24+AU25 -> 0 | AV23: =AV24+AV25 -> 0 | AW23: =SUM(AX23:AY23) -> 0 | AX23: =AX24+AX25 -> 0 | AY23: =AY24+AY25 -> 0 | AZ23: =SUM(BA23:BB23) -> 1054 | BA23: =BA24+BA25 -> 0 | BB23: =BB24+BB25 -> 1054
C24: MICT | D24: =E24+F24 -> 115 | E24: 0 | F24: 115 | G24: =H24+I24 -> 110 | H24: 0 | I24: 110 | J24: =K24+L24 -> 119 | K24: 0 | L24: 119 | M24: =N24+O24 -> 344 | N24: =+E24+H24+K24 -> 0 | O24: =+F24+I24+L24 -> 344 | P24: =Q24+R24 -> 119 | Q24: 0 | R24: 119 | S24: =T24+U24 -> 121 | T24: 0 | U24: 121 | V24: =W24+X24 -> 117 | W24: 0 | X24: 117 | Y24: =Z24+AA24 -> 357 | Z24: =+Q24+T24+W24 -> 0 | AA24: =+R24+U24+X24 -> 357 | AB24: =AC24+AD24 -> 119 | AC24: 0 | AD24: 119 | AE24: =AF24+AG24 -> 105 | AF24: 0 | AG24: 105 | AH24: =AI24+AJ24 -> 107 | AI24: 0 | AJ24: 107 | AK24: =AL24+AM24 -> 331 | AL24: =+AC24+AF24+AI24 -> 0 | AM24: =+AD24+AG24+AJ24 -> 331 | AN24: =AO24+AP24 -> 0 | AO24: 0 | AP24: 0 | AQ24: =AR24+AS24 -> 0 | AR24: 0 | AS24: 0 | AT24: =AU24+AV24 -> 0 | AU24: 0 | AV24: 0 | AW24: =AX24+AY24 -> 0 | AX24: =+AO24+AR24+AU24 -> 0 | AY24: =+AP24+AS24+AV24 -> 0 | AZ24: =BA24+BB24 -> 1032 | BA24: =N24+Z24+AL24+AX24 -> 0 | BB24: =O24+AA24+AM24+AY24 -> 1032
C25: MICT (Anchorage) | D25: =E25+F25 -> 5 | E25: 0 | F25: 5 | G25: =H25+I25 -> 2 | H25: 0 | I25: 2 | J25: =K25+L25 -> 2 | K25: 0 | L25: 2 | M25: =N25+O25 -> 9 | N25: =+E25+H25+K25 -> 0 | O25: =+F25+I25+L25 -> 9 | P25: =Q25+R25 -> 2 | Q25: 0 | R25: 2 | S25: =T25+U25 -> 1 | T25: 0 | U25: 1 | V25: =W25+X25 -> 3 | W25: 0 | X25: 3 | Y25: =Z25+AA25 -> 6 | Z25: =+Q25+T25+W25 -> 0 | AA25: =+R25+U25+X25 -> 6 | AB25: =AC25+AD25 -> 2 | AC25: 0 | AD25: 2 | AE25: =AF25+AG25 -> 1 | AF25: 0 | AG25: 1 | AH25: =AI25+AJ25 -> 4 | AI25: 0 | AJ25: 4 | AK25: =AL25+AM25 -> 7 | AL25: =+AC25+AF25+AI25 -> 0 | AM25: =+AD25+AG25+AJ25 -> 7 | AN25: =AO25+AP25 -> 0 | AO25: 0 | AP25: 0 | AQ25: =AR25+AS25 -> 0 | AR25: 0 | AS25: 0 | AT25: =AU25+AV25 -> 0 | AU25: 0 | AV25: 0 | AW25: =AX25+AY25 -> 0 | AX25: =+AO25+AR25+AU25 -> 0 | AY25: =+AP25+AS25+AV25 -> 0 | AZ25: =BA25+BB25 -> 22 | BA25: =N25+Z25+AL25+AX25 -> 0 | BB25: =O25+AA25+AM25+AY25 -> 22
B27: PMO NCR North | D27: =SUM(E27:F27) -> 497 | E27: =+E28+E31+E34 -> 477 | F27: =+F28+F31+F34 -> 20 | G27: =SUM(H27:I27) -> 510 | H27: =+H28+H31+H34 -> 483 | I27: =+I28+I31+I34 -> 27 | J27: =SUM(K27:L27) -> 551 | K27: =+K28+K31+K34 -> 524 | L27: =+L28+L31+L34 -> 27 | M27: =SUM(N27:O27) -> 1558 | N27: =+N28+N31+N34 -> 1484 | O27: =+O28+O31+O34 -> 74 | P27: =SUM(Q27:R27) -> 513 | Q27: =+Q28+Q31+Q34 -> 489 | R27: =+R28+R31+R34 -> 24 | S27: =SUM(T27:U27) -> 553 | T27: =+T28+T31+T34 -> 528 | U27: =+U28+U31+U34 -> 25 | V27: =SUM(W27:X27) -> 469 | W27: =+W28+W31+W34 -> 442 | X27: =+X28+X31+X34 -> 27 | Y27: =SUM(Z27:AA27) -> 1535 | Z27: =+Z28+Z31+Z34 -> 1459 | AA27: =+AA28+AA31+AA34 -> 76 | AB27: =SUM(AC27:AD27) -> 545 | AC27: =+AC28+AC31+AC34 -> 524 | AD27: =+AD28+AD31+AD34 -> 21 | AE27: =SUM(AF27:AG27) -> 468 | AF27: =+AF28+AF31+AF34 -> 449 | AG27: =+AG28+AG31+AG34 -> 19 | AH27: =SUM(AI27:AJ27) -> 510 | AI27: =+AI28+AI31+AI34 -> 490 | AJ27: =+AJ28+AJ31+AJ34 -> 20 | AK27: =SUM(AL27:AM27) -> 1523 | AL27: =+AL28+AL31+AL34 -> 1463 | AM27: =+AM28+AM31+AM34 -> 60 | AN27: =SUM(AO27:AP27) -> 0 | AO27: =+AO28+AO31+AO34 -> 0 | AP27: =+AP28+AP31+AP34 -> 0 | AQ27: =SUM(AR27:AS27) -> 0 | AR27: =+AR28+AR31+AR34 -> 0 | AS27: =+AS28+AS31+AS34 -> 0 | AT27: =SUM(AU27:AV27) -> 0 | AU27: =+AU28+AU31+AU34 -> 0 | AV27: =+AV28+AV31+AV34 -> 0 | AW27: =SUM(AX27:AY27) -> 0 | AX27: =+AX28+AX31+AX34 -> 0 | AY27: =+AY28+AY31+AY34 -> 0 | AZ27: =SUM(BA27:BB27) -> 4616 | BA27: =+BA28+BA31+BA34 -> 4406 | BB27: =+BB28+BB31+BB34 -> 210
C28: BP North Harbor | D28: =E28+F28 -> 228 | E28: =SUM(E29:E30) -> 228 | F28: =SUM(F29:F30) -> 0 | G28: =H28+I28 -> 218 | H28: =SUM(H29:H30) -> 218 | I28: =SUM(I29:I30) -> 0 | J28: =K28+L28 -> 254 | K28: =SUM(K29:K30) -> 254 | L28: =SUM(L29:L30) -> 0 | M28: =N28+O28 -> 700 | N28: =SUM(N29:N30) -> 700 | O28: =SUM(O29:O30) -> 0 | P28: =Q28+R28 -> 232 | Q28: =SUM(Q29:Q30) -> 232 | R28: =SUM(R29:R30) -> 0 | S28: =T28+U28 -> 261 | T28: =SUM(T29:T30) -> 261 | U28: =SUM(U29:U30) -> 0 | V28: =W28+X28 -> 193 | W28: =SUM(W29:W30) -> 193 | X28: =SUM(X29:X30) -> 0 | Y28: =Z28+AA28 -> 686 | Z28: =SUM(Z29:Z30) -> 686 | AA28: =SUM(AA29:AA30) -> 0 | AB28: =AC28+AD28 -> 250 | AC28: =SUM(AC29:AC30) -> 250 | AD28: =SUM(AD29:AD30) -> 0 | AE28: =AF28+AG28 -> 234 | AF28: =SUM(AF29:AF30) -> 234 | AG28: =SUM(AG29:AG30) -> 0 | AH28: =AI28+AJ28 -> 231 | AI28: =SUM(AI29:AI30) -> 231 | AJ28: =SUM(AJ29:AJ30) -> 0 | AK28: =AL28+AM28 -> 715 | AL28: =SUM(AL29:AL30) -> 715 | AM28: =SUM(AM29:AM30) -> 0 | AN28: =AO28+AP28 -> 0 | AO28: =SUM(AO29:AO30) -> 0 | AP28: =SUM(AP29:AP30) -> 0 | AQ28: =AR28+AS28 -> 0 | AR28: =SUM(AR29:AR30) -> 0 | AS28: =SUM(AS29:AS30) -> 0 | AT28: =AU28+AV28 -> 0 | AU28: =SUM(AU29:AU30) -> 0 | AV28: =SUM(AV29:AV30) -> 0 | AW28: =AX28+AY28 -> 0 | AX28: =SUM(AX29:AX30) -> 0 | AY28: =SUM(AY29:AY30) -> 0 | AZ28: =BA28+BB28 -> 2101 | BA28: =SUM(BA29:BA30) -> 2101 | BB28: =SUM(BB29:BB30) -> 0
C29: BP North Harbor Ro-Ro | D29: =E29+F29 -> 48 | E29: 48 | F29: 0 | G29: =H29+I29 -> 39 | H29: 39 | I29: 0 | J29: =K29+L29 -> 52 | K29: 52 | L29: 0 | M29: =N29+O29 -> 139 | N29: =+E29+H29+K29 -> 139 | O29: =+F29+I29+L29 -> 0 | P29: =Q29+R29 -> 48 | Q29: 48 | R29: 0 | S29: =T29+U29 -> 58 | T29: 58 | U29: 0 | V29: =W29+X29 -> 50 | W29: 50 | X29: 0 | Y29: =Z29+AA29 -> 156 | Z29: =+Q29+T29+W29 -> 156 | AA29: =+R29+U29+X29 -> 0 | AB29: =AC29+AD29 -> 55 | AC29: 55 | AD29: 0 | AE29: =AF29+AG29 -> 54 | AF29: 54 | AG29: 0 | AH29: =AI29+AJ29 -> 56 | AI29: 56 | AJ29: 0 | AK29: =AL29+AM29 -> 165 | AL29: =+AC29+AF29+AI29 -> 165 | AM29: =+AD29+AG29+AJ29 -> 0 | AN29: =AO29+AP29 -> 0 | AO29: 0 | AP29: 0 | AQ29: =AR29+AS29 -> 0 | AR29: 0 | AS29: 0 | AT29: =AU29+AV29 -> 0 | AU29: 0 | AV29: 0 | AW29: =AX29+AY29 -> 0 | AX29: =+AO29+AR29+AU29 -> 0 | AY29: =+AP29+AS29+AV29 -> 0 | AZ29: =BA29+BB29 -> 460 | BA29: =N29+Z29+AL29+AX29 -> 460 | BB29: =O29+AA29+AM29+AY29 -> 0
C30: BP North Harbor | D30: =E30+F30 -> 180 | E30: 180 | F30: 0 | G30: =H30+I30 -> 179 | H30: 179 | I30: 0 | J30: =K30+L30 -> 202 | K30: 202 | L30: 0 | M30: =N30+O30 -> 561 | N30: =+E30+H30+K30 -> 561 | O30: =+F30+I30+L30 -> 0 | P30: =Q30+R30 -> 184 | Q30: 184 | R30: 0 | S30: =T30+U30 -> 203 | T30: 203 | U30: 0 | V30: =W30+X30 -> 143 | W30: 143 | X30: 0 | Y30: =Z30+AA30 -> 530 | Z30: =+Q30+T30+W30 -> 530 | AA30: =+R30+U30+X30 -> 0 | AB30: =AC30+AD30 -> 195 | AC30: 195 | AD30: 0 | AE30: =AF30+AG30 -> 180 | AF30: 180 | AG30: 0 | AH30: =AI30+AJ30 -> 175 | AI30: 175 | AJ30: 0 | AK30: =AL30+AM30 -> 550 | AL30: =+AC30+AF30+AI30 -> 550 | AM30: =+AD30+AG30+AJ30 -> 0 | AN30: =AO30+AP30 -> 0 | AO30: 0 | AP30: 0 | AQ30: =AR30+AS30 -> 0 | AR30: 0 | AS30: 0 | AT30: =AU30+AV30 -> 0 | AU30: 0 | AV30: 0 | AW30: =AX30+AY30 -> 0 | AX30: =+AO30+AR30+AU30 -> 0 | AY30: =+AP30+AS30+AV30 -> 0 | AZ30: =BA30+BB30 -> 1641 | BA30: =N30+Z30+AL30+AX30 -> 1641 | BB30: =O30+AA30+AM30+AY30 -> 0
C31: TMO Vitas | D31: =E31+F31 -> 46 | E31: =SUM(E32:E33) -> 46 | F31: =SUM(F32:F33) -> 0 | G31: =H31+I31 -> 63 | H31: =SUM(H32:H33) -> 62 | I31: =SUM(I32:I33) -> 1 | J31: =K31+L31 -> 47 | K31: =SUM(K32:K33) -> 47 | L31: =SUM(L32:L33) -> 0 | M31: =N31+O31 -> 156 | N31: =SUM(N32:N33) -> 155 | O31: =SUM(O32:O33) -> 1 | P31: =Q31+R31 -> 57 | Q31: =SUM(Q32:Q33) -> 57 | R31: =SUM(R32:R33) -> 0 | S31: =T31+U31 -> 55 | T31: =SUM(T32:T33) -> 55 | U31: =SUM(U32:U33) -> 0 | V31: =W31+X31 -> 50 | W31: =SUM(W32:W33) -> 50 | X31: =SUM(X32:X33) -> 0 | Y31: =Z31+AA31 -> 162 | Z31: =SUM(Z32:Z33) -> 162 | AA31: =SUM(AA32:AA33) -> 0 | AB31: =AC31+AD31 -> 49 | AC31: =SUM(AC32:AC33) -> 49 | AD31: =SUM(AD32:AD33) -> 0 | AE31: =AF31+AG31 -> 37 | AF31: =SUM(AF32:AF33) -> 37 | AG31: =SUM(AG32:AG33) -> 0 | AH31: =AI31+AJ31 -> 36 | AI31: =SUM(AI32:AI33) -> 36 | AJ31: =SUM(AJ32:AJ33) -> 0 | AK31: =AL31+AM31 -> 122 | AL31: =SUM(AL32:AL33) -> 122 | AM31: =SUM(AM32:AM33) -> 0 | AN31: =AO31+AP31 -> 0 | AO31: =SUM(AO32:AO33) -> 0 | AP31: =SUM(AP32:AP33) -> 0 | AQ31: =AR31+AS31 -> 0 | AR31: =SUM(AR32:AR33) -> 0 | AS31: =SUM(AS32:AS33) -> 0 | AT31: =AU31+AV31 -> 0 | AU31: =SUM(AU32:AU33) -> 0 | AV31: =SUM(AV32:AV33) -> 0 | AW31: =AX31+AY31 -> 0 | AX31: =SUM(AX32:AX33) -> 0 | AY31: =SUM(AY32:AY33) -> 0 | AZ31: =BA31+BB31 -> 440 | BA31: =SUM(BA32:BA33) -> 439 | BB31: =SUM(BB32:BB33) -> 1
C32: TP Vitas | D32: =E32+F32 -> 28 | E32: 28 | F32: 0 | G32: =H32+I32 -> 38 | H32: 38 | I32: 0 | J32: =K32+L32 -> 36 | K32: 36 | L32: 0 | M32: =N32+O32 -> 102 | N32: =+E32+H32+K32 -> 102 | O32: =+F32+I32+L32 -> 0 | P32: =Q32+R32 -> 37 | Q32: 37 | R32: 0 | S32: =T32+U32 -> 34 | T32: 34 | U32: 0 | V32: =W32+X32 -> 28 | W32: 28 | X32: 0 | Y32: =Z32+AA32 -> 99 | Z32: =+Q32+T32+W32 -> 99 | AA32: =+R32+U32+X32 -> 0 | AB32: =AC32+AD32 -> 24 | AC32: 24 | AD32: 0 | AE32: =AF32+AG32 -> 20 | AF32: 20 | AG32: 0 | AH32: =AI32+AJ32 -> 25 | AI32: 25 | AJ32: 0 | AK32: =AL32+AM32 -> 69 | AL32: =+AC32+AF32+AI32 -> 69 | AM32: =+AD32+AG32+AJ32 -> 0 | AN32: =AO32+AP32 -> 0 | AO32: 0 | AP32: 0 | AQ32: =AR32+AS32 -> 0 | AR32: 0 | AS32: 0 | AT32: =AU32+AV32 -> 0 | AU32: 0 | AV32: 0 | AW32: =AX32+AY32 -> 0 | AX32: =+AO32+AR32+AU32 -> 0 | AY32: =+AP32+AS32+AV32 -> 0 | AZ32: =BA32+BB32 -> 270 | BA32: =N32+Z32+AL32+AX32 -> 270 | BB32: =O32+AA32+AM32+AY32 -> 0
C33: TP Vitas (Anchorage) | D33: =E33+F33 -> 18 | E33: 18 | F33: 0 | G33: =H33+I33 -> 25 | H33: 24 | I33: 1 | J33: =K33+L33 -> 11 | K33: 11 | L33: 0 | M33: =N33+O33 -> 54 | N33: =+E33+H33+K33 -> 53 | O33: =+F33+I33+L33 -> 1 | P33: =Q33+R33 -> 20 | Q33: 20 | R33: 0 | S33: =T33+U33 -> 21 | T33: 21 | U33: 0 | V33: =W33+X33 -> 22 | W33: 22 | X33: 0 | Y33: =Z33+AA33 -> 63 | Z33: =+Q33+T33+W33 -> 63 | AA33: =+R33+U33+X33 -> 0 | AB33: =AC33+AD33 -> 25 | AC33: 25 | AD33: 0 | AE33: =AF33+AG33 -> 17 | AF33: 17 | AG33: 0 | AH33: =AI33+AJ33 -> 11 | AI33: 11 | AJ33: 0 | AK33: =AL33+AM33 -> 53 | AL33: =+AC33+AF33+AI33 -> 53 | AM33: =+AD33+AG33+AJ33 -> 0 | AN33: =AO33+AP33 -> 0 | AO33: 0 | AP33: 0 | AQ33: =AR33+AS33 -> 0 | AR33: 0 | AS33: 0 | AT33: =AU33+AV33 -> 0 | AU33: 0 | AV33: 0 | AW33: =AX33+AY33 -> 0 | AX33: =+AO33+AR33+AU33 -> 0 | AY33: =+AP33+AS33+AV33 -> 0 | AZ33: =BA33+BB33 -> 170 | BA33: =N33+Z33+AL33+AX33 -> 169 | BB33: =O33+AA33+AM33+AY33 -> 1
C34: Private Ports | D34: =E34+F34 -> 223 | E34: 203 | F34: 20 | G34: =H34+I34 -> 229 | H34: 203 | I34: 26 | J34: =K34+L34 -> 250 | K34: 223 | L34: 27 | M34: =N34+O34 -> 702 | N34: =+E34+H34+K34 -> 629 | O34: =+F34+I34+L34 -> 73 | P34: =Q34+R34 -> 224 | Q34: 200 | R34: 24 | S34: =T34+U34 -> 237 | T34: 212 | U34: 25 | V34: =W34+X34 -> 226 | W34: 199 | X34: 27 | Y34: =Z34+AA34 -> 687 | Z34: =+Q34+T34+W34 -> 611 | AA34: =+R34+U34+X34 -> 76 | AB34: =AC34+AD34 -> 246 | AC34: 225 | AD34: 21 | AE34: =AF34+AG34 -> 197 | AF34: 178 | AG34: 19 | AH34: =AI34+AJ34 -> 243 | AI34: 223 | AJ34: 20 | AK34: =AL34+AM34 -> 686 | AL34: =+AC34+AF34+AI34 -> 626 | AM34: =+AD34+AG34+AJ34 -> 60 | AN34: =AO34+AP34 -> 0 | AO34: 0 | AP34: 0 | AQ34: =AR34+AS34 -> 0 | AR34: 0 | AS34: 0 | AT34: =AU34+AV34 -> 0 | AU34: 0 | AV34: 0 | AW34: =AX34+AY34 -> 0 | AX34: =+AO34+AR34+AU34 -> 0 | AY34: =+AP34+AS34+AV34 -> 0 | AZ34: =BA34+BB34 -> 2075 | BA34: =N34+Z34+AL34+AX34 -> 1866 | BB34: =O34+AA34+AM34+AY34 -> 209
B36: PMO Northern Luzon | D36: =SUM(E36:F36) -> 290 | E36: =E37+E41+E44+E49+E50+E51 -> 244 | F36: =F37+F41+F44+F49+F50+F51 -> 46 | G36: =SUM(H36:I36) -> 259 | H36: =H37+H41+H44+H49+H50+H51 -> 221 | I36: =I37+I41+I44+I49+I50+I51 -> 38 | J36: =SUM(K36:L36) -> 264 | K36: =K37+K41+K44+K49+K50+K51 -> 229 | L36: =L37+L41+L44+L49+L50+L51 -> 35 | M36: =SUM(N36:O36) -> 813 | N36: =N37+N41+N44+N49+N50+N51 -> 694 | O36: =O37+O41+O44+O49+O50+O51 -> 119 | P36: =SUM(Q36:R36) -> 262 | Q36: =Q37+Q41+Q44+Q49+Q50+Q51 -> 231 | R36: =R37+R41+R44+R49+R50+R51 -> 31 | S36: =SUM(T36:U36) -> 363 | T36: =T37+T41+T44+T49+T50+T51 -> 326 | U36: =U37+U41+U44+U49+U50+U51 -> 37 | V36: =SUM(W36:X36) -> 273 | W36: =W37+W41+W44+W49+W50+W51 -> 245 | X36: =X37+X41+X44+X49+X50+X51 -> 28 | Y36: =SUM(Z36:AA36) -> 898 | Z36: =Z37+Z41+Z44+Z49+Z50+Z51 -> 802 | AA36: =AA37+AA41+AA44+AA49+AA50+AA51 -> 96 | AB36: =SUM(AC36:AD36) -> 250 | AC36: =AC37+AC41+AC44+AC49+AC50+AC51 -> 227 | AD36: =AD37+AD41+AD44+AD49+AD50+AD51 -> 23 | AE36: =SUM(AF36:AG36) -> 78 | AF36: =AF37+AF41+AF44+AF49+AF50+AF51 -> 61 | AG36: =AG37+AG41+AG44+AG49+AG50+AG51 -> 17 | AH36: =SUM(AI36:AJ36) -> 257 | AI36: =AI37+AI41+AI44+AI49+AI50+AI51 -> 234 | AJ36: =AJ37+AJ41+AJ44+AJ49+AJ50+AJ51 -> 23 | AK36: =SUM(AL36:AM36) -> 585 | AL36: =AL37+AL41+AL44+AL49+AL50+AL51 -> 522 | AM36: =AM37+AM41+AM44+AM49+AM50+AM51 -> 63 | AN36: =SUM(AO36:AP36) -> 0 | AO36: =AO37+AO41+AO44+AO49+AO50+AO51 -> 0 | AP36: =AP37+AP41+AP44+AP49+AP50+AP51 -> 0 | AQ36: =SUM(AR36:AS36) -> 0 | AR36: =AR37+AR41+AR44+AR49+AR50+AR51 -> 0 | AS36: =AS37+AS41+AS44+AS49+AS50+AS51 -> 0 | AT36: =SUM(AU36:AV36) -> 0 | AU36: =AU37+AU41+AU44+AU49+AU50+AU51 -> 0 | AV36: =AV37+AV41+AV44+AV49+AV50+AV51 -> 0 | AW36: =SUM(AX36:AY36) -> 0 | AX36: =AX37+AX41+AX44+AX49+AX50+AX51 -> 0 | AY36: =AY37+AY41+AY44+AY49+AY50+AY51 -> 0 | AZ36: =SUM(BA36:BB36) -> 2296 | BA36: =BA37+BA41+BA44+BA49+BA50+BA51 -> 2018 | BB36: =BB37+BB41+BB44+BB49+BB50+BB51 -> 278
C37: BP Currimao | D37: =SUM(E37:F37) -> 11 | E37: =SUM(E38:E40) -> 2 | F37: =SUM(F38:F40) -> 9 | G37: =SUM(H37:I37) -> 5 | H37: =SUM(H38:H40) -> 1 | I37: =SUM(I38:I40) -> 4 | J37: =SUM(K37:L37) -> 6 | K37: =SUM(K38:K40) -> 2 | L37: =SUM(L38:L40) -> 4 | M37: =SUM(N37:O37) -> 22 | N37: =SUM(N38:N40) -> 5 | O37: =SUM(O38:O40) -> 17 | P37: =SUM(Q37:R37) -> 4 | Q37: =SUM(Q38:Q40) -> 3 | R37: =SUM(R38:R40) -> 1 | S37: =SUM(T37:U37) -> 4 | T37: =SUM(T38:T40) -> 1 | U37: =SUM(U38:U40) -> 3 | V37: =SUM(W37:X37) -> 3 | W37: =SUM(W38:W40) -> 2 | X37: =SUM(X38:X40) -> 1 | Y37: =SUM(Z37:AA37) -> 11 | Z37: =SUM(Z38:Z40) -> 6 | AA37: =SUM(AA38:AA40) -> 5 | AB37: =SUM(AC37:AD37) -> 4 | AC37: =SUM(AC38:AC40) -> 2 | AD37: =SUM(AD38:AD40) -> 2 | AE37: =SUM(AF37:AG37) -> 0 | AF37: =SUM(AF38:AF40) -> 0 | AG37: =SUM(AG38:AG40) -> 0 | AH37: =SUM(AI37:AJ37) -> 2 | AI37: =SUM(AI38:AI40) -> 1 | AJ37: =SUM(AJ38:AJ40) -> 1 | AK37: =SUM(AL37:AM37) -> 6 | AL37: =SUM(AL38:AL40) -> 3 | AM37: =SUM(AM38:AM40) -> 3 | AN37: =SUM(AO37:AP37) -> 0 | AO37: =SUM(AO38:AO40) -> 0 | AP37: =SUM(AP38:AP40) -> 0 | AQ37: =SUM(AR37:AS37) -> 0 | AR37: =SUM(AR38:AR40) -> 0 | AS37: =SUM(AS38:AS40) -> 0 | AT37: =SUM(AU37:AV37) -> 0 | AU37: =SUM(AU38:AU40) -> 0 | AV37: =SUM(AV38:AV40) -> 0 | AW37: =SUM(AX37:AY37) -> 0 | AX37: =SUM(AX38:AX40) -> 0 | AY37: =SUM(AY38:AY40) -> 0 | AZ37: =SUM(BA37:BB37) -> 39 | BA37: =SUM(BA38:BA40) -> 14 | BB37: =SUM(BB38:BB40) -> 25
C38: BP Currimao Ro-Ro | D38: =E38+F38 -> 0 | E38: 0 | F38: 0 | G38: =H38+I38 -> 0 | H38: 0 | I38: 0 | J38: =K38+L38 -> 0 | K38: 0 | L38: 0 | M38: =N38+O38 -> 0 | N38: =+E38+H38+K38 -> 0 | O38: =+F38+I38+L38 -> 0 | P38: =Q38+R38 -> 0 | Q38: 0 | R38: 0 | S38: =T38+U38 -> 0 | T38: 0 | U38: 0 | V38: =W38+X38 -> 1 | W38: 1 | X38: 0 | Y38: =Z38+AA38 -> 1 | Z38: =+Q38+T38+W38 -> 1 | AA38: =+R38+U38+X38 -> 0 | AB38: =AC38+AD38 -> 0 | AC38: 0 | AD38: 0 | AE38: =AF38+AG38 -> 0 | AF38: 0 | AG38: 0 | AH38: =AI38+AJ38 -> 0 | AI38: 0 | AJ38: 0 | AK38: =AL38+AM38 -> 0 | AL38: =+AC38+AF38+AI38 -> 0 | AM38: =+AD38+AG38+AJ38 -> 0 | AN38: =AO38+AP38 -> 0 | AO38: 0 | AP38: 0 | AQ38: =AR38+AS38 -> 0 | AR38: 0 | AS38: 0 | AT38: =AU38+AV38 -> 0 | AU38: 0 | AV38: 0 | AW38: =AX38+AY38 -> 0 | AX38: =+AO38+AR38+AU38 -> 0 | AY38: =+AP38+AS38+AV38 -> 0 | AZ38: =BA38+BB38 -> 1 | BA38: =N38+Z38+AL38+AX38 -> 1 | BB38: =O38+AA38+AM38+AY38 -> 0
C39: BP Currimao | D39: =E39+F39 -> 2 | E39: 0 | F39: 2 | G39: =H39+I39 -> 5 | H39: 1 | I39: 4 | J39: =K39+L39 -> 5 | K39: 2 | L39: 3 | M39: =N39+O39 -> 12 | N39: =+E39+H39+K39 -> 3 | O39: =+F39+I39+L39 -> 9 | P39: =Q39+R39 -> 4 | Q39: 3 | R39: 1 | S39: =T39+U39 -> 2 | T39: 1 | U39: 1 | V39: =W39+X39 -> 2 | W39: 1 | X39: 1 | Y39: =Z39+AA39 -> 8 | Z39: =+Q39+T39+W39 -> 5 | AA39: =+R39+U39+X39 -> 3 | AB39: =AC39+AD39 -> 4 | AC39: 2 | AD39: 2 | AE39: =AF39+AG39 -> 0 | AF39: 0 | AG39: 0 | AH39: =AI39+AJ39 -> 2 | AI39: 1 | AJ39: 1 | AK39: =AL39+AM39 -> 6 | AL39: =+AC39+AF39+AI39 -> 3 | AM39: =+AD39+AG39+AJ39 -> 3 | AN39: =AO39+AP39 -> 0 | AO39: 0 | AP39: 0 | AQ39: =AR39+AS39 -> 0 | AR39: 0 | AS39: 0 | AT39: =AU39+AV39 -> 0 | AU39: 0 | AV39: 0 | AW39: =AX39+AY39 -> 0 | AX39: =+AO39+AR39+AU39 -> 0 | AY39: =+AP39+AS39+AV39 -> 0 | AZ39: =BA39+BB39 -> 26 | BA39: =N39+Z39+AL39+AX39 -> 11 | BB39: =O39+AA39+AM39+AY39 -> 15
C40: BP Currimao (Anchorage) | D40: =E40+F40 -> 9 | E40: 2 | F40: 7 | G40: =H40+I40 -> 0 | H40: 0 | I40: 0 | J40: =K40+L40 -> 1 | K40: 0 | L40: 1 | M40: =N40+O40 -> 10 | N40: =+E40+H40+K40 -> 2 | O40: =+F40+I40+L40 -> 8 | P40: =Q40+R40 -> 0 | Q40: 0 | R40: 0 | S40: =T40+U40 -> 2 | T40: 0 | U40: 2 | V40: =W40+X40 -> 0 | W40: 0 | X40: 0 | Y40: =Z40+AA40 -> 2 | Z40: =+Q40+T40+W40 -> 0 | AA40: =+R40+U40+X40 -> 2 | AB40: =AC40+AD40 -> 0 | AC40: 0 | AD40: 0 | AE40: =AF40+AG40 -> 0 | AF40: 0 | AG40: 0 | AH40: =AI40+AJ40 -> 0 | AI40: 0 | AJ40: 0 | AK40: =AL40+AM40 -> 0 | AL40: =+AC40+AF40+AI40 -> 0 | AM40: =+AD40+AG40+AJ40 -> 0 | AN40: =AO40+AP40 -> 0 | AO40: 0 | AP40: 0 | AQ40: =AR40+AS40 -> 0 | AR40: 0 | AS40: 0 | AT40: =AU40+AV40 -> 0 | AU40: 0 | AV40: 0 | AW40: =AX40+AY40 -> 0 | AX40: =+AO40+AR40+AU40 -> 0 | AY40: =+AP40+AS40+AV40 -> 0 | AZ40: =BA40+BB40 -> 12 | BA40: =N40+Z40+AL40+AX40 -> 2 | BB40: =O40+AA40+AM40+AY40 -> 10
C41: TMO Batanes | D41: =E41+F41 -> 52 | E41: =SUM(E42:E43) -> 52 | F41: =SUM(F42:F43) -> 0 | G41: =H41+I41 -> 42 | H41: =SUM(H42:H43) -> 42 | I41: =SUM(I42:I43) -> 0 | J41: =K41+L41 -> 56 | K41: =SUM(K42:K43) -> 56 | L41: =SUM(L42:L43) -> 0 | M41: =N41+O41 -> 150 | N41: =SUM(N42:N43) -> 150 | O41: =SUM(O42:O43) -> 0 | P41: =Q41+R41 -> 55 | Q41: =SUM(Q42:Q43) -> 55 | R41: =SUM(R42:R43) -> 0 | S41: =T41+U41 -> 63 | T41: =SUM(T42:T43) -> 62 | U41: =SUM(U42:U43) -> 1 | V41: =W41+X41 -> 51 | W41: =SUM(W42:W43) -> 51 | X41: =SUM(X42:X43) -> 0 | Y41: =Z41+AA41 -> 169 | Z41: =SUM(Z42:Z43) -> 168 | AA41: =SUM(AA42:AA43) -> 1 | AB41: =AC41+AD41 -> 46 | AC41: =SUM(AC42:AC43) -> 46 | AD41: =SUM(AD42:AD43) -> 0 | AE41: =AF41+AG41 -> 20 | AF41: =SUM(AF42:AF43) -> 20 | AG41: =SUM(AG42:AG43) -> 0 | AH41: =AI41+AJ41 -> 56 | AI41: =SUM(AI42:AI43) -> 56 | AJ41: =SUM(AJ42:AJ43) -> 0 | AK41: =AL41+AM41 -> 122 | AL41: =SUM(AL42:AL43) -> 122 | AM41: =SUM(AM42:AM43) -> 0 | AN41: =AO41+AP41 -> 0 | AO41: =SUM(AO42:AO43) -> 0 | AP41: =SUM(AP42:AP43) -> 0 | AQ41: =AR41+AS41 -> 0 | AR41: =SUM(AR42:AR43) -> 0 | AS41: =SUM(AS42:AS43) -> 0 | AT41: =AU41+AV41 -> 0 | AU41: =SUM(AU42:AU43) -> 0 | AV41: =SUM(AV42:AV43) -> 0 | AW41: =AX41+AY41 -> 0 | AX41: =SUM(AX42:AX43) -> 0 | AY41: =SUM(AY42:AY43) -> 0 | AZ41: =BA41+BB41 -> 441 | BA41: =SUM(BA42:BA43) -> 440 | BB41: =SUM(BB42:BB43) -> 1
C42: TP Basco | D42: =E42+F42 -> 52 | E42: 52 | F42: 0 | G42: =H42+I42 -> 42 | H42: 42 | I42: 0 | J42: =K42+L42 -> 56 | K42: 56 | L42: 0 | M42: =N42+O42 -> 150 | N42: =+E42+H42+K42 -> 150 | O42: =+F42+I42+L42 -> 0 | P42: =Q42+R42 -> 54 | Q42: 54 | R42: 0 | S42: =T42+U42 -> 62 | T42: 62 | U42: 0 | V42: =W42+X42 -> 51 | W42: 51 | X42: 0 | Y42: =Z42+AA42 -> 167 | Z42: =+Q42+T42+W42 -> 167 | AA42: =+R42+U42+X42 -> 0 | AB42: =AC42+AD42 -> 46 | AC42: 46 | AD42: 0 | AE42: =AF42+AG42 -> 20 | AF42: 20 | AG42: 0 | AH42: =AI42+AJ42 -> 56 | AI42: 56 | AJ42: 0 | AK42: =AL42+AM42 -> 122 | AL42: =+AC42+AF42+AI42 -> 122 | AM42: =+AD42+AG42+AJ42 -> 0 | AN42: =AO42+AP42 -> 0 | AO42: 0 | AP42: 0 | AQ42: =AR42+AS42 -> 0 | AR42: 0 | AS42: 0 | AT42: =AU42+AV42 -> 0 | AU42: 0 | AV42: 0 | AW42: =AX42+AY42 -> 0 | AX42: =+AO42+AR42+AU42 -> 0 | AY42: =+AP42+AS42+AV42 -> 0 | AZ42: =BA42+BB42 -> 439 | BA42: =N42+Z42+AL42+AX42 -> 439 | BB42: =O42+AA42+AM42+AY42 -> 0
C43: TP Basco (Anchorage) | D43: =E43+F43 -> 0 | E43: 0 | F43: 0 | G43: =H43+I43 -> 0 | H43: 0 | I43: 0 | J43: =K43+L43 -> 0 | K43: 0 | L43: 0 | M43: =N43+O43 -> 0 | N43: =+E43+H43+K43 -> 0 | O43: =+F43+I43+L43 -> 0 | P43: =Q43+R43 -> 1 | Q43: 1 | R43: 0 | S43: =T43+U43 -> 1 | T43: 0 | U43: 1 | V43: =W43+X43 -> 0 | W43: 0 | X43: 0 | Y43: =Z43+AA43 -> 2 | Z43: =+Q43+T43+W43 -> 1 | AA43: =+R43+U43+X43 -> 1 | AB43: =AC43+AD43 -> 0 | AC43: 0 | AD43: 0 | AE43: =AF43+AG43 -> 0 | AF43: 0 | AG43: 0 | AH43: =AI43+AJ43 -> 0 | AI43: 0 | AJ43: 0 | AK43: =AL43+AM43 -> 0 | AL43: =+AC43+AF43+AI43 -> 0 | AM43: =+AD43+AG43+AJ43 -> 0 | AN43: =AO43+AP43 -> 0 | AO43: 0 | AP43: 0 | AQ43: =AR43+AS43 -> 0 | AR43: 0 | AS43: 0 | AT43: =AU43+AV43 -> 0 | AU43: 0 | AV43: 0 | AW43: =AX43+AY43 -> 0 | AX43: =+AO43+AR43+AU43 -> 0 | AY43: =+AP43+AS43+AV43 -> 0 | AZ43: =BA43+BB43 -> 2 | BA43: =N43+Z43+AL43+AX43 -> 1 | BB43: =O43+AA43+AM43+AY43 -> 1
C44: TMO Cagayan/Isabela/Ilocos | D44: =SUM(E44:F44) -> 3 | E44: =SUM(E45:E48) -> 1 | F44: =SUM(F45:F48) -> 2 | G44: =SUM(H44:I44) -> 4 | H44: =SUM(H45:H48) -> 3 | I44: =SUM(I45:I48) -> 1 | J44: =SUM(K44:L44) -> 1 | K44: =SUM(K45:K48) -> 0 | L44: =SUM(L45:L48) -> 1 | M44: =SUM(N44:O44) -> 8 | N44: =SUM(N45:N48) -> 4 | O44: =SUM(O45:O48) -> 4 | P44: =SUM(Q44:R44) -> 0 | Q44: =SUM(Q45:Q48) -> 0 | R44: =SUM(R45:R48) -> 0 | S44: =SUM(T44:U44) -> 1 | T44: =SUM(T45:T48) -> 0 | U44: =SUM(U45:U48) -> 1 | V44: =SUM(W44:X44) -> 1 | W44: =SUM(W45:W48) -> 0 | X44: =SUM(X45:X48) -> 1 | Y44: =SUM(Z44:AA44) -> 2 | Z44: =SUM(Z45:Z48) -> 0 | AA44: =SUM(AA45:AA48) -> 2 | AB44: =SUM(AC44:AD44) -> 1 | AC44: =SUM(AC45:AC48) -> 0 | AD44: =SUM(AD45:AD48) -> 1 | AE44: =SUM(AF44:AG44) -> 0 | AF44: =SUM(AF45:AF48) -> 0 | AG44: =SUM(AG45:AG48) -> 0 | AH44: =SUM(AI44:AJ44) -> 0 | AI44: =SUM(AI45:AI48) -> 0 | AJ44: =SUM(AJ45:AJ48) -> 0 | AK44: =SUM(AL44:AM44) -> 1 | AL44: =SUM(AL45:AL48) -> 0 | AM44: =SUM(AM45:AM48) -> 1 | AN44: =SUM(AO44:AP44) -> 0 | AO44: =SUM(AO45:AO48) -> 0 | AP44: =SUM(AP45:AP48) -> 0 | AQ44: =SUM(AR44:AS44) -> 0 | AR44: =SUM(AR45:AR48) -> 0 | AS44: =SUM(AS45:AS48) -> 0 | AT44: =SUM(AU44:AV44) -> 0 | AU44: =SUM(AU45:AU48) -> 0 | AV44: =SUM(AV45:AV48) -> 0 | AW44: =SUM(AX44:AY44) -> 0 | AX44: =SUM(AX45:AX48) -> 0 | AY44: =SUM(AY45:AY48) -> 0 | AZ44: =SUM(BA44:BB44) -> 11 | BA44: =SUM(BA45:BA48) -> 4 | BB44: =SUM(BB45:BB48) -> 7
C45: TP Aparri (Anchorage) | D45: =E45+F45 -> 2 | E45: 1 | F45: 1 | G45: =H45+I45 -> 1 | H45: 0 | I45: 1 | J45: =K45+L45 -> 0 | K45: 0 | L45: 0 | M45: =N45+O45 -> 3 | N45: =+E45+H45+K45 -> 1 | O45: =+F45+I45+L45 -> 2 | P45: =Q45+R45 -> 0 | Q45: 0 | R45: 0 | S45: =T45+U45 -> 0 | T45: 0 | U45: 0 | V45: =W45+X45 -> 0 | W45: 0 | X45: 0 | Y45: =Z45+AA45 -> 0 | Z45: =+Q45+T45+W45 -> 0 | AA45: =+R45+U45+X45 -> 0 | AB45: =AC45+AD45 -> 0 | AC45: 0 | AD45: 0 | AE45: =AF45+AG45 -> 0 | AF45: 0 | AG45: 0 | AH45: =AI45+AJ45 -> 0 | AI45: 0 | AJ45: 0 | AK45: =AL45+AM45 -> 0 | AL45: =+AC45+AF45+AI45 -> 0 | AM45: =+AD45+AG45+AJ45 -> 0 | AN45: =AO45+AP45 -> 0 | AO45: 0 | AP45: 0 | AQ45: =AR45+AS45 -> 0 | AR45: 0 | AS45: 0 | AT45: =AU45+AV45 -> 0 | AU45: 0 | AV45: 0 | AW45: =AX45+AY45 -> 0 | AX45: =+AO45+AR45+AU45 -> 0 | AY45: =+AP45+AS45+AV45 -> 0 | AZ45: =BA45+BB45 -> 3 | BA45: =N45+Z45+AL45+AX45 -> 1 | BB45: =O45+AA45+AM45+AY45 -> 2
C46: TP Claveria (Tagat Norte) (Anchorage) | D46: =E46+F46 -> 0 | E46: 0 | F46: 0 | G46: =H46+I46 -> 0 | H46: 0 | I46: 0 | J46: =K46+L46 -> 1 | K46: 0 | L46: 1 | M46: =N46+O46 -> 1 | N46: =+E46+H46+K46 -> 0 | O46: =+F46+I46+L46 -> 1 | P46: =Q46+R46 -> 0 | Q46: 0 | R46: 0 | S46: =T46+U46 -> 0 | T46: 0 | U46: 0 | V46: =W46+X46 -> 0 | W46: 0 | X46: 0 | Y46: =Z46+AA46 -> 0 | Z46: =+Q46+T46+W46 -> 0 | AA46: =+R46+U46+X46 -> 0 | AB46: =AC46+AD46 -> 0 | AC46: 0 | AD46: 0 | AE46: =AF46+AG46 -> 0 | AF46: 0 | AG46: 0 | AH46: =AI46+AJ46 -> 0 | AI46: 0 | AJ46: 0 | AK46: =AL46+AM46 -> 0 | AL46: =+AC46+AF46+AI46 -> 0 | AM46: =+AD46+AG46+AJ46 -> 0 | AN46: =AO46+AP46 -> 0 | AO46: 0 | AP46: 0 | AQ46: =AR46+AS46 -> 0 | AR46: 0 | AS46: 0 | AT46: =AU46+AV46 -> 0 | AU46: 0 | AV46: 0 | AW46: =AX46+AY46 -> 0 | AX46: =+AO46+AR46+AU46 -> 0 | AY46: =+AP46+AS46+AV46 -> 0 | AZ46: =BA46+BB46 -> 1 | BA46: =N46+Z46+AL46+AX46 -> 0 | BB46: =O46+AA46+AM46+AY46 -> 1
C47: TP Salomague | D47: =E47+F47 -> 1 | E47: 0 | F47: 1 | G47: =H47+I47 -> 3 | H47: 3 | I47: 0 | J47: =K47+L47 -> 0 | K47: 0 | L47: 0 | M47: =N47+O47 -> 4 | N47: =+E47+H47+K47 -> 3 | O47: =+F47+I47+L47 -> 1 | P47: =Q47+R47 -> 0 | Q47: 0 | R47: 0 | S47: =T47+U47 -> 0 | T47: 0 | U47: 0 | V47: =W47+X47 -> 1 | W47: 0 | X47: 1 | Y47: =Z47+AA47 -> 1 | Z47: =+Q47+T47+W47 -> 0 | AA47: =+R47+U47+X47 -> 1 | AB47: =AC47+AD47 -> 1 | AC47: 0 | AD47: 1 | AE47: =AF47+AG47 -> 0 | AF47: 0 | AG47: 0 | AH47: =AI47+AJ47 -> 0 | AI47: 0 | AJ47: 0 | AK47: =AL47+AM47 -> 1 | AL47: =+AC47+AF47+AI47 -> 0 | AM47: =+AD47+AG47+AJ47 -> 1 | AN47: =AO47+AP47 -> 0 | AO47: 0 | AP47: 0 | AQ47: =AR47+AS47 -> 0 | AR47: 0 | AS47: 0 | AT47: =AU47+AV47 -> 0 | AU47: 0 | AV47: 0 | AW47: =AX47+AY47 -> 0 | AX47: =+AO47+AR47+AU47 -> 0 | AY47: =+AP47+AS47+AV47 -> 0 | AZ47: =BA47+BB47 -> 6 | BA47: =N47+Z47+AL47+AX47 -> 3 | BB47: =O47+AA47+AM47+AY47 -> 3
C48: TP Salomague (Anchorage) | D48: =E48+F48 -> 0 | E48: 0 | F48: 0 | G48: =H48+I48 -> 0 | H48: 0 | I48: 0 | J48: =K48+L48 -> 0 | K48: 0 | L48: 0 | M48: =N48+O48 -> 0 | N48: =+E48+H48+K48 -> 0 | O48: =+F48+I48+L48 -> 0 | P48: =Q48+R48 -> 0 | Q48: 0 | R48: 0 | S48: =T48+U48 -> 1 | T48: 0 | U48: 1 | V48: =W48+X48 -> 0 | W48: 0 | X48: 0 | Y48: =Z48+AA48 -> 1 | Z48: =+Q48+T48+W48 -> 0 | AA48: =+R48+U48+X48 -> 1 | AB48: =AC48+AD48 -> 0 | AC48: 0 | AD48: 0 | AE48: =AF48+AG48 -> 0 | AF48: 0 | AG48: 0 | AH48: =AI48+AJ48 -> 0 | AI48: 0 | AJ48: 0 | AK48: =AL48+AM48 -> 0 | AL48: =+AC48+AF48+AI48 -> 0 | AM48: =+AD48+AG48+AJ48 -> 0 | AN48: =AO48+AP48 -> 0 | AO48: 0 | AP48: 0 | AQ48: =AR48+AS48 -> 0 | AR48: 0 | AS48: 0 | AT48: =AU48+AV48 -> 0 | AU48: 0 | AV48: 0 | AW48: =AX48+AY48 -> 0 | AX48: =+AO48+AR48+AU48 -> 0 | AY48: =+AP48+AS48+AV48 -> 0 | AZ48: =BA48+BB48 -> 1 | BA48: =N48+Z48+AL48+AX48 -> 0 | BB48: =O48+AA48+AM48+AY48 -> 1
C49: TMO Pangasinan (TP Sual (Anchorage)) | D49: =E49+F49 -> 1 | E49: 0 | F49: 1 | G49: =H49+I49 -> 0 | H49: 0 | I49: 0 | J49: =K49+L49 -> 0 | K49: 0 | L49: 0 | M49: =N49+O49 -> 1 | N49: =+E49+H49+K49 -> 0 | O49: =+F49+I49+L49 -> 1 | P49: =Q49+R49 -> 1 | Q49: 1 | R49: 0 | S49: =T49+U49 -> 0 | T49: 0 | U49: 0 | V49: =W49+X49 -> 2 | W49: 1 | X49: 1 | Y49: =Z49+AA49 -> 3 | Z49: =+Q49+T49+W49 -> 2 | AA49: =+R49+U49+X49 -> 1 | AB49: =AC49+AD49 -> 0 | AC49: 0 | AD49: 0 | AE49: =AF49+AG49 -> 0 | AF49: 0 | AG49: 0 | AH49: =AI49+AJ49 -> 1 | AI49: 1 | AJ49: 0 | AK49: =AL49+AM49 -> 1 | AL49: =+AC49+AF49+AI49 -> 1 | AM49: =+AD49+AG49+AJ49 -> 0 | AN49: =AO49+AP49 -> 0 | AO49: 0 | AP49: 0 | AQ49: =AR49+AS49 -> 0 | AR49: 0 | AS49: 0 | AT49: =AU49+AV49 -> 0 | AU49: 0 | AV49: 0 | AW49: =AX49+AY49 -> 0 | AX49: =+AO49+AR49+AU49 -> 0 | AY49: =+AP49+AS49+AV49 -> 0 | AZ49: =BA49+BB49 -> 5 | BA49: =N49+Z49+AL49+AX49 -> 3 | BB49: =O49+AA49+AM49+AY49 -> 2
C50: Government Ports | D50: =E50+F50 -> 126 | E50: 125 | F50: 1 | G50: =H50+I50 -> 109 | H50: 107 | I50: 2 | J50: =K50+L50 -> 87 | K50: 84 | L50: 3 | M50: =N50+O50 -> 322 | N50: =+E50+H50+K50 -> 316 | O50: =+F50+I50+L50 -> 6 | P50: =Q50+R50 -> 89 | Q50: 89 | R50: 0 | S50: =T50+U50 -> 162 | T50: 160 | U50: 2 | V50: =W50+X50 -> 135 | W50: 132 | X50: 3 | Y50: =Z50+AA50 -> 386 | Z50: =+Q50+T50+W50 -> 381 | AA50: =+R50+U50+X50 -> 5 | AB50: =AC50+AD50 -> 116 | AC50: 115 | AD50: 1 | AE50: =AF50+AG50 -> 21 | AF50: 21 | AG50: 0 | AH50: =AI50+AJ50 -> 107 | AI50: 107 | AJ50: 0 | AK50: =AL50+AM50 -> 244 | AL50: =+AC50+AF50+AI50 -> 243 | AM50: =+AD50+AG50+AJ50 -> 1 | AN50: =AO50+AP50 -> 0 | AO50: 0 | AP50: 0 | AQ50: =AR50+AS50 -> 0 | AR50: 0 | AS50: 0 | AT50: =AU50+AV50 -> 0 | AU50: 0 | AV50: 0 | AW50: =AX50+AY50 -> 0 | AX50: =+AO50+AR50+AU50 -> 0 | AY50: =+AP50+AS50+AV50 -> 0 | AZ50: =BA50+BB50 -> 952 | BA50: =N50+Z50+AL50+AX50 -> 940 | BB50: =O50+AA50+AM50+AY50 -> 12
C51: Private Ports | D51: =E51+F51 -> 97 | E51: 64 | F51: 33 | G51: =H51+I51 -> 99 | H51: 68 | I51: 31 | J51: =K51+L51 -> 114 | K51: 87 | L51: 27 | M51: =N51+O51 -> 310 | N51: =+E51+H51+K51 -> 219 | O51: =+F51+I51+L51 -> 91 | P51: =Q51+R51 -> 113 | Q51: 83 | R51: 30 | S51: =T51+U51 -> 133 | T51: 103 | U51: 30 | V51: =W51+X51 -> 81 | W51: 59 | X51: 22 | Y51: =Z51+AA51 -> 327 | Z51: =+Q51+T51+W51 -> 245 | AA51: =+R51+U51+X51 -> 82 | AB51: =AC51+AD51 -> 83 | AC51: 64 | AD51: 19 | AE51: =AF51+AG51 -> 37 | AF51: 20 | AG51: 17 | AH51: =AI51+AJ51 -> 91 | AI51: 69 | AJ51: 22 | AK51: =AL51+AM51 -> 211 | AL51: =+AC51+AF51+AI51 -> 153 | AM51: =+AD51+AG51+AJ51 -> 58 | AN51: =AO51+AP51 -> 0 | AO51: 0 | AP51: 0 | AQ51: =AR51+AS51 -> 0 | AR51: 0 | AS51: 0 | AT51: =AU51+AV51 -> 0 | AU51: 0 | AV51: 0 | AW51: =AX51+AY51 -> 0 | AX51: =+AO51+AR51+AU51 -> 0 | AY51: =+AP51+AS51+AV51 -> 0 | AZ51: =BA51+BB51 -> 848 | BA51: =N51+Z51+AL51+AX51 -> 617 | BB51: =O51+AA51+AM51+AY51 -> 231
B53: PMO Bataan/Aurora | D53: =SUM(E53:F53) -> 538 | E53: =E54+E57+E60+E63+E64+E65 -> 481 | F53: =F54+F57+F60+F63+F64+F65 -> 57 | G53: =SUM(H53:I53) -> 476 | H53: =H54+H57+H60+H63+H64+H65 -> 426 | I53: =I54+I57+I60+I63+I64+I65 -> 50 | J53: =SUM(K53:L53) -> 557 | K53: =K54+K57+K60+K63+K64+K65 -> 506 | L53: =L54+L57+L60+L63+L64+L65 -> 51 | M53: =SUM(N53:O53) -> 1571 | N53: =N54+N57+N60+N63+N64+N65 -> 1413 | O53: =O54+O57+O60+O63+O64+O65 -> 158 | P53: =SUM(Q53:R53) -> 537 | Q53: =Q54+Q57+Q60+Q63+Q64+Q65 -> 490 | R53: =R54+R57+R60+R63+R64+R65 -> 47 | S53: =SUM(T53:U53) -> 516 | T53: =T54+T57+T60+T63+T64+T65 -> 475 | U53: =U54+U57+U60+U63+U64+U65 -> 41 | V53: =SUM(W53:X53) -> 592 | W53: =W54+W57+W60+W63+W64+W65 -> 540 | X53: =X54+X57+X60+X63+X64+X65 -> 52 | Y53: =SUM(Z53:AA53) -> 1645 | Z53: =Z54+Z57+Z60+Z63+Z64+Z65 -> 1505 | AA53: =AA54+AA57+AA60+AA63+AA64+AA65 -> 140 | AB53: =SUM(AC53:AD53) -> 620 | AC53: =AC54+AC57+AC60+AC63+AC64+AC65 -> 575 | AD53: =AD54+AD57+AD60+AD63+AD64+AD65 -> 45 | AE53: =SUM(AF53:AG53) -> 497 | AF53: =AF54+AF57+AF60+AF63+AF64+AF65 -> 462 | AG53: =AG54+AG57+AG60+AG63+AG64+AG65 -> 35 | AH53: =SUM(AI53:AJ53) -> 335 | AI53: =AI54+AI57+AI60+AI63+AI64+AI65 -> 294 | AJ53: =AJ54+AJ57+AJ60+AJ63+AJ64+AJ65 -> 41 | AK53: =SUM(AL53:AM53) -> 1452 | AL53: =AL54+AL57+AL60+AL63+AL64+AL65 -> 1331 | AM53: =AM54+AM57+AM60+AM63+AM64+AM65 -> 121 | AN53: =SUM(AO53:AP53) -> 0 | AO53: =AO54+AO57+AO60+AO63+AO64+AO65 -> 0 | AP53: =AP54+AP57+AP60+AP63+AP64+AP65 -> 0 | AQ53: =SUM(AR53:AS53) -> 0 | AR53: =AR54+AR57+AR60+AR63+AR64+AR65 -> 0 | AS53: =AS54+AS57+AS60+AS63+AS64+AS65 -> 0 | AT53: =SUM(AU53:AV53) -> 0 | AU53: =AU54+AU57+AU60+AU63+AU64+AU65 -> 0 | AV53: =AV54+AV57+AV60+AV63+AV64+AV65 -> 0 | AW53: =SUM(AX53:AY53) -> 0 | AX53: =AX54+AX57+AX60+AX63+AX64+AX65 -> 0 | AY53: =AY54+AY57+AY60+AY63+AY64+AY65 -> 0 | AZ53: =SUM(BA53:BB53) -> 4668 | BA53: =BA54+BA57+BA60+BA63+BA64+BA65 -> 4249 | BB53: =BB54+BB57+BB60+BB63+BB64+BB65 -> 419
C54: BP Limay (Lamao) | D54: =E54+F54 -> 23 | E54: =E55+E56 -> 22 | F54: =F55+F56 -> 1 | G54: =H54+I54 -> 17 | H54: =H55+H56 -> 17 | I54: =I55+I56 -> 0 | J54: =K54+L54 -> 19 | K54: =K55+K56 -> 19 | L54: =L55+L56 -> 0 | M54: =N54+O54 -> 59 | N54: =N55+N56 -> 58 | O54: =O55+O56 -> 1 | P54: =Q54+R54 -> 32 | Q54: =Q55+Q56 -> 32 | R54: =R55+R56 -> 0 | S54: =T54+U54 -> 29 | T54: =T55+T56 -> 29 | U54: =U55+U56 -> 0 | V54: =W54+X54 -> 24 | W54: =W55+W56 -> 24 | X54: =X55+X56 -> 0 | Y54: =Z54+AA54 -> 85 | Z54: =Z55+Z56 -> 85 | AA54: =AA55+AA56 -> 0 | AB54: =AC54+AD54 -> 22 | AC54: =AC55+AC56 -> 22 | AD54: =AD55+AD56 -> 0 | AE54: =AF54+AG54 -> 12 | AF54: =AF55+AF56 -> 12 | AG54: =AG55+AG56 -> 0 | AH54: =AI54+AJ54 -> 31 | AI54: =AI55+AI56 -> 30 | AJ54: =AJ55+AJ56 -> 1 | AK54: =AL54+AM54 -> 65 | AL54: =AL55+AL56 -> 64 | AM54: =AM55+AM56 -> 1 | AN54: =AO54+AP54 -> 0 | AO54: =AO55+AO56 -> 0 | AP54: =AP55+AP56 -> 0 | AQ54: =AR54+AS54 -> 0 | AR54: =AR55+AR56 -> 0 | AS54: =AS55+AS56 -> 0 | AT54: =AU54+AV54 -> 0 | AU54: =AU55+AU56 -> 0 | AV54: =AV55+AV56 -> 0 | AW54: =AX54+AY54 -> 0 | AX54: =AX55+AX56 -> 0 | AY54: =AY55+AY56 -> 0 | AZ54: =BA54+BB54 -> 209 | BA54: =BA55+BA56 -> 207 | BB54: =BB55+BB56 -> 2
C55: BP Limay (Lamao) | D55: =E55+F55 -> 0 | E55: 0 | F55: 0 | G55: =H55+I55 -> 0 | H55: 0 | I55: 0 | J55: =K55+L55 -> 0 | K55: 0 | L55: 0 | M55: =N55+O55 -> 0 | N55: =+E55+H55+K55 -> 0 | O55: =+F55+I55+L55 -> 0 | P55: =Q55+R55 -> 7 | Q55: 7 | R55: 0 | S55: =T55+U55 -> 0 | T55: 0 | U55: 0 | V55: =W55+X55 -> 1 | W55: 1 | X55: 0 | Y55: =Z55+AA55 -> 8 | Z55: =+Q55+T55+W55 -> 8 | AA55: =+R55+U55+X55 -> 0 | AB55: =AC55+AD55 -> 0 | AC55: 0 | AD55: 0 | AE55: =AF55+AG55 -> 0 | AF55: 0 | AG55: 0 | AH55: =AI55+AJ55 -> 1 | AI55: 1 | AJ55: 0 | AK55: =AL55+AM55 -> 1 | AL55: =+AC55+AF55+AI55 -> 1 | AM55: =+AD55+AG55+AJ55 -> 0 | AN55: =AO55+AP55 -> 0 | AO55: 0 | AP55: 0 | AQ55: =AR55+AS55 -> 0 | AR55: 0 | AS55: 0 | AT55: =AU55+AV55 -> 0 | AU55: 0 | AV55: 0 | AW55: =AX55+AY55 -> 0 | AX55: =+AO55+AR55+AU55 -> 0 | AY55: =+AP55+AS55+AV55 -> 0 | AZ55: =BA55+BB55 -> 9 | BA55: =N55+Z55+AL55+AX55 -> 9 | BB55: =O55+AA55+AM55+AY55 -> 0
C56: BP Limay (Lamao) (Anchorage) | D56: =E56+F56 -> 23 | E56: 22 | F56: 1 | G56: =H56+I56 -> 17 | H56: 17 | I56: 0 | J56: =K56+L56 -> 19 | K56: 19 | L56: 0 | M56: =N56+O56 -> 59 | N56: =+E56+H56+K56 -> 58 | O56: =+F56+I56+L56 -> 1 | P56: =Q56+R56 -> 25 | Q56: 25 | R56: 0 | S56: =T56+U56 -> 29 | T56: 29 | U56: 0 | V56: =W56+X56 -> 23 | W56: 23 | X56: 0 | Y56: =Z56+AA56 -> 77 | Z56: =+Q56+T56+W56 -> 77 | AA56: =+R56+U56+X56 -> 0 | AB56: =AC56+AD56 -> 22 | AC56: 22 | AD56: 0 | AE56: =AF56+AG56 -> 12 | AF56: 12 | AG56: 0 | AH56: =AI56+AJ56 -> 30 | AI56: 29 | AJ56: 1 | AK56: =AL56+AM56 -> 64 | AL56: =+AC56+AF56+AI56 -> 63 | AM56: =+AD56+AG56+AJ56 -> 1 | AN56: =AO56+AP56 -> 0 | AO56: 0 | AP56: 0 | AQ56: =AR56+AS56 -> 0 | AR56: 0 | AS56: 0 | AT56: =AU56+AV56 -> 0 | AU56: 0 | AV56: 0 | AW56: =AX56+AY56 -> 0 | AX56: =+AO56+AR56+AU56 -> 0 | AY56: =+AP56+AS56+AV56 -> 0 | AZ56: =BA56+BB56 -> 200 | BA56: =N56+Z56+AL56+AX56 -> 198 | BB56: =O56+AA56+AM56+AY56 -> 2
C57: TMO Capinpin | D57: =E57+F57 -> 3 | E57: =SUM(E58:E59) -> 3 | F57: =SUM(F58:F59) -> 0 | G57: =H57+I57 -> 10 | H57: =SUM(H58:H59) -> 10 | I57: =SUM(I58:I59) -> 0 | J57: =K57+L57 -> 5 | K57: =SUM(K58:K59) -> 5 | L57: =SUM(L58:L59) -> 0 | M57: =N57+O57 -> 18 | N57: =SUM(N58:N59) -> 18 | O57: =SUM(O58:O59) -> 0 | P57: =Q57+R57 -> 9 | Q57: =SUM(Q58:Q59) -> 9 | R57: =SUM(R58:R59) -> 0 | S57: =T57+U57 -> 7 | T57: =SUM(T58:T59) -> 7 | U57: =SUM(U58:U59) -> 0 | V57: =W57+X57 -> 11 | W57: =SUM(W58:W59) -> 11 | X57: =SUM(X58:X59) -> 0 | Y57: =Z57+AA57 -> 27 | Z57: =SUM(Z58:Z59) -> 27 | AA57: =SUM(AA58:AA59) -> 0 | AB57: =AC57+AD57 -> 18 | AC57: =SUM(AC58:AC59) -> 18 | AD57: =SUM(AD58:AD59) -> 0 | AE57: =AF57+AG57 -> 7 | AF57: =SUM(AF58:AF59) -> 7 | AG57: =SUM(AG58:AG59) -> 0 | AH57: =AI57+AJ57 -> 13 | AI57: =SUM(AI58:AI59) -> 13 | AJ57: =SUM(AJ58:AJ59) -> 0 | AK57: =AL57+AM57 -> 38 | AL57: =SUM(AL58:AL59) -> 38 | AM57: =SUM(AM58:AM59) -> 0 | AN57: =AO57+AP57 -> 0 | AO57: =SUM(AO58:AO59) -> 0 | AP57: =SUM(AP58:AP59) -> 0 | AQ57: =AR57+AS57 -> 0 | AR57: =SUM(AR58:AR59) -> 0 | AS57: =SUM(AS58:AS59) -> 0 | AT57: =AU57+AV57 -> 0 | AU57: =SUM(AU58:AU59) -> 0 | AV57: =SUM(AV58:AV59) -> 0 | AW57: =AX57+AY57 -> 0 | AX57: =SUM(AX58:AX59) -> 0 | AY57: =SUM(AY58:AY59) -> 0 | AZ57: =BA57+BB57 -> 83 | BA57: =N57+Z57+AL57+AX57 -> 83 | BB57: =O57+AA57+AM57+AY57 -> 0
C58: TP Capinpin | D58: =E58+F58 -> 3 | E58: 3 | F58: 0 | G58: =H58+I58 -> 10 | H58: 10 | I58: 0 | J58: =K58+L58 -> 5 | K58: 5 | L58: 0 | M58: =N58+O58 -> 18 | N58: =+E58+H58+K58 -> 18 | O58: =+F58+I58+L58 -> 0 | P58: =Q58+R58 -> 8 | Q58: 8 | R58: 0 | S58: =T58+U58 -> 7 | T58: 7 | U58: 0 | V58: =W58+X58 -> 7 | W58: 7 | X58: 0 | Y58: =Z58+AA58 -> 22 | Z58: =+Q58+T58+W58 -> 22 | AA58: =+R58+U58+X58 -> 0 | AB58: =AC58+AD58 -> 11 | AC58: 11 | AD58: 0 | AE58: =AF58+AG58 -> 4 | AF58: 4 | AG58: 0 | AH58: =AI58+AJ58 -> 6 | AI58: 6 | AJ58: 0 | AK58: =AL58+AM58 -> 21 | AL58: =+AC58+AF58+AI58 -> 21 | AM58: =+AD58+AG58+AJ58 -> 0 | AN58: =AO58+AP58 -> 0 | AO58: 0 | AP58: 0 | AQ58: =AR58+AS58 -> 0 | AR58: 0 | AS58: 0 | AT58: =AU58+AV58 -> 0 | AU58: 0 | AV58: 0 | AW58: =AX58+AY58 -> 0 | AX58: =+AO58+AR58+AU58 -> 0 | AY58: =+AP58+AS58+AV58 -> 0 | AZ58: =BA58+BB58 -> 61 | BA58: =N58+Z58+AL58+AX58 -> 61 | BB58: =O58+AA58+AM58+AY58 -> 0
C59: TP Capinpin (Anchorage) | D59: =E59+F59 -> 0 | E59: 0 | F59: 0 | G59: =H59+I59 -> 0 | H59: 0 | I59: 0 | J59: =K59+L59 -> 0 | K59: 0 | L59: 0 | M59: =N59+O59 -> 0 | N59: =+E59+H59+K59 -> 0 | O59: =+F59+I59+L59 -> 0 | P59: =Q59+R59 -> 1 | Q59: 1 | R59: 0 | S59: =T59+U59 -> 0 | T59: 0 | U59: 0 | V59: =W59+X59 -> 4 | W59: 4 | X59: 0 | Y59: =Z59+AA59 -> 5 | Z59: =+Q59+T59+W59 -> 5 | AA59: =+R59+U59+X59 -> 0 | AB59: =AC59+AD59 -> 7 | AC59: 7 | AD59: 0 | AE59: =AF59+AG59 -> 3 | AF59: 3 | AG59: 0 | AH59: =AI59+AJ59 -> 7 | AI59: 7 | AJ59: 0 | AK59: =AL59+AM59 -> 17 | AL59: =+AC59+AF59+AI59 -> 17 | AM59: =+AD59+AG59+AJ59 -> 0 | AN59: =AO59+AP59 -> 0 | AO59: 0 | AP59: 0 | AQ59: =AR59+AS59 -> 0 | AR59: 0 | AS59: 0 | AT59: =AU59+AV59 -> 0 | AU59: 0 | AV59: 0 | AW59: =AX59+AY59 -> 0 | AX59: =+AO59+AR59+AU59 -> 0 | AY59: =+AP59+AS59+AV59 -> 0 | AZ59: =BA59+BB59 -> 22 | BA59: =N59+Z59+AL59+AX59 -> 22 | BB59: =O59+AA59+AM59+AY59 -> 0
C60: TMO Casiguran | D60: =E60+F60 -> 0 | E60: =SUM(E61:E62) -> 0 | F60: =SUM(F61:F62) -> 0 | G60: =H60+I60 -> 0 | H60: =SUM(H61:H62) -> 0 | I60: =SUM(I61:I62) -> 0 | J60: =K60+L60 -> 0 | K60: =SUM(K61:K62) -> 0 | L60: =SUM(L61:L62) -> 0 | M60: =N60+O60 -> 0 | N60: =SUM(N61:N62) -> 0 | O60: =SUM(O61:O62) -> 0 | P60: =Q60+R60 -> 1 | Q60: =SUM(Q61:Q62) -> 1 | R60: =SUM(R61:R62) -> 0 | S60: =T60+U60 -> 0 | T60: =SUM(T61:T62) -> 0 | U60: =SUM(U61:U62) -> 0 | V60: =W60+X60 -> 0 | W60: =SUM(W61:W62) -> 0 | X60: =SUM(X61:X62) -> 0 | Y60: =Z60+AA60 -> 1 | Z60: =SUM(Z61:Z62) -> 1 | AA60: =SUM(AA61:AA62) -> 0 | AB60: =AC60+AD60 -> 3 | AC60: =SUM(AC61:AC62) -> 3 | AD60: =SUM(AD61:AD62) -> 0 | AE60: =AF60+AG60 -> 0 | AF60: =SUM(AF61:AF62) -> 0 | AG60: =SUM(AG61:AG62) -> 0 | AH60: =AI60+AJ60 -> 0 | AI60: =SUM(AI61:AI62) -> 0 | AJ60: =SUM(AJ61:AJ62) -> 0 | AK60: =AL60+AM60 -> 3 | AL60: =SUM(AL61:AL62) -> 3 | AM60: =SUM(AM61:AM62) -> 0 | AN60: =AO60+AP60 -> 0 | AO60: =SUM(AO61:AO62) -> 0 | AP60: =SUM(AP61:AP62) -> 0 | AQ60: =AR60+AS60 -> 0 | AR60: =SUM(AR61:AR62) -> 0 | AS60: =SUM(AS61:AS62) -> 0 | AT60: =AU60+AV60 -> 0 | AU60: =SUM(AU61:AU62) -> 0 | AV60: =SUM(AV61:AV62) -> 0 | AW60: =AX60+AY60 -> 0 | AX60: =SUM(AX61:AX62) -> 0 | AY60: =SUM(AY61:AY62) -> 0 | AZ60: =BA60+BB60 -> 4 | BA60: =N60+Z60+AL60+AX60 -> 4 | BB60: =O60+AA60+AM60+AY60 -> 0
C61: TP Casiguran | D61: =E61+F61 -> 0 | E61: 0 | F61: 0 | G61: =H61+I61 -> 0 | H61: 0 | I61: 0 | J61: =K61+L61 -> 0 | K61: 0 | L61: 0 | M61: =N61+O61 -> 0 | N61: =+E61+H61+K61 -> 0 | O61: =+F61+I61+L61 -> 0 | P61: =Q61+R61 -> 1 | Q61: 1 | R61: 0 | S61: =T61+U61 -> 0 | T61: 0 | U61: 0 | V61: =W61+X61 -> 0 | W61: 0 | X61: 0 | Y61: =Z61+AA61 -> 1 | Z61: =+Q61+T61+W61 -> 1 | AA61: =+R61+U61+X61 -> 0 | AB61: =AC61+AD61 -> 0 | AC61: 0 | AD61: 0 | AE61: =AF61+AG61 -> 0 | AF61: 0 | AG61: 0 | AH61: =AI61+AJ61 -> 0 | AI61: 0 | AJ61: 0 | AK61: =AL61+AM61 -> 0 | AL61: =+AC61+AF61+AI61 -> 0 | AM61: =+AD61+AG61+AJ61 -> 0 | AN61: =AO61+AP61 -> 0 | AO61: 0 | AP61: 0 | AQ61: =AR61+AS61 -> 0 | AR61: 0 | AS61: 0 | AT61: =AU61+AV61 -> 0 | AU61: 0 | AV61: 0 | AW61: =AX61+AY61 -> 0 | AX61: =+AO61+AR61+AU61 -> 0 | AY61: =+AP61+AS61+AV61 -> 0 | AZ61: =BA61+BB61 -> 1 | BA61: =N61+Z61+AL61+AX61 -> 1 | BB61: =O61+AA61+AM61+AY61 -> 0
C62: TP Casiguran (Anchorage) | D62: =E62+F62 -> 0 | E62: 0 | F62: 0 | G62: =H62+I62 -> 0 | H62: 0 | I62: 0 | J62: =K62+L62 -> 0 | K62: 0 | L62: 0 | M62: =N62+O62 -> 0 | N62: =+E62+H62+K62 -> 0 | O62: =+F62+I62+L62 -> 0 | P62: =Q62+R62 -> 0 | Q62: 0 | R62: 0 | S62: =T62+U62 -> 0 | T62: 0 | U62: 0 | V62: =W62+X62 -> 0 | W62: 0 | X62: 0 | Y62: =Z62+AA62 -> 0 | Z62: =+Q62+T62+W62 -> 0 | AA62: =+R62+U62+X62 -> 0 | AB62: =AC62+AD62 -> 3 | AC62: 3 | AD62: 0 | AE62: =AF62+AG62 -> 0 | AF62: 0 | AG62: 0 | AH62: =AI62+AJ62 -> 0 | AI62: 0 | AJ62: 0 | AK62: =AL62+AM62 -> 3 | AL62: =+AC62+AF62+AI62 -> 3 | AM62: =+AD62+AG62+AJ62 -> 0 | AN62: =AO62+AP62 -> 0 | AO62: 0 | AP62: 0 | AQ62: =AR62+AS62 -> 0 | AR62: 0 | AS62: 0 | AT62: =AU62+AV62 -> 0 | AU62: 0 | AV62: 0 | AW62: =AX62+AY62 -> 0 | AX62: =+AO62+AR62+AU62 -> 0 | AY62: =+AP62+AS62+AV62 -> 0 | AZ62: =BA62+BB62 -> 3 | BA62: =N62+Z62+AL62+AX62 -> 3 | BB62: =O62+AA62+AM62+AY62 -> 0
C63: TMO Dingalan | D63: =E63+F63 -> 0 | E63: 0 | F63: 0 | G63: =H63+I63 -> 0 | H63: 0 | I63: 0 | J63: =K63+L63 -> 0 | K63: 0 | L63: 0 | M63: =N63+O63 -> 0 | N63: =+E63+H63+K63 -> 0 | O63: =+F63+I63+L63 -> 0 | P63: =Q63+R63 -> 0 | Q63: 0 | R63: 0 | S63: =T63+U63 -> 0 | T63: 0 | U63: 0 | V63: =W63+X63 -> 0 | W63: 0 | X63: 0 | Y63: =Z63+AA63 -> 0 | Z63: =+Q63+T63+W63 -> 0 | AA63: =+R63+U63+X63 -> 0 | AB63: =AC63+AD63 -> 0 | AC63: 0 | AD63: 0 | AE63: =AF63+AG63 -> 0 | AF63: 0 | AG63: 0 | AH63: =AI63+AJ63 -> 0 | AI63: 0 | AJ63: 0 | AK63: =AL63+AM63 -> 0 | AL63: =+AC63+AF63+AI63 -> 0 | AM63: =+AD63+AG63+AJ63 -> 0 | AN63: =AO63+AP63 -> 0 | AO63: 0 | AP63: 0 | AQ63: =AR63+AS63 -> 0 | AR63: 0 | AS63: 0 | AT63: =AU63+AV63 -> 0 | AU63: 0 | AV63: 0 | AW63: =AX63+AY63 -> 0 | AX63: =+AO63+AR63+AU63 -> 0 | AY63: =+AP63+AS63+AV63 -> 0 | AZ63: =BA63+BB63 -> 0 | BA63: =N63+Z63+AL63+AX63 -> 0 | BB63: =O63+AA63+AM63+AY63 -> 0
C64: Government Ports | D64: =E64+F64 -> 39 | E64: 39 | F64: 0 | G64: =H64+I64 -> 37 | H64: 37 | I64: 0 | J64: =K64+L64 -> 39 | K64: 39 | L64: 0 | M64: =N64+O64 -> 115 | N64: =+E64+H64+K64 -> 115 | O64: =+F64+I64+L64 -> 0 | P64: =Q64+R64 -> 39 | Q64: 39 | R64: 0 | S64: =T64+U64 -> 39 | T64: 39 | U64: 0 | V64: =W64+X64 -> 51 | W64: 51 | X64: 0 | Y64: =Z64+AA64 -> 129 | Z64: =+Q64+T64+W64 -> 129 | AA64: =+R64+U64+X64 -> 0 | AB64: =AC64+AD64 -> 59 | AC64: 59 | AD64: 0 | AE64: =AF64+AG64 -> 37 | AF64: 37 | AG64: 0 | AH64: =AI64+AJ64 -> 42 | AI64: 41 | AJ64: 1 | AK64: =AL64+AM64 -> 138 | AL64: =+AC64+AF64+AI64 -> 137 | AM64: =+AD64+AG64+AJ64 -> 1 | AN64: =AO64+AP64 -> 0 | AO64: 0 | AP64: 0 | AQ64: =AR64+AS64 -> 0 | AR64: 0 | AS64: 0 | AT64: =AU64+AV64 -> 0 | AU64: 0 | AV64: 0 | AW64: =AX64+AY64 -> 0 | AX64: =+AO64+AR64+AU64 -> 0 | AY64: =+AP64+AS64+AV64 -> 0 | AZ64: =BA64+BB64 -> 382 | BA64: =N64+Z64+AL64+AX64 -> 381 | BB64: =O64+AA64+AM64+AY64 -> 1
C65: Private Ports | D65: =E65+F65 -> 473 | E65: 417 | F65: 56 | G65: =H65+I65 -> 412 | H65: 362 | I65: 50 | J65: =K65+L65 -> 494 | K65: 443 | L65: 51 | M65: =N65+O65 -> 1379 | N65: =+E65+H65+K65 -> 1222 | O65: =+F65+I65+L65 -> 157 | P65: =Q65+R65 -> 456 | Q65: 409 | R65: 47 | S65: =T65+U65 -> 441 | T65: 400 | U65: 41 | V65: =W65+X65 -> 506 | W65: 454 | X65: 52 | Y65: =Z65+AA65 -> 1403 | Z65: =+Q65+T65+W65 -> 1263 | AA65: =+R65+U65+X65 -> 140 | AB65: =AC65+AD65 -> 518 | AC65: 473 | AD65: 45 | AE65: =AF65+AG65 -> 441 | AF65: 406 | AG65: 35 | AH65: =AI65+AJ65 -> 249 | AI65: 210 | AJ65: 39 | AK65: =AL65+AM65 -> 1208 | AL65: =+AC65+AF65+AI65 -> 1089 | AM65: =+AD65+AG65+AJ65 -> 119 | AN65: =AO65+AP65 -> 0 | AO65: 0 | AP65: 0 | AQ65: =AR65+AS65 -> 0 | AR65: 0 | AS65: 0 | AT65: =AU65+AV65 -> 0 | AU65: 0 | AV65: 0 | AW65: =AX65+AY65 -> 0 | AX65: =+AO65+AR65+AU65 -> 0 | AY65: =+AP65+AS65+AV65 -> 0 | AZ65: =BA65+BB65 -> 3990 | BA65: =N65+Z65+AL65+AX65 -> 3574 | BB65: =O65+AA65+AM65+AY65 -> 416
A67: Southern Luzon | D67: =SUM(E67:F67) -> 11565 | E67: =E69+E86+E112+E137+E161+E175 -> 11326 | F67: =F69+F86+F112+F137+F161+F175 -> 239 | G67: =SUM(H67:I67) -> 10276 | H67: =H69+H86+H112+H137+H161+H175 -> 10054 | I67: =I69+I86+I112+I137+I161+I175 -> 222 | J67: =SUM(K67:L67) -> 11651 | K67: =K69+K86+K112+K137+K161+K175 -> 11424 | L67: =L69+L86+L112+L137+L161+L175 -> 227 | M67: =SUM(N67:O67) -> 33492 | N67: =N69+N86+N112+N137+N161+N175 -> 32804 | O67: =O69+O86+O112+O137+O161+O175 -> 688 | P67: =SUM(Q67:R67) -> 10929 | Q67: =Q69+Q86+Q112+Q137+Q161+Q175 -> 10689 | R67: =R69+R86+R112+R137+R161+R175 -> 240 | S67: =SUM(T67:U67) -> 11424 | T67: =T69+T86+T112+T137+T161+T175 -> 11181 | U67: =U69+U86+U112+U137+U161+U175 -> 243 | V67: =SUM(W67:X67) -> 10328 | W67: =W69+W86+W112+W137+W161+W175 -> 10139 | X67: =X69+X86+X112+X137+X161+X175 -> 189 | Y67: =SUM(Z67:AA67) -> 32681 | Z67: =Z69+Z86+Z112+Z137+Z161+Z175 -> 32009 | AA67: =AA69+AA86+AA112+AA137+AA161+AA175 -> 672 | AB67: =SUM(AC67:AD67) -> 9667 | AC67: =AC69+AC86+AC112+AC137+AC161+AC175 -> 9457 | AD67: =AD69+AD86+AD112+AD137+AD161+AD175 -> 210 | AE67: =SUM(AF67:AG67) -> 8551 | AF67: =AF69+AF86+AF112+AF137+AF161+AF175 -> 8341 | AG67: =AG69+AG86+AG112+AG137+AG161+AG175 -> 210 | AH67: =SUM(AI67:AJ67) -> 8710 | AI67: =AI69+AI86+AI112+AI137+AI161+AI175 -> 8495 | AJ67: =AJ69+AJ86+AJ112+AJ137+AJ161+AJ175 -> 215 | AK67: =SUM(AL67:AM67) -> 26928 | AL67: =AL69+AL86+AL112+AL137+AL161+AL175 -> 26293 | AM67: =AM69+AM86+AM112+AM137+AM161+AM175 -> 635 | AN67: =SUM(AO67:AP67) -> 0 | AO67: =AO69+AO86+AO112+AO137+AO161+AO175 -> 0 | AP67: =AP69+AP86+AP112+AP137+AP161+AP175 -> 0 | AQ67: =SUM(AR67:AS67) -> 0 | AR67: =AR69+AR86+AR112+AR137+AR161+AR175 -> 0 | AS67: =AS69+AS86+AS112+AS137+AS161+AS175 -> 0 | AT67: =SUM(AU67:AV67) -> 0 | AU67: =AU69+AU86+AU112+AU137+AU161+AU175 -> 0 | AV67: =AV69+AV86+AV112+AV137+AV161+AV175 -> 0 | AW67: =SUM(AX67:AY67) -> 0 | AX67: =AX69+AX86+AX112+AX137+AX161+AX175 -> 0 | AY67: =AY69+AY86+AY112+AY137+AY161+AY175 -> 0 | AZ67: =SUM(BA67:BB67) -> 93101 | BA67: =BA69+BA86+BA112+BA137+BA161+BA175 -> 91106 | BB67: =BB69+BB86+BB112+BB137+BB161+BB175 -> 1995
B69: PMO Batangas | D69: =SUM(E69:F69) -> 3413 | E69: =E70+E75+E76+E79+E83+E84 -> 3254 | F69: =F70+F75+F76+F79+F83+F84 -> 159 | G69: =SUM(H69:I69) -> 2881 | H69: =H70+H75+H76+H79+H83+H84 -> 2724 | I69: =I70+I75+I76+I79+I83+I84 -> 157 | J69: =SUM(K69:L69) -> 3383 | K69: =K70+K75+K76+K79+K83+K84 -> 3223 | L69: =L70+L75+L76+L79+L83+L84 -> 160 | M69: =SUM(N69:O69) -> 9677 | N69: =N70+N75+N76+N79+N83+N84 -> 9201 | O69: =O70+O75+O76+O79+O83+O84 -> 476 | P69: =SUM(Q69:R69) -> 3148 | Q69: =Q70+Q75+Q76+Q79+Q83+Q84 -> 2989 | R69: =R70+R75+R76+R79+R83+R84 -> 159 | S69: =SUM(T69:U69) -> 3452 | T69: =T70+T75+T76+T79+T83+T84 -> 3292 | U69: =U70+U75+U76+U79+U83+U84 -> 160 | V69: =SUM(W69:X69) -> 3289 | W69: =W70+W75+W76+W79+W83+W84 -> 3151 | X69: =X70+X75+X76+X79+X83+X84 -> 138 | Y69: =SUM(Z69:AA69) -> 9889 | Z69: =Z70+Z75+Z76+Z79+Z83+Z84 -> 9432 | AA69: =AA70+AA75+AA76+AA79+AA83+AA84 -> 457 | AB69: =SUM(AC69:AD69) -> 3029 | AC69: =AC70+AC75+AC76+AC79+AC83+AC84 -> 2870 | AD69: =AD70+AD75+AD76+AD79+AD83+AD84 -> 159 | AE69: =SUM(AF69:AG69) -> 2716 | AF69: =AF70+AF75+AF76+AF79+AF83+AF84 -> 2565 | AG69: =AG70+AG75+AG76+AG79+AG83+AG84 -> 151 | AH69: =SUM(AI69:AJ69) -> 2793 | AI69: =AI70+AI75+AI76+AI79+AI83+AI84 -> 2634 | AJ69: =AJ70+AJ75+AJ76+AJ79+AJ83+AJ84 -> 159 | AK69: =SUM(AL69:AM69) -> 8538 | AL69: =AL70+AL75+AL76+AL79+AL83+AL84 -> 8069 | AM69: =AM70+AM75+AM76+AM79+AM83+AM84 -> 469 | AN69: =SUM(AO69:AP69) -> 0 | AO69: =AO70+AO75+AO76+AO79+AO83+AO84 -> 0 | AP69: =AP70+AP75+AP76+AP79+AP83+AP84 -> 0 | AQ69: =SUM(AR69:AS69) -> 0 | AR69: =AR70+AR75+AR76+AR79+AR83+AR84 -> 0 | AS69: =AS70+AS75+AS76+AS79+AS83+AS84 -> 0 | AT69: =SUM(AU69:AV69) -> 0 | AU69: =AU70+AU75+AU76+AU79+AU83+AU84 -> 0 | AV69: =AV70+AV75+AV76+AV79+AV83+AV84 -> 0 | AW69: =SUM(AX69:AY69) -> 0 | AX69: =AX70+AX75+AX76+AX79+AX83+AX84 -> 0 | AY69: =AY70+AY75+AY76+AY79+AY83+AY84 -> 0 | AZ69: =SUM(BA69:BB69) -> 28104 | BA69: =BA70+BA75+BA76+BA79+BA83+BA84 -> 26702 | BB69: =BB70+BB75+BB76+BB79+BB83+BB84 -> 1402
C70: BP Batangas | D70: =SUM(E70:F70) -> 2325 | E70: =SUM(E71:E74) -> 2253 | F70: =SUM(F71:F74) -> 72 | G70: =SUM(H70:I70) -> 1971 | H70: =SUM(H71:H74) -> 1905 | I70: =SUM(I71:I74) -> 66 | J70: =SUM(K70:L70) -> 2228 | K70: =SUM(K71:K74) -> 2159 | L70: =SUM(L71:L74) -> 69 | M70: =SUM(N70:O70) -> 6524 | N70: =SUM(N71:N74) -> 6317 | O70: =SUM(O71:O74) -> 207 | P70: =SUM(Q70:R70) -> 2134 | Q70: =SUM(Q71:Q74) -> 2073 | R70: =SUM(R71:R74) -> 61 | S70: =SUM(T70:U70) -> 2361 | T70: =SUM(T71:T74) -> 2282 | U70: =SUM(U71:U74) -> 79 | V70: =SUM(W70:X70) -> 2240 | W70: =SUM(W71:W74) -> 2173 | X70: =SUM(X71:X74) -> 67 | Y70: =SUM(Z70:AA70) -> 6735 | Z70: =SUM(Z71:Z74) -> 6528 | AA70: =SUM(AA71:AA74) -> 207 | AB70: =SUM(AC70:AD70) -> 2000 | AC70: =SUM(AC71:AC74) -> 1926 | AD70: =SUM(AD71:AD74) -> 74 | AE70: =SUM(AF70:AG70) -> 1817 | AF70: =SUM(AF71:AF74) -> 1743 | AG70: =SUM(AG71:AG74) -> 74 | AH70: =SUM(AI70:AJ70) -> 1838 | AI70: =SUM(AI71:AI74) -> 1761 | AJ70: =SUM(AJ71:AJ74) -> 77 | AK70: =SUM(AL70:AM70) -> 5655 | AL70: =SUM(AL71:AL74) -> 5430 | AM70: =SUM(AM71:AM74) -> 225 | AN70: =SUM(AO70:AP70) -> 0 | AO70: =SUM(AO71:AO74) -> 0 | AP70: =SUM(AP71:AP74) -> 0 | AQ70: =SUM(AR70:AS70) -> 0 | AR70: =SUM(AR71:AR74) -> 0 | AS70: =SUM(AS71:AS74) -> 0 | AT70: =SUM(AU70:AV70) -> 0 | AU70: =SUM(AU71:AU74) -> 0 | AV70: =SUM(AV71:AV74) -> 0 | AW70: =SUM(AX70:AY70) -> 0 | AX70: =SUM(AX71:AX74) -> 0 | AY70: =SUM(AY71:AY74) -> 0 | AZ70: =SUM(BA70:BB70) -> 18914 | BA70: =SUM(BA71:BA74) -> 18275 | BB70: =SUM(BB71:BB74) -> 639
C71: Batangas Ro-Ro | D71: =E71+F71 -> 1666 | E71: 1666 | F71: 0 | G71: =H71+I71 -> 1546 | H71: 1546 | I71: 0 | J71: =K71+L71 -> 1679 | K71: 1679 | L71: 0 | M71: =N71+O71 -> 4891 | N71: =+E71+H71+K71 -> 4891 | O71: =+F71+I71+L71 -> 0 | P71: =Q71+R71 -> 1642 | Q71: 1642 | R71: 0 | S71: =T71+U71 -> 1743 | T71: 1743 | U71: 0 | V71: =W71+X71 -> 1683 | W71: 1683 | X71: 0 | Y71: =Z71+AA71 -> 5068 | Z71: =+Q71+T71+W71 -> 5068 | AA71: =+R71+U71+X71 -> 0 | AB71: =AC71+AD71 -> 1579 | AC71: 1579 | AD71: 0 | AE71: =AF71+AG71 -> 1439 | AF71: 1439 | AG71: 0 | AH71: =AI71+AJ71 -> 1473 | AI71: 1473 | AJ71: 0 | AK71: =AL71+AM71 -> 4491 | AL71: =+AC71+AF71+AI71 -> 4491 | AM71: =+AD71+AG71+AJ71 -> 0 | AN71: =AO71+AP71 -> 0 | AO71: 0 | AP71: 0 | AQ71: =AR71+AS71 -> 0 | AR71: 0 | AS71: 0 | AT71: =AU71+AV71 -> 0 | AU71: 0 | AV71: 0 | AW71: =AX71+AY71 -> 0 | AX71: =+AO71+AR71+AU71 -> 0 | AY71: =+AP71+AS71+AV71 -> 0 | AZ71: =BA71+BB71 -> 14450 | BA71: =N71+Z71+AL71+AX71 -> 14450 | BB71: =O71+AA71+AM71+AY71 -> 0
C72: Batangas | D72: =E72+F72 -> 480 | E72: 457 | F72: 23 | G72: =H72+I72 -> 314 | H72: 294 | I72: 20 | J72: =K72+L72 -> 357 | K72: 334 | L72: 23 | M72: =N72+O72 -> 1151 | N72: =+E72+H72+K72 -> 1085 | O72: =+F72+I72+L72 -> 66 | P72: =Q72+R72 -> 395 | Q72: 376 | R72: 19 | S72: =T72+U72 -> 472 | T72: 451 | U72: 21 | V72: =W72+X72 -> 370 | W72: 349 | X72: 21 | Y72: =Z72+AA72 -> 1237 | Z72: =+Q72+T72+W72 -> 1176 | AA72: =+R72+U72+X72 -> 61 | AB72: =AC72+AD72 -> 279 | AC72: 258 | AD72: 21 | AE72: =AF72+AG72 -> 211 | AF72: 188 | AG72: 23 | AH72: =AI72+AJ72 -> 233 | AI72: 215 | AJ72: 18 | AK72: =AL72+AM72 -> 723 | AL72: =+AC72+AF72+AI72 -> 661 | AM72: =+AD72+AG72+AJ72 -> 62 | AN72: =AO72+AP72 -> 0 | AO72: 0 | AP72: 0 | AQ72: =AR72+AS72 -> 0 | AR72: 0 | AS72: 0 | AT72: =AU72+AV72 -> 0 | AU72: 0 | AV72: 0 | AW72: =AX72+AY72 -> 0 | AX72: =+AO72+AR72+AU72 -> 0 | AY72: =+AP72+AS72+AV72 -> 0 | AZ72: =BA72+BB72 -> 3111 | BA72: =N72+Z72+AL72+AX72 -> 2922 | BB72: =O72+AA72+AM72+AY72 -> 189
C73: Batangas Phase 2 | D73: =E73+F73 -> 38 | E73: 0 | F73: 38 | G73: =H73+I73 -> 40 | H73: 0 | I73: 40 | J73: =K73+L73 -> 39 | K73: 0 | L73: 39 | M73: =N73+O73 -> 117 | N73: =+E73+H73+K73 -> 0 | O73: =+F73+I73+L73 -> 117 | P73: =Q73+R73 -> 35 | Q73: 0 | R73: 35 | S73: =T73+U73 -> 42 | T73: 0 | U73: 42 | V73: =W73+X73 -> 40 | W73: 0 | X73: 40 | Y73: =Z73+AA73 -> 117 | Z73: =+Q73+T73+W73 -> 0 | AA73: =+R73+U73+X73 -> 117 | AB73: =AC73+AD73 -> 38 | AC73: 0 | AD73: 38 | AE73: =AF73+AG73 -> 39 | AF73: 0 | AG73: 39 | AH73: =AI73+AJ73 -> 42 | AI73: 0 | AJ73: 42 | AK73: =AL73+AM73 -> 119 | AL73: =+AC73+AF73+AI73 -> 0 | AM73: =+AD73+AG73+AJ73 -> 119 | AN73: =AO73+AP73 -> 0 | AO73: 0 | AP73: 0 | AQ73: =AR73+AS73 -> 0 | AR73: 0 | AS73: 0 | AT73: =AU73+AV73 -> 0 | AU73: 0 | AV73: 0 | AW73: =AX73+AY73 -> 0 | AX73: =+AO73+AR73+AU73 -> 0 | AY73: =+AP73+AS73+AV73 -> 0 | AZ73: =BA73+BB73 -> 353 | BA73: =N73+Z73+AL73+AX73 -> 0 | BB73: =O73+AA73+AM73+AY73 -> 353
C74: Batangas (Anchorage) | D74: =E74+F74 -> 141 | E74: 130 | F74: 11 | G74: =H74+I74 -> 71 | H74: 65 | I74: 6 | J74: =K74+L74 -> 153 | K74: 146 | L74: 7 | M74: =N74+O74 -> 365 | N74: =+E74+H74+K74 -> 341 | O74: =+F74+I74+L74 -> 24 | P74: =Q74+R74 -> 62 | Q74: 55 | R74: 7 | S74: =T74+U74 -> 104 | T74: 88 | U74: 16 | V74: =W74+X74 -> 147 | W74: 141 | X74: 6 | Y74: =Z74+AA74 -> 313 | Z74: =+Q74+T74+W74 -> 284 | AA74: =+R74+U74+X74 -> 29 | AB74: =AC74+AD74 -> 104 | AC74: 89 | AD74: 15 | AE74: =AF74+AG74 -> 128 | AF74: 116 | AG74: 12 | AH74: =AI74+AJ74 -> 90 | AI74: 73 | AJ74: 17 | AK74: =AL74+AM74 -> 322 | AL74: =+AC74+AF74+AI74 -> 278 | AM74: =+AD74+AG74+AJ74 -> 44 | AN74: =AO74+AP74 -> 0 | AO74: 0 | AP74: 0 | AQ74: =AR74+AS74 -> 0 | AR74: 0 | AS74: 0 | AT74: =AU74+AV74 -> 0 | AU74: 0 | AV74: 0 | AW74: =AX74+AY74 -> 0 | AX74: =+AO74+AR74+AU74 -> 0 | AY74: =+AP74+AS74+AV74 -> 0 | AZ74: =BA74+BB74 -> 1000 | BA74: =N74+Z74+AL74+AX74 -> 903 | BB74: =O74+AA74+AM74+AY74 -> 97
C75: TMO Bauan (TP Bauan) | D75: =E75+F75 -> 29 | E75: 29 | F75: 0 | G75: =H75+I75 -> 14 | H75: 14 | I75: 0 | J75: =K75+L75 -> 14 | K75: 14 | L75: 0 | M75: =N75+O75 -> 57 | N75: =+E75+H75+K75 -> 57 | O75: =+F75+I75+L75 -> 0 | P75: =Q75+R75 -> 10 | Q75: 10 | R75: 0 | S75: =T75+U75 -> 15 | T75: 15 | U75: 0 | V75: =W75+X75 -> 13 | W75: 13 | X75: 0 | Y75: =Z75+AA75 -> 38 | Z75: =+Q75+T75+W75 -> 38 | AA75: =+R75+U75+X75 -> 0 | AB75: =AC75+AD75 -> 13 | AC75: 13 | AD75: 0 | AE75: =AF75+AG75 -> 10 | AF75: 10 | AG75: 0 | AH75: =AI75+AJ75 -> 10 | AI75: 10 | AJ75: 0 | AK75: =AL75+AM75 -> 33 | AL75: =+AC75+AF75+AI75 -> 33 | AM75: =+AD75+AG75+AJ75 -> 0 | AN75: =AO75+AP75 -> 0 | AO75: 0 | AP75: 0 | AQ75: =AR75+AS75 -> 0 | AR75: 0 | AS75: 0 | AT75: =AU75+AV75 -> 0 | AU75: 0 | AV75: 0 | AW75: =AX75+AY75 -> 0 | AX75: =+AO75+AR75+AU75 -> 0 | AY75: =+AP75+AS75+AV75 -> 0 | AZ75: =BA75+BB75 -> 128 | BA75: =N75+Z75+AL75+AX75 -> 128 | BB75: =O75+AA75+AM75+AY75 -> 0
C76: TMO Tablas | D76: =SUM(E76:F76) -> 88 | E76: =SUM(E77:E78) -> 88 | F76: =SUM(F77:F78) -> 0 | G76: =SUM(H76:I76) -> 70 | H76: =SUM(H77:H78) -> 70 | I76: =SUM(I77:I78) -> 0 | J76: =SUM(K76:L76) -> 83 | K76: =SUM(K77:K78) -> 83 | L76: =SUM(L77:L78) -> 0 | M76: =SUM(N76:O76) -> 241 | N76: =SUM(N77:N78) -> 241 | O76: =SUM(O77:O78) -> 0 | P76: =SUM(Q76:R76) -> 83 | Q76: =SUM(Q77:Q78) -> 83 | R76: =SUM(R77:R78) -> 0 | S76: =SUM(T76:U76) -> 84 | T76: =SUM(T77:T78) -> 84 | U76: =SUM(U77:U78) -> 0 | V76: =SUM(W76:X76) -> 81 | W76: =SUM(W77:W78) -> 81 | X76: =SUM(X77:X78) -> 0 | Y76: =SUM(Z76:AA76) -> 248 | Z76: =SUM(Z77:Z78) -> 248 | AA76: =SUM(AA77:AA78) -> 0 | AB76: =SUM(AC76:AD76) -> 74 | AC76: =SUM(AC77:AC78) -> 74 | AD76: =SUM(AD77:AD78) -> 0 | AE76: =SUM(AF76:AG76) -> 75 | AF76: =SUM(AF77:AF78) -> 75 | AG76: =SUM(AG77:AG78) -> 0 | AH76: =SUM(AI76:AJ76) -> 76 | AI76: =SUM(AI77:AI78) -> 76 | AJ76: =SUM(AJ77:AJ78) -> 0 | AK76: =SUM(AL76:AM76) -> 225 | AL76: =SUM(AL77:AL78) -> 225 | AM76: =SUM(AM77:AM78) -> 0 | AN76: =SUM(AO76:AP76) -> 0 | AO76: =SUM(AO77:AO78) -> 0 | AP76: =SUM(AP77:AP78) -> 0 | AQ76: =SUM(AR76:AS76) -> 0 | AR76: =SUM(AR77:AR78) -> 0 | AS76: =SUM(AS77:AS78) -> 0 | AT76: =SUM(AU76:AV76) -> 0 | AU76: =SUM(AU77:AU78) -> 0 | AV76: =SUM(AV77:AV78) -> 0 | AW76: =SUM(AX76:AY76) -> 0 | AX76: =SUM(AX77:AX78) -> 0 | AY76: =SUM(AY77:AY78) -> 0 | AZ76: =SUM(BA76:BB76) -> 714 | BA76: =SUM(BA77:BA78) -> 714 | BB76: =SUM(BB77:BB78) -> 0
C77: TP Tablas Ro-Ro | D77: =E77+F77 -> 76 | E77: 76 | F77: 0 | G77: =H77+I77 -> 64 | H77: 64 | I77: 0 | J77: =K77+L77 -> 75 | K77: 75 | L77: 0 | M77: =N77+O77 -> 215 | N77: =+E77+H77+K77 -> 215 | O77: =+F77+I77+L77 -> 0 | P77: =Q77+R77 -> 71 | Q77: 71 | R77: 0 | S77: =T77+U77 -> 77 | T77: 77 | U77: 0 | V77: =W77+X77 -> 71 | W77: 71 | X77: 0 | Y77: =Z77+AA77 -> 219 | Z77: =+Q77+T77+W77 -> 219 | AA77: =+R77+U77+X77 -> 0 | AB77: =AC77+AD77 -> 66 | AC77: 66 | AD77: 0 | AE77: =AF77+AG77 -> 69 | AF77: 69 | AG77: 0 | AH77: =AI77+AJ77 -> 71 | AI77: 71 | AJ77: 0 | AK77: =AL77+AM77 -> 206 | AL77: =+AC77+AF77+AI77 -> 206 | AM77: =+AD77+AG77+AJ77 -> 0 | AN77: =AO77+AP77 -> 0 | AO77: 0 | AP77: 0 | AQ77: =AR77+AS77 -> 0 | AR77: 0 | AS77: 0 | AT77: =AU77+AV77 -> 0 | AU77: 0 | AV77: 0 | AW77: =AX77+AY77 -> 0 | AX77: =+AO77+AR77+AU77 -> 0 | AY77: =+AP77+AS77+AV77 -> 0 | AZ77: =BA77+BB77 -> 640 | BA77: =N77+Z77+AL77+AX77 -> 640 | BB77: =O77+AA77+AM77+AY77 -> 0
C78: TP Tablas | D78: =E78+F78 -> 12 | E78: 12 | F78: 0 | G78: =H78+I78 -> 6 | H78: 6 | I78: 0 | J78: =K78+L78 -> 8 | K78: 8 | L78: 0 | M78: =N78+O78 -> 26 | N78: =+E78+H78+K78 -> 26 | O78: =+F78+I78+L78 -> 0 | P78: =Q78+R78 -> 12 | Q78: 12 | R78: 0 | S78: =T78+U78 -> 7 | T78: 7 | U78: 0 | V78: =W78+X78 -> 10 | W78: 10 | X78: 0 | Y78: =Z78+AA78 -> 29 | Z78: =+Q78+T78+W78 -> 29 | AA78: =+R78+U78+X78 -> 0 | AB78: =AC78+AD78 -> 8 | AC78: 8 | AD78: 0 | AE78: =AF78+AG78 -> 6 | AF78: 6 | AG78: 0 | AH78: =AI78+AJ78 -> 5 | AI78: 5 | AJ78: 0 | AK78: =AL78+AM78 -> 19 | AL78: =+AC78+AF78+AI78 -> 19 | AM78: =+AD78+AG78+AJ78 -> 0 | AN78: =AO78+AP78 -> 0 | AO78: 0 | AP78: 0 | AQ78: =AR78+AS78 -> 0 | AR78: 0 | AS78: 0 | AT78: =AU78+AV78 -> 0 | AU78: 0 | AV78: 0 | AW78: =AX78+AY78 -> 0 | AX78: =+AO78+AR78+AU78 -> 0 | AY78: =+AP78+AS78+AV78 -> 0 | AZ78: =BA78+BB78 -> 74 | BA78: =N78+Z78+AL78+AX78 -> 74 | BB78: =O78+AA78+AM78+AY78 -> 0
C79: TMO Romblon | D79: =SUM(E79:F79) -> 172 | E79: =SUM(E80:E82) -> 172 | F79: =SUM(F80:F82) -> 0 | G79: =SUM(H79:I79) -> 153 | H79: =SUM(H80:H82) -> 153 | I79: =SUM(I80:I82) -> 0 | J79: =SUM(K79:L79) -> 181 | K79: =SUM(K80:K82) -> 181 | L79: =SUM(L80:L82) -> 0 | M79: =SUM(N79:O79) -> 506 | N79: =SUM(N80:N82) -> 506 | O79: =SUM(O80:O82) -> 0 | P79: =SUM(Q79:R79) -> 153 | Q79: =SUM(Q80:Q82) -> 153 | R79: =SUM(R80:R82) -> 0 | S79: =SUM(T79:U79) -> 180 | T79: =SUM(T80:T82) -> 179 | U79: =SUM(U80:U82) -> 1 | V79: =SUM(W79:X79) -> 170 | W79: =SUM(W80:W82) -> 170 | X79: =SUM(X80:X82) -> 0 | Y79: =SUM(Z79:AA79) -> 503 | Z79: =SUM(Z80:Z82) -> 502 | AA79: =SUM(AA80:AA82) -> 1 | AB79: =SUM(AC79:AD79) -> 175 | AC79: =SUM(AC80:AC82) -> 175 | AD79: =SUM(AD80:AD82) -> 0 | AE79: =SUM(AF79:AG79) -> 155 | AF79: =SUM(AF80:AF82) -> 155 | AG79: =SUM(AG80:AG82) -> 0 | AH79: =SUM(AI79:AJ79) -> 166 | AI79: =SUM(AI80:AI82) -> 166 | AJ79: =SUM(AJ80:AJ82) -> 0 | AK79: =SUM(AL79:AM79) -> 496 | AL79: =SUM(AL80:AL82) -> 496 | AM79: =SUM(AM80:AM82) -> 0 | AN79: =SUM(AO79:AP79) -> 0 | AO79: =SUM(AO80:AO82) -> 0 | AP79: =SUM(AP80:AP82) -> 0 | AQ79: =SUM(AR79:AS79) -> 0 | AR79: =SUM(AR80:AR82) -> 0 | AS79: =SUM(AS80:AS82) -> 0 | AT79: =SUM(AU79:AV79) -> 0 | AU79: =SUM(AU80:AU82) -> 0 | AV79: =SUM(AV80:AV82) -> 0 | AW79: =SUM(AX79:AY79) -> 0 | AX79: =SUM(AX80:AX82) -> 0 | AY79: =SUM(AY80:AY82) -> 0 | AZ79: =SUM(BA79:BB79) -> 1505 | BA79: =SUM(BA80:BA82) -> 1504 | BB79: =SUM(BB80:BB82) -> 1
C80: TP Romblon Ro-Ro | D80: =E80+F80 -> 168 | E80: 168 | F80: 0 | G80: =H80+I80 -> 150 | H80: 150 | I80: 0 | J80: =K80+L80 -> 178 | K80: 178 | L80: 0 | M80: =N80+O80 -> 496 | N80: =+E80+H80+K80 -> 496 | O80: =+F80+I80+L80 -> 0 | P80: =Q80+R80 -> 149 | Q80: 149 | R80: 0 | S80: =T80+U80 -> 173 | T80: 173 | U80: 0 | V80: =W80+X80 -> 167 | W80: 167 | X80: 0 | Y80: =Z80+AA80 -> 489 | Z80: =+Q80+T80+W80 -> 489 | AA80: =+R80+U80+X80 -> 0 | AB80: =AC80+AD80 -> 171 | AC80: 171 | AD80: 0 | AE80: =AF80+AG80 -> 154 | AF80: 154 | AG80: 0 | AH80: =AI80+AJ80 -> 163 | AI80: 163 | AJ80: 0 | AK80: =AL80+AM80 -> 488 | AL80: =+AC80+AF80+AI80 -> 488 | AM80: =+AD80+AG80+AJ80 -> 0 | AN80: =AO80+AP80 -> 0 | AO80: 0 | AP80: 0 | AQ80: =AR80+AS80 -> 0 | AR80: 0 | AS80: 0 | AT80: =AU80+AV80 -> 0 | AU80: 0 | AV80: 0 | AW80: =AX80+AY80 -> 0 | AX80: =+AO80+AR80+AU80 -> 0 | AY80: =+AP80+AS80+AV80 -> 0 | AZ80: =BA80+BB80 -> 1473 | BA80: =N80+Z80+AL80+AX80 -> 1473 | BB80: =O80+AA80+AM80+AY80 -> 0
C81: TP Romblon | D81: =E81+F81 -> 4 | E81: 4 | F81: 0 | G81: =H81+I81 -> 3 | H81: 3 | I81: 0 | J81: =K81+L81 -> 3 | K81: 3 | L81: 0 | M81: =N81+O81 -> 10 | N81: =+E81+H81+K81 -> 10 | O81: =+F81+I81+L81 -> 0 | P81: =Q81+R81 -> 4 | Q81: 4 | R81: 0 | S81: =T81+U81 -> 6 | T81: 6 | U81: 0 | V81: =W81+X81 -> 3 | W81: 3 | X81: 0 | Y81: =Z81+AA81 -> 13 | Z81: =+Q81+T81+W81 -> 13 | AA81: =+R81+U81+X81 -> 0 | AB81: =AC81+AD81 -> 4 | AC81: 4 | AD81: 0 | AE81: =AF81+AG81 -> 1 | AF81: 1 | AG81: 0 | AH81: =AI81+AJ81 -> 3 | AI81: 3 | AJ81: 0 | AK81: =AL81+AM81 -> 8 | AL81: =+AC81+AF81+AI81 -> 8 | AM81: =+AD81+AG81+AJ81 -> 0 | AN81: =AO81+AP81 -> 0 | AO81: 0 | AP81: 0 | AQ81: =AR81+AS81 -> 0 | AR81: 0 | AS81: 0 | AT81: =AU81+AV81 -> 0 | AU81: 0 | AV81: 0 | AW81: =AX81+AY81 -> 0 | AX81: =+AO81+AR81+AU81 -> 0 | AY81: =+AP81+AS81+AV81 -> 0 | AZ81: =BA81+BB81 -> 31 | BA81: =N81+Z81+AL81+AX81 -> 31 | BB81: =O81+AA81+AM81+AY81 -> 0
C82: TP Romblon (Anchorage) | D82: =E82+F82 -> 0 | E82: 0 | F82: 0 | G82: =H82+I82 -> 0 | H82: 0 | I82: 0 | J82: =K82+L82 -> 0 | K82: 0 | L82: 0 | M82: =N82+O82 -> 0 | N82: =+E82+H82+K82 -> 0 | O82: =+F82+I82+L82 -> 0 | P82: =Q82+R82 -> 0 | Q82: 0 | R82: 0 | S82: =T82+U82 -> 1 | T82: 0 | U82: 1 | V82: =W82+X82 -> 0 | W82: 0 | X82: 0 | Y82: =Z82+AA82 -> 1 | Z82: =+Q82+T82+W82 -> 0 | AA82: =+R82+U82+X82 -> 1 | AB82: =AC82+AD82 -> 0 | AC82: 0 | AD82: 0 | AE82: =AF82+AG82 -> 0 | AF82: 0 | AG82: 0 | AH82: =AI82+AJ82 -> 0 | AI82: 0 | AJ82: 0 | AK82: =AL82+AM82 -> 0 | AL82: =+AC82+AF82+AI82 -> 0 | AM82: =+AD82+AG82+AJ82 -> 0 | AN82: =AO82+AP82 -> 0 | AO82: 0 | AP82: 0 | AQ82: =AR82+AS82 -> 0 | AR82: 0 | AS82: 0 | AT82: =AU82+AV82 -> 0 | AU82: 0 | AV82: 0 | AW82: =AX82+AY82 -> 0 | AX82: =+AO82+AR82+AU82 -> 0 | AY82: =+AP82+AS82+AV82 -> 0 | AZ82: =BA82+BB82 -> 1 | BA82: =N82+Z82+AL82+AX82 -> 0 | BB82: =O82+AA82+AM82+AY82 -> 1
C83: Government Ports | D83: =E83+F83 -> 355 | E83: 347 | F83: 8 | G83: =H83+I83 -> 304 | H83: 299 | I83: 5 | J83: =K83+L83 -> 383 | K83: 375 | L83: 8 | M83: =N83+O83 -> 1042 | N83: =+E83+H83+K83 -> 1021 | O83: =+F83+I83+L83 -> 21 | P83: =Q83+R83 -> 350 | Q83: 342 | R83: 8 | S83: =T83+U83 -> 392 | T83: 384 | U83: 8 | V83: =W83+X83 -> 354 | W83: 350 | X83: 4 | Y83: =Z83+AA83 -> 1096 | Z83: =+Q83+T83+W83 -> 1076 | AA83: =+R83+U83+X83 -> 20 | AB83: =AC83+AD83 -> 341 | AC83: 337 | AD83: 4 | AE83: =AF83+AG83 -> 292 | AF83: 288 | AG83: 4 | AH83: =AI83+AJ83 -> 324 | AI83: 318 | AJ83: 6 | AK83: =AL83+AM83 -> 957 | AL83: =+AC83+AF83+AI83 -> 943 | AM83: =+AD83+AG83+AJ83 -> 14 | AN83: =AO83+AP83 -> 0 | AO83: 0 | AP83: 0 | AQ83: =AR83+AS83 -> 0 | AR83: 0 | AS83: 0 | AT83: =AU83+AV83 -> 0 | AU83: 0 | AV83: 0 | AW83: =AX83+AY83 -> 0 | AX83: =+AO83+AR83+AU83 -> 0 | AY83: =+AP83+AS83+AV83 -> 0 | AZ83: =BA83+BB83 -> 3095 | BA83: =N83+Z83+AL83+AX83 -> 3040 | BB83: =O83+AA83+AM83+AY83 -> 55
C84: Private Ports | D84: =E84+F84 -> 444 | E84: 365 | F84: 79 | G84: =H84+I84 -> 369 | H84: 283 | I84: 86 | J84: =K84+L84 -> 494 | K84: 411 | L84: 83 | M84: =N84+O84 -> 1307 | N84: =+E84+H84+K84 -> 1059 | O84: =+F84+I84+L84 -> 248 | P84: =Q84+R84 -> 418 | Q84: 328 | R84: 90 | S84: =T84+U84 -> 420 | T84: 348 | U84: 72 | V84: =W84+X84 -> 431 | W84: 364 | X84: 67 | Y84: =Z84+AA84 -> 1269 | Z84: =+Q84+T84+W84 -> 1040 | AA84: =+R84+U84+X84 -> 229 | AB84: =AC84+AD84 -> 426 | AC84: 345 | AD84: 81 | AE84: =AF84+AG84 -> 367 | AF84: 294 | AG84: 73 | AH84: =AI84+AJ84 -> 379 | AI84: 303 | AJ84: 76 | AK84: =AL84+AM84 -> 1172 | AL84: =+AC84+AF84+AI84 -> 942 | AM84: =+AD84+AG84+AJ84 -> 230 | AN84: =AO84+AP84 -> 0 | AO84: 0 | AP84: 0 | AQ84: =AR84+AS84 -> 0 | AR84: 0 | AS84: 0 | AT84: =AU84+AV84 -> 0 | AU84: 0 | AV84: 0 | AW84: =AX84+AY84 -> 0 | AX84: =+AO84+AR84+AU84 -> 0 | AY84: =+AP84+AS84+AV84 -> 0 | AZ84: =BA84+BB84 -> 3748 | BA84: =N84+Z84+AL84+AX84 -> 3041 | BB84: =O84+AA84+AM84+AY84 -> 707
B86: PMO Bicol | D86: =SUM(E86:F86) -> 1760 | E86: =E87+E89+E93+E96+E99+E102+E106+E109+E110 -> 1757 | F86: =F87+F89+F93+F96+F99+F102+F106+F109+F110 -> 3 | G86: =SUM(H86:I86) -> 1782 | H86: =H87+H89+H93+H96+H99+H102+H106+H109+H110 -> 1778 | I86: =I87+I89+I93+I96+I99+I102+I106+I109+I110 -> 4 | J86: =SUM(K86:L86) -> 1873 | K86: =K87+K89+K93+K96+K99+K102+K106+K109+K110 -> 1869 | L86: =L87+L89+L93+L96+L99+L102+L106+L109+L110 -> 4 | M86: =SUM(N86:O86) -> 5415 | N86: =N87+N89+N93+N96+N99+N102+N106+N109+N110 -> 5404 | O86: =O87+O89+O93+O96+O99+O102+O106+O109+O110 -> 11 | P86: =SUM(Q86:R86) -> 1699 | Q86: =Q87+Q89+Q93+Q96+Q99+Q102+Q106+Q109+Q110 -> 1692 | R86: =R87+R89+R93+R96+R99+R102+R106+R109+R110 -> 7 | S86: =SUM(T86:U86) -> 1944 | T86: =T87+T89+T93+T96+T99+T102+T106+T109+T110 -> 1940 | U86: =U87+U89+U93+U96+U99+U102+U106+U109+U110 -> 4 | V86: =SUM(W86:X86) -> 1917 | W86: =W87+W89+W93+W96+W99+W102+W106+W109+W110 -> 1916 | X86: =X87+X89+X93+X96+X99+X102+X106+X109+X110 -> 1 | Y86: =SUM(Z86:AA86) -> 5560 | Z86: =Z87+Z89+Z93+Z96+Z99+Z102+Z106+Z109+Z110 -> 5548 | AA86: =AA87+AA89+AA93+AA96+AA99+AA102+AA106+AA109+AA110 -> 12 | AB86: =SUM(AC86:AD86) -> 1882 | AC86: =AC87+AC89+AC93+AC96+AC99+AC102+AC106+AC109+AC110 -> 1877 | AD86: =AD87+AD89+AD93+AD96+AD99+AD102+AD106+AD109+AD110 -> 5 | AE86: =SUM(AF86:AG86) -> 1759 | AF86: =AF87+AF89+AF93+AF96+AF99+AF102+AF106+AF109+AF110 -> 1755 | AG86: =AG87+AG89+AG93+AG96+AG99+AG102+AG106+AG109+AG110 -> 4 | AH86: =SUM(AI86:AJ86) -> 1726 | AI86: =AI87+AI89+AI93+AI96+AI99+AI102+AI106+AI109+AI110 -> 1720 | AJ86: =AJ87+AJ89+AJ93+AJ96+AJ99+AJ102+AJ106+AJ109+AJ110 -> 6 | AK86: =SUM(AL86:AM86) -> 5367 | AL86: =AL87+AL89+AL93+AL96+AL99+AL102+AL106+AL109+AL110 -> 5352 | AM86: =AM87+AM89+AM93+AM96+AM99+AM102+AM106+AM109+AM110 -> 15 | AN86: =SUM(AO86:AP86) -> 0 | AO86: =AO87+AO89+AO93+AO96+AO99+AO102+AO106+AO109+AO110 -> 0 | AP86: =AP87+AP89+AP93+AP96+AP99+AP102+AP106+AP109+AP110 -> 0 | AQ86: =SUM(AR86:AS86) -> 0 | AR86: =AR87+AR89+AR93+AR96+AR99+AR102+AR106+AR109+AR110 -> 0 | AS86: =AS87+AS89+AS93+AS96+AS99+AS102+AS106+AS109+AS110 -> 0 | AT86: =SUM(AU86:AV86) -> 0 | AU86: =AU87+AU89+AU93+AU96+AU99+AU102+AU106+AU109+AU110 -> 0 | AV86: =AV87+AV89+AV93+AV96+AV99+AV102+AV106+AV109+AV110 -> 0 | AW86: =SUM(AX86:AY86) -> 0 | AX86: =AX87+AX89+AX93+AX96+AX99+AX102+AX106+AX109+AX110 -> 0 | AY86: =AY87+AY89+AY93+AY96+AY99+AY102+AY106+AY109+AY110 -> 0 | AZ86: =SUM(BA86:BB86) -> 16342 | BA86: =BA87+BA89+BA93+BA96+BA99+BA102+BA106+BA109+BA110 -> 16304 | BB86: =BB87+BB89+BB93+BB96+BB99+BB102+BB106+BB109+BB110 -> 38
C87: BP Legazpi | D87: =SUM(E87:F87) -> 38 | E87: =SUM(E88:E88) -> 38 | F87: =SUM(F88:F88) -> 0 | G87: =SUM(H87:I87) -> 54 | H87: =SUM(H88:H88) -> 54 | I87: =SUM(I88:I88) -> 0 | J87: =SUM(K87:L87) -> 60 | K87: =SUM(K88:K88) -> 60 | L87: =SUM(L88:L88) -> 0 | M87: =SUM(N87:O87) -> 152 | N87: =SUM(N88:N88) -> 152 | O87: =SUM(O88:O88) -> 0 | P87: =SUM(Q87:R87) -> 59 | Q87: =SUM(Q88:Q88) -> 58 | R87: =SUM(R88:R88) -> 1 | S87: =SUM(T87:U87) -> 63 | T87: =SUM(T88:T88) -> 63 | U87: =SUM(U88:U88) -> 0 | V87: =SUM(W87:X87) -> 64 | W87: =SUM(W88:W88) -> 64 | X87: =SUM(X88:X88) -> 0 | Y87: =SUM(Z87:AA87) -> 186 | Z87: =SUM(Z88:Z88) -> 185 | AA87: =SUM(AA88:AA88) -> 1 | AB87: =SUM(AC87:AD87) -> 61 | AC87: =SUM(AC88:AC88) -> 60 | AD87: =SUM(AD88:AD88) -> 1 | AE87: =SUM(AF87:AG87) -> 65 | AF87: =SUM(AF88:AF88) -> 65 | AG87: =SUM(AG88:AG88) -> 0 | AH87: =SUM(AI87:AJ87) -> 59 | AI87: =SUM(AI88:AI88) -> 59 | AJ87: =SUM(AJ88:AJ88) -> 0 | AK87: =SUM(AL87:AM87) -> 185 | AL87: =SUM(AL88:AL88) -> 184 | AM87: =SUM(AM88:AM88) -> 1 | AN87: =SUM(AO87:AP87) -> 0 | AO87: =SUM(AO88:AO88) -> 0 | AP87: =SUM(AP88:AP88) -> 0 | AQ87: =SUM(AR87:AS87) -> 0 | AR87: =SUM(AR88:AR88) -> 0 | AS87: =SUM(AS88:AS88) -> 0 | AT87: =SUM(AU87:AV87) -> 0 | AU87: =SUM(AU88:AU88) -> 0 | AV87: =SUM(AV88:AV88) -> 0 | AW87: =SUM(AX87:AY87) -> 0 | AX87: =SUM(AX88:AX88) -> 0 | AY87: =SUM(AY88:AY88) -> 0 | AZ87: =SUM(BA87:BB87) -> 523 | BA87: =SUM(BA88:BA88) -> 521 | BB87: =SUM(BB88:BB88) -> 2
C88: BP Legazpi | D88: =E88+F88 -> 38 | E88: 38 | F88: 0 | G88: =H88+I88 -> 54 | H88: 54 | I88: 0 | J88: =K88+L88 -> 60 | K88: 60 | L88: 0 | M88: =N88+O88 -> 152 | N88: =+E88+H88+K88 -> 152 | O88: =+F88+I88+L88 -> 0 | P88: =Q88+R88 -> 59 | Q88: 58 | R88: 1 | S88: =T88+U88 -> 63 | T88: 63 | U88: 0 | V88: =W88+X88 -> 64 | W88: 64 | X88: 0 | Y88: =Z88+AA88 -> 186 | Z88: =+Q88+T88+W88 -> 185 | AA88: =+R88+U88+X88 -> 1 | AB88: =AC88+AD88 -> 61 | AC88: 60 | AD88: 1 | AE88: =AF88+AG88 -> 65 | AF88: 65 | AG88: 0 | AH88: =AI88+AJ88 -> 59 | AI88: 59 | AJ88: 0 | AK88: =AL88+AM88 -> 185 | AL88: =+AC88+AF88+AI88 -> 184 | AM88: =+AD88+AG88+AJ88 -> 1 | AN88: =AO88+AP88 -> 0 | AO88: 0 | AP88: 0 | AQ88: =AR88+AS88 -> 0 | AR88: 0 | AS88: 0 | AT88: =AU88+AV88 -> 0 | AU88: 0 | AV88: 0 | AW88: =AX88+AY88 -> 0 | AX88: =+AO88+AR88+AU88 -> 0 | AY88: =+AP88+AS88+AV88 -> 0 | AZ88: =BA88+BB88 -> 523 | BA88: =N88+Z88+AL88+AX88 -> 521 | BB88: =O88+AA88+AM88+AY88 -> 2
C89: TMO Bulan | D89: =E89+F89 -> 151 | E89: =SUM(E90:E92) -> 151 | F89: =SUM(F90:F92) -> 0 | G89: =H89+I89 -> 137 | H89: =SUM(H90:H92) -> 137 | I89: =SUM(I90:I92) -> 0 | J89: =K89+L89 -> 128 | K89: =SUM(K90:K92) -> 128 | L89: =SUM(L90:L92) -> 0 | M89: =N89+O89 -> 416 | N89: =SUM(N90:N92) -> 416 | O89: =SUM(O90:O92) -> 0 | P89: =Q89+R89 -> 118 | Q89: =SUM(Q90:Q92) -> 118 | R89: =SUM(R90:R92) -> 0 | S89: =T89+U89 -> 126 | T89: =SUM(T90:T92) -> 126 | U89: =SUM(U90:U92) -> 0 | V89: =W89+X89 -> 120 | W89: =SUM(W90:W92) -> 120 | X89: =SUM(X90:X92) -> 0 | Y89: =Z89+AA89 -> 364 | Z89: =SUM(Z90:Z92) -> 364 | AA89: =SUM(AA90:AA92) -> 0 | AB89: =AC89+AD89 -> 114 | AC89: =SUM(AC90:AC92) -> 114 | AD89: =SUM(AD90:AD92) -> 0 | AE89: =AF89+AG89 -> 112 | AF89: =SUM(AF90:AF92) -> 112 | AG89: =SUM(AG90:AG92) -> 0 | AH89: =AI89+AJ89 -> 105 | AI89: =SUM(AI90:AI92) -> 105 | AJ89: =SUM(AJ90:AJ92) -> 0 | AK89: =AL89+AM89 -> 331 | AL89: =SUM(AL90:AL92) -> 331 | AM89: =SUM(AM90:AM92) -> 0 | AN89: =AO89+AP89 -> 0 | AO89: =SUM(AO90:AO92) -> 0 | AP89: =SUM(AP90:AP92) -> 0 | AQ89: =AR89+AS89 -> 0 | AR89: =SUM(AR90:AR92) -> 0 | AS89: =SUM(AS90:AS92) -> 0 | AT89: =AU89+AV89 -> 0 | AU89: =SUM(AU90:AU92) -> 0 | AV89: =SUM(AV90:AV92) -> 0 | AW89: =AX89+AY89 -> 0 | AX89: =SUM(AX90:AX92) -> 0 | AY89: =SUM(AY90:AY92) -> 0 | AZ89: =BA89+BB89 -> 1111 | BA89: =SUM(BA90:BA92) -> 1111 | BB89: =SUM(BB90:BB92) -> 0
C90: TP Bulan Ro-Ro | D90: =E90+F90 -> 90 | E90: 90 | F90: 0 | G90: =H90+I90 -> 85 | H90: 85 | I90: 0 | J90: =K90+L90 -> 73 | K90: 73 | L90: 0 | M90: =N90+O90 -> 248 | N90: =+E90+H90+K90 -> 248 | O90: =+F90+I90+L90 -> 0 | P90: =Q90+R90 -> 60 | Q90: 60 | R90: 0 | S90: =T90+U90 -> 63 | T90: 63 | U90: 0 | V90: =W90+X90 -> 60 | W90: 60 | X90: 0 | Y90: =Z90+AA90 -> 183 | Z90: =+Q90+T90+W90 -> 183 | AA90: =+R90+U90+X90 -> 0 | AB90: =AC90+AD90 -> 59 | AC90: 59 | AD90: 0 | AE90: =AF90+AG90 -> 63 | AF90: 63 | AG90: 0 | AH90: =AI90+AJ90 -> 66 | AI90: 66 | AJ90: 0 | AK90: =AL90+AM90 -> 188 | AL90: =+AC90+AF90+AI90 -> 188 | AM90: =+AD90+AG90+AJ90 -> 0 | AN90: =AO90+AP90 -> 0 | AO90: 0 | AP90: 0 | AQ90: =AR90+AS90 -> 0 | AR90: 0 | AS90: 0 | AT90: =AU90+AV90 -> 0 | AU90: 0 | AV90: 0 | AW90: =AX90+AY90 -> 0 | AX90: =+AO90+AR90+AU90 -> 0 | AY90: =+AP90+AS90+AV90 -> 0 | AZ90: =BA90+BB90 -> 619 | BA90: =N90+Z90+AL90+AX90 -> 619 | BB90: =O90+AA90+AM90+AY90 -> 0
C91: TP Bulan | D91: =E91+F91 -> 61 | E91: 61 | F91: 0 | G91: =H91+I91 -> 51 | H91: 51 | I91: 0 | J91: =K91+L91 -> 55 | K91: 55 | L91: 0 | M91: =N91+O91 -> 167 | N91: =+E91+H91+K91 -> 167 | O91: =+F91+I91+L91 -> 0 | P91: =Q91+R91 -> 58 | Q91: 58 | R91: 0 | S91: =T91+U91 -> 63 | T91: 63 | U91: 0 | V91: =W91+X91 -> 60 | W91: 60 | X91: 0 | Y91: =Z91+AA91 -> 181 | Z91: =+Q91+T91+W91 -> 181 | AA91: =+R91+U91+X91 -> 0 | AB91: =AC91+AD91 -> 54 | AC91: 54 | AD91: 0 | AE91: =AF91+AG91 -> 49 | AF91: 49 | AG91: 0 | AH91: =AI91+AJ91 -> 39 | AI91: 39 | AJ91: 0 | AK91: =AL91+AM91 -> 142 | AL91: =+AC91+AF91+AI91 -> 142 | AM91: =+AD91+AG91+AJ91 -> 0 | AN91: =AO91+AP91 -> 0 | AO91: 0 | AP91: 0 | AQ91: =AR91+AS91 -> 0 | AR91: 0 | AS91: 0 | AT91: =AU91+AV91 -> 0 | AU91: 0 | AV91: 0 | AW91: =AX91+AY91 -> 0 | AX91: =+AO91+AR91+AU91 -> 0 | AY91: =+AP91+AS91+AV91 -> 0 | AZ91: =BA91+BB91 -> 490 | BA91: =N91+Z91+AL91+AX91 -> 490 | BB91: =O91+AA91+AM91+AY91 -> 0
C92: TP Bulan (Anchorage) | D92: =E92+F92 -> 0 | E92: 0 | F92: 0 | G92: =H92+I92 -> 1 | H92: 1 | I92: 0 | J92: =K92+L92 -> 0 | K92: 0 | L92: 0 | M92: =N92+O92 -> 1 | N92: =+E92+H92+K92 -> 1 | O92: =+F92+I92+L92 -> 0 | P92: =Q92+R92 -> 0 | Q92: 0 | R92: 0 | S92: =T92+U92 -> 0 | T92: 0 | U92: 0 | V92: =W92+X92 -> 0 | W92: 0 | X92: 0 | Y92: =Z92+AA92 -> 0 | Z92: =+Q92+T92+W92 -> 0 | AA92: =+R92+U92+X92 -> 0 | AB92: =AC92+AD92 -> 1 | AC92: 1 | AD92: 0 | AE92: =AF92+AG92 -> 0 | AF92: 0 | AG92: 0 | AH92: =AI92+AJ92 -> 0 | AI92: 0 | AJ92: 0 | AK92: =AL92+AM92 -> 1 | AL92: =+AC92+AF92+AI92 -> 1 | AM92: =+AD92+AG92+AJ92 -> 0 | AN92: =AO92+AP92 -> 0 | AO92: 0 | AP92: 0 | AQ92: =AR92+AS92 -> 0 | AR92: 0 | AS92: 0 | AT92: =AU92+AV92 -> 0 | AU92: 0 | AV92: 0 | AW92: =AX92+AY92 -> 0 | AX92: =+AO92+AR92+AU92 -> 0 | AY92: =+AP92+AS92+AV92 -> 0 | AZ92: =BA92+BB92 -> 2 | BA92: =N92+Z92+AL92+AX92 -> 2 | BB92: =O92+AA92+AM92+AY92 -> 0
C93: TMO Matnog | D93: =E93+F93 -> 678 | E93: =SUM(E94:E95) -> 678 | F93: =SUM(F94:F95) -> 0 | G93: =H93+I93 -> 675 | H93: =SUM(H94:H95) -> 675 | I93: =SUM(I94:I95) -> 0 | J93: =K93+L93 -> 681 | K93: =SUM(K94:K95) -> 681 | L93: =SUM(L94:L95) -> 0 | M93: =N93+O93 -> 2034 | N93: =SUM(N94:N95) -> 2034 | O93: =SUM(O94:O95) -> 0 | P93: =Q93+R93 -> 620 | Q93: =SUM(Q94:Q95) -> 620 | R93: =SUM(R94:R95) -> 0 | S93: =T93+U93 -> 765 | T93: =SUM(T94:T95) -> 765 | U93: =SUM(U94:U95) -> 0 | V93: =W93+X93 -> 722 | W93: =SUM(W94:W95) -> 722 | X93: =SUM(X94:X95) -> 0 | Y93: =Z93+AA93 -> 2107 | Z93: =SUM(Z94:Z95) -> 2107 | AA93: =SUM(AA94:AA95) -> 0 | AB93: =AC93+AD93 -> 684 | AC93: =SUM(AC94:AC95) -> 684 | AD93: =SUM(AD94:AD95) -> 0 | AE93: =AF93+AG93 -> 673 | AF93: =SUM(AF94:AF95) -> 673 | AG93: =SUM(AG94:AG95) -> 0 | AH93: =AI93+AJ93 -> 654 | AI93: =SUM(AI94:AI95) -> 654 | AJ93: =SUM(AJ94:AJ95) -> 0 | AK93: =AL93+AM93 -> 2011 | AL93: =SUM(AL94:AL95) -> 2011 | AM93: =SUM(AM94:AM95) -> 0 | AN93: =AO93+AP93 -> 0 | AO93: =SUM(AO94:AO95) -> 0 | AP93: =SUM(AP94:AP95) -> 0 | AQ93: =AR93+AS93 -> 0 | AR93: =SUM(AR94:AR95) -> 0 | AS93: =SUM(AS94:AS95) -> 0 | AT93: =AU93+AV93 -> 0 | AU93: =SUM(AU94:AU95) -> 0 | AV93: =SUM(AV94:AV95) -> 0 | AW93: =AX93+AY93 -> 0 | AX93: =SUM(AX94:AX95) -> 0 | AY93: =SUM(AY94:AY95) -> 0 | AZ93: =BA93+BB93 -> 6152 | BA93: =SUM(BA94:BA95) -> 6152 | BB93: =SUM(BB94:BB95) -> 0
C94: TP Matnog Ro-Ro | D94: =E94+F94 -> 678 | E94: 678 | F94: 0 | G94: =H94+I94 -> 675 | H94: 675 | I94: 0 | J94: =K94+L94 -> 681 | K94: 681 | L94: 0 | M94: =N94+O94 -> 2034 | N94: =+E94+H94+K94 -> 2034 | O94: =+F94+I94+L94 -> 0 | P94: =Q94+R94 -> 620 | Q94: 620 | R94: 0 | S94: =T94+U94 -> 765 | T94: 765 | U94: 0 | V94: =W94+X94 -> 722 | W94: 722 | X94: 0 | Y94: =Z94+AA94 -> 2107 | Z94: =+Q94+T94+W94 -> 2107 | AA94: =+R94+U94+X94 -> 0 | AB94: =AC94+AD94 -> 682 | AC94: 682 | AD94: 0 | AE94: =AF94+AG94 -> 673 | AF94: 673 | AG94: 0 | AH94: =AI94+AJ94 -> 654 | AI94: 654 | AJ94: 0 | AK94: =AL94+AM94 -> 2009 | AL94: =+AC94+AF94+AI94 -> 2009 | AM94: =+AD94+AG94+AJ94 -> 0 | AN94: =AO94+AP94 -> 0 | AO94: 0 | AP94: 0 | AQ94: =AR94+AS94 -> 0 | AR94: 0 | AS94: 0 | AT94: =AU94+AV94 -> 0 | AU94: 0 | AV94: 0 | AW94: =AX94+AY94 -> 0 | AX94: =+AO94+AR94+AU94 -> 0 | AY94: =+AP94+AS94+AV94 -> 0 | AZ94: =BA94+BB94 -> 6150 | BA94: =N94+Z94+AL94+AX94 -> 6150 | BB94: =O94+AA94+AM94+AY94 -> 0
C95: TP Matnog (Anchorage) | D95: =E95+F95 -> 0 | E95: 0 | F95: 0 | G95: =H95+I95 -> 0 | H95: 0 | I95: 0 | J95: =K95+L95 -> 0 | K95: 0 | L95: 0 | M95: =N95+O95 -> 0 | N95: =+E95+H95+K95 -> 0 | O95: =+F95+I95+L95 -> 0 | P95: =Q95+R95 -> 0 | Q95: 0 | R95: 0 | S95: =T95+U95 -> 0 | T95: 0 | U95: 0 | V95: =W95+X95 -> 0 | W95: 0 | X95: 0 | Y95: =Z95+AA95 -> 0 | Z95: =+Q95+T95+W95 -> 0 | AA95: =+R95+U95+X95 -> 0 | AB95: =AC95+AD95 -> 2 | AC95: 2 | AD95: 0 | AE95: =AF95+AG95 -> 0 | AF95: 0 | AG95: 0 | AH95: =AI95+AJ95 -> 0 | AI95: 0 | AJ95: 0 | AK95: =AL95+AM95 -> 2 | AL95: =+AC95+AF95+AI95 -> 2 | AM95: =+AD95+AG95+AJ95 -> 0 | AN95: =AO95+AP95 -> 0 | AO95: 0 | AP95: 0 | AQ95: =AR95+AS95 -> 0 | AR95: 0 | AS95: 0 | AT95: =AU95+AV95 -> 0 | AU95: 0 | AV95: 0 | AW95: =AX95+AY95 -> 0 | AX95: =+AO95+AR95+AU95 -> 0 | AY95: =+AP95+AS95+AV95 -> 0 | AZ95: =BA95+BB95 -> 2 | BA95: =N95+Z95+AL95+AX95 -> 2 | BB95: =O95+AA95+AM95+AY95 -> 0
C96: TMO Camarines | D96: =E96+F96 -> 69 | E96: =SUM(E97:E98) -> 69 | F96: =SUM(F97:F98) -> 0 | G96: =H96+I96 -> 59 | H96: =SUM(H97:H98) -> 59 | I96: =SUM(I97:I98) -> 0 | J96: =K96+L96 -> 78 | K96: =SUM(K97:K98) -> 78 | L96: =SUM(L97:L98) -> 0 | M96: =N96+O96 -> 206 | N96: =SUM(N97:N98) -> 206 | O96: =SUM(O97:O98) -> 0 | P96: =Q96+R96 -> 77 | Q96: =SUM(Q97:Q98) -> 77 | R96: =SUM(R97:R98) -> 0 | S96: =T96+U96 -> 83 | T96: =SUM(T97:T98) -> 83 | U96: =SUM(U97:U98) -> 0 | V96: =W96+X96 -> 63 | W96: =SUM(W97:W98) -> 63 | X96: =SUM(X97:X98) -> 0 | Y96: =Z96+AA96 -> 223 | Z96: =SUM(Z97:Z98) -> 223 | AA96: =SUM(AA97:AA98) -> 0 | AB96: =AC96+AD96 -> 61 | AC96: =SUM(AC97:AC98) -> 61 | AD96: =SUM(AD97:AD98) -> 0 | AE96: =AF96+AG96 -> 52 | AF96: =SUM(AF97:AF98) -> 52 | AG96: =SUM(AG97:AG98) -> 0 | AH96: =AI96+AJ96 -> 53 | AI96: =SUM(AI97:AI98) -> 53 | AJ96: =SUM(AJ97:AJ98) -> 0 | AK96: =AL96+AM96 -> 166 | AL96: =SUM(AL97:AL98) -> 166 | AM96: =SUM(AM97:AM98) -> 0 | AN96: =AO96+AP96 -> 0 | AO96: =SUM(AO97:AO98) -> 0 | AP96: =SUM(AP97:AP98) -> 0 | AQ96: =AR96+AS96 -> 0 | AR96: =SUM(AR97:AR98) -> 0 | AS96: =SUM(AS97:AS98) -> 0 | AT96: =AU96+AV96 -> 0 | AU96: =SUM(AU97:AU98) -> 0 | AV96: =SUM(AV97:AV98) -> 0 | AW96: =AX96+AY96 -> 0 | AX96: =SUM(AX97:AX98) -> 0 | AY96: =SUM(AY97:AY98) -> 0 | AZ96: =BA96+BB96 -> 595 | BA96: =SUM(BA97:BA98) -> 595 | BB96: =SUM(BB97:BB98) -> 0
C97: TP Pasacao Ro-Ro | D97: =E97+F97 -> 40 | E97: 40 | F97: 0 | G97: =H97+I97 -> 38 | H97: 38 | I97: 0 | J97: =K97+L97 -> 47 | K97: 47 | L97: 0 | M97: =N97+O97 -> 125 | N97: =+E97+H97+K97 -> 125 | O97: =+F97+I97+L97 -> 0 | P97: =Q97+R97 -> 40 | Q97: 40 | R97: 0 | S97: =T97+U97 -> 41 | T97: 41 | U97: 0 | V97: =W97+X97 -> 39 | W97: 39 | X97: 0 | Y97: =Z97+AA97 -> 120 | Z97: =+Q97+T97+W97 -> 120 | AA97: =+R97+U97+X97 -> 0 | AB97: =AC97+AD97 -> 37 | AC97: 37 | AD97: 0 | AE97: =AF97+AG97 -> 39 | AF97: 39 | AG97: 0 | AH97: =AI97+AJ97 -> 33 | AI97: 33 | AJ97: 0 | AK97: =AL97+AM97 -> 109 | AL97: =+AC97+AF97+AI97 -> 109 | AM97: =+AD97+AG97+AJ97 -> 0 | AN97: =AO97+AP97 -> 0 | AO97: 0 | AP97: 0 | AQ97: =AR97+AS97 -> 0 | AR97: 0 | AS97: 0 | AT97: =AU97+AV97 -> 0 | AU97: 0 | AV97: 0 | AW97: =AX97+AY97 -> 0 | AX97: =+AO97+AR97+AU97 -> 0 | AY97: =+AP97+AS97+AV97 -> 0 | AZ97: =BA97+BB97 -> 354 | BA97: =N97+Z97+AL97+AX97 -> 354 | BB97: =O97+AA97+AM97+AY97 -> 0
C98: TP Pasacao | D98: =E98+F98 -> 29 | E98: 29 | F98: 0 | G98: =H98+I98 -> 21 | H98: 21 | I98: 0 | J98: =K98+L98 -> 31 | K98: 31 | L98: 0 | M98: =N98+O98 -> 81 | N98: =+E98+H98+K98 -> 81 | O98: =+F98+I98+L98 -> 0 | P98: =Q98+R98 -> 37 | Q98: 37 | R98: 0 | S98: =T98+U98 -> 42 | T98: 42 | U98: 0 | V98: =W98+X98 -> 24 | W98: 24 | X98: 0 | Y98: =Z98+AA98 -> 103 | Z98: =+Q98+T98+W98 -> 103 | AA98: =+R98+U98+X98 -> 0 | AB98: =AC98+AD98 -> 24 | AC98: 24 | AD98: 0 | AE98: =AF98+AG98 -> 13 | AF98: 13 | AG98: 0 | AH98: =AI98+AJ98 -> 20 | AI98: 20 | AJ98: 0 | AK98: =AL98+AM98 -> 57 | AL98: =+AC98+AF98+AI98 -> 57 | AM98: =+AD98+AG98+AJ98 -> 0 | AN98: =AO98+AP98 -> 0 | AO98: 0 | AP98: 0 | AQ98: =AR98+AS98 -> 0 | AR98: 0 | AS98: 0 | AT98: =AU98+AV98 -> 0 | AU98: 0 | AV98: 0 | AW98: =AX98+AY98 -> 0 | AX98: =+AO98+AR98+AU98 -> 0 | AY98: =+AP98+AS98+AV98 -> 0 | AZ98: =BA98+BB98 -> 241 | BA98: =N98+Z98+AL98+AX98 -> 241 | BB98: =O98+AA98+AM98+AY98 -> 0
C99: TMO Pio Duran | D99: =SUM(E99:F99) -> 228 | E99: =SUM(E100:E101) -> 228 | F99: =SUM(F100:F101) -> 0 | G99: =SUM(H99:I99) -> 212 | H99: =SUM(H100:H101) -> 212 | I99: =SUM(I100:I101) -> 0 | J99: =SUM(K99:L99) -> 215 | K99: =SUM(K100:K101) -> 215 | L99: =SUM(L100:L101) -> 0 | M99: =SUM(N99:O99) -> 655 | N99: =SUM(N100:N101) -> 655 | O99: =SUM(O100:O101) -> 0 | P99: =SUM(Q99:R99) -> 192 | Q99: =SUM(Q100:Q101) -> 192 | R99: =SUM(R100:R101) -> 0 | S99: =SUM(T99:U99) -> 214 | T99: =SUM(T100:T101) -> 214 | U99: =SUM(U100:U101) -> 0 | V99: =SUM(W99:X99) -> 215 | W99: =SUM(W100:W101) -> 215 | X99: =SUM(X100:X101) -> 0 | Y99: =SUM(Z99:AA99) -> 621 | Z99: =SUM(Z100:Z101) -> 621 | AA99: =SUM(AA100:AA101) -> 0 | AB99: =SUM(AC99:AD99) -> 209 | AC99: =SUM(AC100:AC101) -> 209 | AD99: =SUM(AD100:AD101) -> 0 | AE99: =SUM(AF99:AG99) -> 175 | AF99: =SUM(AF100:AF101) -> 175 | AG99: =SUM(AG100:AG101) -> 0 | AH99: =SUM(AI99:AJ99) -> 174 | AI99: =SUM(AI100:AI101) -> 174 | AJ99: =SUM(AJ100:AJ101) -> 0 | AK99: =SUM(AL99:AM99) -> 558 | AL99: =SUM(AL100:AL101) -> 558 | AM99: =SUM(AM100:AM101) -> 0 | AN99: =SUM(AO99:AP99) -> 0 | AO99: =SUM(AO100:AO101) -> 0 | AP99: =SUM(AP100:AP101) -> 0 | AQ99: =SUM(AR99:AS99) -> 0 | AR99: =SUM(AR100:AR101) -> 0 | AS99: =SUM(AS100:AS101) -> 0 | AT99: =SUM(AU99:AV99) -> 0 | AU99: =SUM(AU100:AU101) -> 0 | AV99: =SUM(AV100:AV101) -> 0 | AW99: =SUM(AX99:AY99) -> 0 | AX99: =SUM(AX100:AX101) -> 0 | AY99: =SUM(AY100:AY101) -> 0 | AZ99: =SUM(BA99:BB99) -> 1834 | BA99: =SUM(BA100:BA101) -> 1834 | BB99: =SUM(BB100:BB101) -> 0
C100: TP Pio Duran Ro-Ro | D100: =E100+F100 -> 217 | E100: 217 | F100: 0 | G100: =H100+I100 -> 209 | H100: 209 | I100: 0 | J100: =K100+L100 -> 209 | K100: 209 | L100: 0 | M100: =N100+O100 -> 635 | N100: =+E100+H100+K100 -> 635 | O100: =+F100+I100+L100 -> 0 | P100: =Q100+R100 -> 191 | Q100: 191 | R100: 0 | S100: =T100+U100 -> 213 | T100: 213 | U100: 0 | V100: =W100+X100 -> 210 | W100: 210 | X100: 0 | Y100: =Z100+AA100 -> 614 | Z100: =+Q100+T100+W100 -> 614 | AA100: =+R100+U100+X100 -> 0 | AB100: =AC100+AD100 -> 209 | AC100: 209 | AD100: 0 | AE100: =AF100+AG100 -> 175 | AF100: 175 | AG100: 0 | AH100: =AI100+AJ100 -> 174 | AI100: 174 | AJ100: 0 | AK100: =AL100+AM100 -> 558 | AL100: =+AC100+AF100+AI100 -> 558 | AM100: =+AD100+AG100+AJ100 -> 0 | AN100: =AO100+AP100 -> 0 | AO100: 0 | AP100: 0 | AQ100: =AR100+AS100 -> 0 | AR100: 0 | AS100: 0 | AT100: =AU100+AV100 -> 0 | AU100: 0 | AV100: 0 | AW100: =AX100+AY100 -> 0 | AX100: =+AO100+AR100+AU100 -> 0 | AY100: =+AP100+AS100+AV100 -> 0 | AZ100: =BA100+BB100 -> 1807 | BA100: =N100+Z100+AL100+AX100 -> 1807 | BB100: =O100+AA100+AM100+AY100 -> 0
C101: TP Pio Duran | D101: =E101+F101 -> 11 | E101: 11 | F101: 0 | G101: =H101+I101 -> 3 | H101: 3 | I101: 0 | J101: =K101+L101 -> 6 | K101: 6 | L101: 0 | M101: =N101+O101 -> 20 | N101: =+E101+H101+K101 -> 20 | O101: =+F101+I101+L101 -> 0 | P101: =Q101+R101 -> 1 | Q101: 1 | R101: 0 | S101: =T101+U101 -> 1 | T101: 1 | U101: 0 | V101: =W101+X101 -> 5 | W101: 5 | X101: 0 | Y101: =Z101+AA101 -> 7 | Z101: =+Q101+T101+W101 -> 7 | AA101: =+R101+U101+X101 -> 0 | AB101: =AC101+AD101 -> 0 | AC101: 0 | AD101: 0 | AE101: =AF101+AG101 -> 0 | AF101: 0 | AG101: 0 | AH101: =AI101+AJ101 -> 0 | AI101: 0 | AJ101: 0 | AK101: =AL101+AM101 -> 0 | AL101: =+AC101+AF101+AI101 -> 0 | AM101: =+AD101+AG101+AJ101 -> 0 | AN101: =AO101+AP101 -> 0 | AO101: 0 | AP101: 0 | AQ101: =AR101+AS101 -> 0 | AR101: 0 | AS101: 0 | AT101: =AU101+AV101 -> 0 | AU101: 0 | AV101: 0 | AW101: =AX101+AY101 -> 0 | AX101: =+AO101+AR101+AU101 -> 0 | AY101: =+AP101+AS101+AV101 -> 0 | AZ101: =BA101+BB101 -> 27 | BA101: =N101+Z101+AL101+AX101 -> 27 | BB101: =O101+AA101+AM101+AY101 -> 0
C102: TMO Tabaco | D102: =SUM(E102:F102) -> 186 | E102: =SUM(E103:E105) -> 185 | F102: =SUM(F103:F105) -> 1 | G102: =SUM(H102:I102) -> 198 | H102: =SUM(H103:H105) -> 196 | I102: =SUM(I103:I105) -> 2 | J102: =SUM(K102:L102) -> 208 | K102: =SUM(K103:K105) -> 206 | L102: =SUM(L103:L105) -> 2 | M102: =SUM(N102:O102) -> 592 | N102: =SUM(N103:N105) -> 587 | O102: =SUM(O103:O105) -> 5 | P102: =SUM(Q102:R102) -> 189 | Q102: =SUM(Q103:Q105) -> 185 | R102: =SUM(R103:R105) -> 4 | S102: =SUM(T102:U102) -> 210 | T102: =SUM(T103:T105) -> 207 | U102: =SUM(U103:U105) -> 3 | V102: =SUM(W102:X102) -> 221 | W102: =SUM(W103:W105) -> 220 | X102: =SUM(X103:X105) -> 1 | Y102: =SUM(Z102:AA102) -> 620 | Z102: =SUM(Z103:Z105) -> 612 | AA102: =SUM(AA103:AA105) -> 8 | AB102: =SUM(AC102:AD102) -> 226 | AC102: =SUM(AC103:AC105) -> 225 | AD102: =SUM(AD103:AD105) -> 1 | AE102: =SUM(AF102:AG102) -> 209 | AF102: =SUM(AF103:AF105) -> 207 | AG102: =SUM(AG103:AG105) -> 2 | AH102: =SUM(AI102:AJ102) -> 191 | AI102: =SUM(AI103:AI105) -> 188 | AJ102: =SUM(AJ103:AJ105) -> 3 | AK102: =SUM(AL102:AM102) -> 626 | AL102: =SUM(AL103:AL105) -> 620 | AM102: =SUM(AM103:AM105) -> 6 | AN102: =SUM(AO102:AP102) -> 0 | AO102: =SUM(AO103:AO105) -> 0 | AP102: =SUM(AP103:AP105) -> 0 | AQ102: =SUM(AR102:AS102) -> 0 | AR102: =SUM(AR103:AR105) -> 0 | AS102: =SUM(AS103:AS105) -> 0 | AT102: =SUM(AU102:AV102) -> 0 | AU102: =SUM(AU103:AU105) -> 0 | AV102: =SUM(AV103:AV105) -> 0 | AW102: =SUM(AX102:AY102) -> 0 | AX102: =SUM(AX103:AX105) -> 0 | AY102: =SUM(AY103:AY105) -> 0 | AZ102: =SUM(BA102:BB102) -> 1838 | BA102: =SUM(BA103:BA105) -> 1819 | BB102: =SUM(BB103:BB105) -> 19
C103: TP Tabaco Ro-Ro | D103: =E103+F103 -> 183 | E103: 183 | F103: 0 | G103: =H103+I103 -> 194 | H103: 194 | I103: 0 | J103: =K103+L103 -> 205 | K103: 205 | L103: 0 | M103: =N103+O103 -> 582 | N103: =+E103+H103+K103 -> 582 | O103: =+F103+I103+L103 -> 0 | P103: =Q103+R103 -> 175 | Q103: 175 | R103: 0 | S103: =T103+U103 -> 198 | T103: 198 | U103: 0 | V103: =W103+X103 -> 211 | W103: 211 | X103: 0 | Y103: =Z103+AA103 -> 584 | Z103: =+Q103+T103+W103 -> 584 | AA103: =+R103+U103+X103 -> 0 | AB103: =AC103+AD103 -> 216 | AC103: 216 | AD103: 0 | AE103: =AF103+AG103 -> 203 | AF103: 203 | AG103: 0 | AH103: =AI103+AJ103 -> 185 | AI103: 185 | AJ103: 0 | AK103: =AL103+AM103 -> 604 | AL103: =+AC103+AF103+AI103 -> 604 | AM103: =+AD103+AG103+AJ103 -> 0 | AN103: =AO103+AP103 -> 0 | AO103: 0 | AP103: 0 | AQ103: =AR103+AS103 -> 0 | AR103: 0 | AS103: 0 | AT103: =AU103+AV103 -> 0 | AU103: 0 | AV103: 0 | AW103: =AX103+AY103 -> 0 | AX103: =+AO103+AR103+AU103 -> 0 | AY103: =+AP103+AS103+AV103 -> 0 | AZ103: =BA103+BB103 -> 1770 | BA103: =N103+Z103+AL103+AX103 -> 1770 | BB103: =O103+AA103+AM103+AY103 -> 0
C104: TP Tabaco | D104: =E104+F104 -> 3 | E104: 2 | F104: 1 | G104: =H104+I104 -> 3 | H104: 2 | I104: 1 | J104: =K104+L104 -> 3 | K104: 1 | L104: 2 | M104: =N104+O104 -> 9 | N104: =+E104+H104+K104 -> 5 | O104: =+F104+I104+L104 -> 4 | P104: =Q104+R104 -> 14 | Q104: 10 | R104: 4 | S104: =T104+U104 -> 12 | T104: 9 | U104: 3 | V104: =W104+X104 -> 10 | W104: 9 | X104: 1 | Y104: =Z104+AA104 -> 36 | Z104: =+Q104+T104+W104 -> 28 | AA104: =+R104+U104+X104 -> 8 | AB104: =AC104+AD104 -> 10 | AC104: 9 | AD104: 1 | AE104: =AF104+AG104 -> 6 | AF104: 4 | AG104: 2 | AH104: =AI104+AJ104 -> 5 | AI104: 3 | AJ104: 2 | AK104: =AL104+AM104 -> 21 | AL104: =+AC104+AF104+AI104 -> 16 | AM104: =+AD104+AG104+AJ104 -> 5 | AN104: =AO104+AP104 -> 0 | AO104: 0 | AP104: 0 | AQ104: =AR104+AS104 -> 0 | AR104: 0 | AS104: 0 | AT104: =AU104+AV104 -> 0 | AU104: 0 | AV104: 0 | AW104: =AX104+AY104 -> 0 | AX104: =+AO104+AR104+AU104 -> 0 | AY104: =+AP104+AS104+AV104 -> 0 | AZ104: =BA104+BB104 -> 66 | BA104: =N104+Z104+AL104+AX104 -> 49 | BB104: =O104+AA104+AM104+AY104 -> 17
C105: TP Tabaco (Anchorage) | D105: =E105+F105 -> 0 | E105: 0 | F105: 0 | G105: =H105+I105 -> 1 | H105: 0 | I105: 1 | J105: =K105+L105 -> 0 | K105: 0 | L105: 0 | M105: =N105+O105 -> 1 | N105: =+E105+H105+K105 -> 0 | O105: =+F105+I105+L105 -> 1 | P105: =Q105+R105 -> 0 | Q105: 0 | R105: 0 | S105: =T105+U105 -> 0 | T105: 0 | U105: 0 | V105: =W105+X105 -> 0 | W105: 0 | X105: 0 | Y105: =Z105+AA105 -> 0 | Z105: =+Q105+T105+W105 -> 0 | AA105: =+R105+U105+X105 -> 0 | AB105: =AC105+AD105 -> 0 | AC105: 0 | AD105: 0 | AE105: =AF105+AG105 -> 0 | AF105: 0 | AG105: 0 | AH105: =AI105+AJ105 -> 1 | AI105: 0 | AJ105: 1 | AK105: =AL105+AM105 -> 1 | AL105: =+AC105+AF105+AI105 -> 0 | AM105: =+AD105+AG105+AJ105 -> 1 | AN105: =AO105+AP105 -> 0 | AO105: 0 | AP105: 0 | AQ105: =AR105+AS105 -> 0 | AR105: 0 | AS105: 0 | AT105: =AU105+AV105 -> 0 | AU105: 0 | AV105: 0 | AW105: =AX105+AY105 -> 0 | AX105: =+AO105+AR105+AU105 -> 0 | AY105: =+AP105+AS105+AV105 -> 0 | AZ105: =BA105+BB105 -> 2 | BA105: =N105+Z105+AL105+AX105 -> 0 | BB105: =O105+AA105+AM105+AY105 -> 2
C106: TMO Catanduanes | D106: =SUM(E106:F106) -> 81 | E106: =SUM(E107:E108) -> 81 | F106: =SUM(F107:F108) -> 0 | G106: =SUM(H106:I106) -> 93 | H106: =SUM(H107:H108) -> 93 | I106: =SUM(I107:I108) -> 0 | J106: =SUM(K106:L106) -> 98 | K106: =SUM(K107:K108) -> 98 | L106: =SUM(L107:L108) -> 0 | M106: =SUM(N106:O106) -> 272 | N106: =SUM(N107:N108) -> 272 | O106: =SUM(O107:O108) -> 0 | P106: =SUM(Q106:R106) -> 69 | Q106: =SUM(Q107:Q108) -> 69 | R106: =SUM(R107:R108) -> 0 | S106: =SUM(T106:U106) -> 74 | T106: =SUM(T107:T108) -> 74 | U106: =SUM(U107:U108) -> 0 | V106: =SUM(W106:X106) -> 96 | W106: =SUM(W107:W108) -> 96 | X106: =SUM(X107:X108) -> 0 | Y106: =SUM(Z106:AA106) -> 239 | Z106: =SUM(Z107:Z108) -> 239 | AA106: =SUM(AA107:AA108) -> 0 | AB106: =SUM(AC106:AD106) -> 104 | AC106: =SUM(AC107:AC108) -> 104 | AD106: =SUM(AD107:AD108) -> 0 | AE106: =SUM(AF106:AG106) -> 96 | AF106: =SUM(AF107:AF108) -> 96 | AG106: =SUM(AG107:AG108) -> 0 | AH106: =SUM(AI106:AJ106) -> 94 | AI106: =SUM(AI107:AI108) -> 94 | AJ106: =SUM(AJ107:AJ108) -> 0 | AK106: =SUM(AL106:AM106) -> 294 | AL106: =SUM(AL107:AL108) -> 294 | AM106: =SUM(AM107:AM108) -> 0 | AN106: =SUM(AO106:AP106) -> 0 | AO106: =SUM(AO107:AO108) -> 0 | AP106: =SUM(AP107:AP108) -> 0 | AQ106: =SUM(AR106:AS106) -> 0 | AR106: =SUM(AR107:AR108) -> 0 | AS106: =SUM(AS107:AS108) -> 0 | AT106: =SUM(AU106:AV106) -> 0 | AU106: =SUM(AU107:AU108) -> 0 | AV106: =SUM(AV107:AV108) -> 0 | AW106: =SUM(AX106:AY106) -> 0 | AX106: =SUM(AX107:AX108) -> 0 | AY106: =SUM(AY107:AY108) -> 0 | AZ106: =SUM(BA106:BB106) -> 805 | BA106: =SUM(BA107:BA108) -> 805 | BB106: =SUM(BB107:BB108) -> 0
C107: TP Virac Ro-Ro | D107: =E107+F107 -> 78 | E107: 78 | F107: 0 | G107: =H107+I107 -> 84 | H107: 84 | I107: 0 | J107: =K107+L107 -> 83 | K107: 83 | L107: 0 | M107: =N107+O107 -> 245 | N107: =+E107+H107+K107 -> 245 | O107: =+F107+I107+L107 -> 0 | P107: =Q107+R107 -> 58 | Q107: 58 | R107: 0 | S107: =T107+U107 -> 62 | T107: 62 | U107: 0 | V107: =W107+X107 -> 86 | W107: 86 | X107: 0 | Y107: =Z107+AA107 -> 206 | Z107: =+Q107+T107+W107 -> 206 | AA107: =+R107+U107+X107 -> 0 | AB107: =AC107+AD107 -> 92 | AC107: 92 | AD107: 0 | AE107: =AF107+AG107 -> 90 | AF107: 90 | AG107: 0 | AH107: =AI107+AJ107 -> 88 | AI107: 88 | AJ107: 0 | AK107: =AL107+AM107 -> 270 | AL107: =+AC107+AF107+AI107 -> 270 | AM107: =+AD107+AG107+AJ107 -> 0 | AN107: =AO107+AP107 -> 0 | AO107: 0 | AP107: 0 | AQ107: =AR107+AS107 -> 0 | AR107: 0 | AS107: 0 | AT107: =AU107+AV107 -> 0 | AU107: 0 | AV107: 0 | AW107: =AX107+AY107 -> 0 | AX107: =+AO107+AR107+AU107 -> 0 | AY107: =+AP107+AS107+AV107 -> 0 | AZ107: =BA107+BB107 -> 721 | BA107: =N107+Z107+AL107+AX107 -> 721 | BB107: =O107+AA107+AM107+AY107 -> 0
C108: TP Virac | D108: =E108+F108 -> 3 | E108: 3 | F108: 0 | G108: =H108+I108 -> 9 | H108: 9 | I108: 0 | J108: =K108+L108 -> 15 | K108: 15 | L108: 0 | M108: =N108+O108 -> 27 | N108: =+E108+H108+K108 -> 27 | O108: =+F108+I108+L108 -> 0 | P108: =Q108+R108 -> 11 | Q108: 11 | R108: 0 | S108: =T108+U108 -> 12 | T108: 12 | U108: 0 | V108: =W108+X108 -> 10 | W108: 10 | X108: 0 | Y108: =Z108+AA108 -> 33 | Z108: =+Q108+T108+W108 -> 33 | AA108: =+R108+U108+X108 -> 0 | AB108: =AC108+AD108 -> 12 | AC108: 12 | AD108: 0 | AE108: =AF108+AG108 -> 6 | AF108: 6 | AG108: 0 | AH108: =AI108+AJ108 -> 6 | AI108: 6 | AJ108: 0 | AK108: =AL108+AM108 -> 24 | AL108: =+AC108+AF108+AI108 -> 24 | AM108: =+AD108+AG108+AJ108 -> 0 | AN108: =AO108+AP108 -> 0 | AO108: 0 | AP108: 0 | AQ108: =AR108+AS108 -> 0 | AR108: 0 | AS108: 0 | AT108: =AU108+AV108 -> 0 | AU108: 0 | AV108: 0 | AW108: =AX108+AY108 -> 0 | AX108: =+AO108+AR108+AU108 -> 0 | AY108: =+AP108+AS108+AV108 -> 0 | AZ108: =BA108+BB108 -> 84 | BA108: =N108+Z108+AL108+AX108 -> 84 | BB108: =O108+AA108+AM108+AY108 -> 0
C109: Government Ports | D109: =E109+F109 -> 276 | E109: 275 | F109: 1 | G109: =H109+I109 -> 311 | H109: 311 | I109: 0 | J109: =K109+L109 -> 350 | K109: 350 | L109: 0 | M109: =N109+O109 -> 937 | N109: =+E109+H109+K109 -> 936 | O109: =+F109+I109+L109 -> 1 | P109: =Q109+R109 -> 334 | Q109: 334 | R109: 0 | S109: =T109+U109 -> 360 | T109: 360 | U109: 0 | V109: =W109+X109 -> 358 | W109: 358 | X109: 0 | Y109: =Z109+AA109 -> 1052 | Z109: =+Q109+T109+W109 -> 1052 | AA109: =+R109+U109+X109 -> 0 | AB109: =AC109+AD109 -> 354 | AC109: 353 | AD109: 1 | AE109: =AF109+AG109 -> 334 | AF109: 334 | AG109: 0 | AH109: =AI109+AJ109 -> 322 | AI109: 322 | AJ109: 0 | AK109: =AL109+AM109 -> 1010 | AL109: =+AC109+AF109+AI109 -> 1009 | AM109: =+AD109+AG109+AJ109 -> 1 | AN109: =AO109+AP109 -> 0 | AO109: 0 | AP109: 0 | AQ109: =AR109+AS109 -> 0 | AR109: 0 | AS109: 0 | AT109: =AU109+AV109 -> 0 | AU109: 0 | AV109: 0 | AW109: =AX109+AY109 -> 0 | AX109: =+AO109+AR109+AU109 -> 0 | AY109: =+AP109+AS109+AV109 -> 0 | AZ109: =BA109+BB109 -> 2999 | BA109: =N109+Z109+AL109+AX109 -> 2997 | BB109: =O109+AA109+AM109+AY109 -> 2
C110: Private Ports | D110: =E110+F110 -> 53 | E110: 52 | F110: 1 | G110: =H110+I110 -> 43 | H110: 41 | I110: 2 | J110: =K110+L110 -> 55 | K110: 53 | L110: 2 | M110: =N110+O110 -> 151 | N110: =+E110+H110+K110 -> 146 | O110: =+F110+I110+L110 -> 5 | P110: =Q110+R110 -> 41 | Q110: 39 | R110: 2 | S110: =T110+U110 -> 49 | T110: 48 | U110: 1 | V110: =W110+X110 -> 58 | W110: 58 | X110: 0 | Y110: =Z110+AA110 -> 148 | Z110: =+Q110+T110+W110 -> 145 | AA110: =+R110+U110+X110 -> 3 | AB110: =AC110+AD110 -> 69 | AC110: 67 | AD110: 2 | AE110: =AF110+AG110 -> 43 | AF110: 41 | AG110: 2 | AH110: =AI110+AJ110 -> 74 | AI110: 71 | AJ110: 3 | AK110: =AL110+AM110 -> 186 | AL110: =+AC110+AF110+AI110 -> 179 | AM110: =+AD110+AG110+AJ110 -> 7 | AN110: =AO110+AP110 -> 0 | AO110: 0 | AP110: 0 | AQ110: =AR110+AS110 -> 0 | AR110: 0 | AS110: 0 | AT110: =AU110+AV110 -> 0 | AU110: 0 | AV110: 0 | AW110: =AX110+AY110 -> 0 | AX110: =+AO110+AR110+AU110 -> 0 | AY110: =+AP110+AS110+AV110 -> 0 | AZ110: =BA110+BB110 -> 485 | BA110: =N110+Z110+AL110+AX110 -> 470 | BB110: =O110+AA110+AM110+AY110 -> 15
B112: PMO Palawan | D112: =SUM(E112:F112) -> 1865 | E112: =E113+E117+E120+E124+E127+E130+E134+E135 -> 1804 | F112: =F113+F117+F120+F124+F127+F130+F134+F135 -> 61 | G112: =SUM(H112:I112) -> 1736 | H112: =H113+H117+H120+H124+H127+H130+H134+H135 -> 1692 | I112: =I113+I117+I120+I124+I127+I130+I134+I135 -> 44 | J112: =SUM(K112:L112) -> 2030 | K112: =K113+K117+K120+K124+K127+K130+K134+K135 -> 1982 | L112: =L113+L117+L120+L124+L127+L130+L134+L135 -> 48 | M112: =SUM(N112:O112) -> 5631 | N112: =N113+N117+N120+N124+N127+N130+N134+N135 -> 5478 | O112: =O113+O117+O120+O124+O127+O130+O134+O135 -> 153 | P112: =SUM(Q112:R112) -> 1780 | Q112: =Q113+Q117+Q120+Q124+Q127+Q130+Q134+Q135 -> 1724 | R112: =R113+R117+R120+R124+R127+R130+R134+R135 -> 56 | S112: =SUM(T112:U112) -> 1519 | T112: =T113+T117+T120+T124+T127+T130+T134+T135 -> 1463 | U112: =U113+U117+U120+U124+U127+U130+U134+U135 -> 56 | V112: =SUM(W112:X112) -> 972 | W112: =W113+W117+W120+W124+W127+W130+W134+W135 -> 939 | X112: =X113+X117+X120+X124+X127+X130+X134+X135 -> 33 | Y112: =SUM(Z112:AA112) -> 4271 | Z112: =Z113+Z117+Z120+Z124+Z127+Z130+Z134+Z135 -> 4126 | AA112: =AA113+AA117+AA120+AA124+AA127+AA130+AA134+AA135 -> 145 | AB112: =SUM(AC112:AD112) -> 858 | AC112: =AC113+AC117+AC120+AC124+AC127+AC130+AC134+AC135 -> 829 | AD112: =AD113+AD117+AD120+AD124+AD127+AD130+AD134+AD135 -> 29 | AE112: =SUM(AF112:AG112) -> 663 | AF112: =AF113+AF117+AF120+AF124+AF127+AF130+AF134+AF135 -> 627 | AG112: =AG113+AG117+AG120+AG124+AG127+AG130+AG134+AG135 -> 36 | AH112: =SUM(AI112:AJ112) -> 606 | AI112: =AI113+AI117+AI120+AI124+AI127+AI130+AI134+AI135 -> 575 | AJ112: =AJ113+AJ117+AJ120+AJ124+AJ127+AJ130+AJ134+AJ135 -> 31 | AK112: =SUM(AL112:AM112) -> 2127 | AL112: =AL113+AL117+AL120+AL124+AL127+AL130+AL134+AL135 -> 2031 | AM112: =AM113+AM117+AM120+AM124+AM127+AM130+AM134+AM135 -> 96 | AN112: =SUM(AO112:AP112) -> 0 | AO112: =AO113+AO117+AO120+AO124+AO127+AO130+AO134+AO135 -> 0 | AP112: =AP113+AP117+AP120+AP124+AP127+AP130+AP134+AP135 -> 0 | AQ112: =SUM(AR112:AS112) -> 0 | AR112: =AR113+AR117+AR120+AR124+AR127+AR130+AR134+AR135 -> 0 | AS112: =AS113+AS117+AS120+AS124+AS127+AS130+AS134+AS135 -> 0 | AT112: =SUM(AU112:AV112) -> 0 | AU112: =AU113+AU117+AU120+AU124+AU127+AU130+AU134+AU135 -> 0 | AV112: =AV113+AV117+AV120+AV124+AV127+AV130+AV134+AV135 -> 0 | AW112: =SUM(AX112:AY112) -> 0 | AX112: =AX113+AX117+AX120+AX124+AX127+AX130+AX134+AX135 -> 0 | AY112: =AY113+AY117+AY120+AY124+AY127+AY130+AY134+AY135 -> 0 | AZ112: =SUM(BA112:BB112) -> 12029 | BA112: =BA113+BA117+BA120+BA124+BA127+BA130+BA134+BA135 -> 11635 | BB112: =BB113+BB117+BB120+BB124+BB127+BB130+BB134+BB135 -> 394
...

Sheet sum-cargo
A1: CARGO STATISTICS SUMMARY BY PMO/PORT
A2: Philippine Ports Authority
A3: 2026
A4: CARGO THROUGHPUT (in metric tons)
A6: Port Management Offices | D6: 1st Quarter | K6: 2nd Quarter | R6: 3rd Quarter | Y6: 4th Quarter | AF6: GRAND TOTAL
D7: GRAND TOTAL | E7: DOMESTIC | H7: FOREIGN | K7: GRAND TOTAL | L7: DOMESTIC | O7: FOREIGN | R7: GRAND TOTAL | S7: DOMESTIC | V7: FOREIGN | Y7: GRAND TOTAL | Z7: DOMESTIC | AC7: FOREIGN | AF7: GRAND TOTAL | AG7: DOMESTIC | AJ7: FOREIGN
E8: Total | F8: Inbound | G8: Outbound | H8: Total | I8: Import | J8: Export | L8: Total | M8: Inbound | N8: Outbound | O8: Total | P8: Import | Q8: Export | S8: Total | T8: Inbound | U8: Outbound | V8: Total | W8: Import | X8: Export | Z8: Total | AA8: Inbound | AB8: Outbound | AC8: Total | AD8: Import | AE8: Export | AG8: Total | AH8: Inbound | AI8: Outbound | AJ8: Total | AK8: Import | AL8: Export
A10: Manila/Northern Luzon | D10: =cargo!Y10 -> 28866210 | E10: =cargo!Z10 -> 10117191 | F10: =cargo!AA10 -> 2712076.6 | G10: =cargo!AB10 -> 7405114.3 | H10: =cargo!AC10 -> 18749019 | I10: =cargo!AD10 -> 14705739 | J10: =cargo!AE10 -> 4043279.3 | K10: =cargo!BA10 -> 30332996 | L10: =cargo!BB10 -> 10247368 | M10: =cargo!BC10 -> 2717641.3 | N10: =cargo!BD10 -> 7529726.3 | O10: =cargo!BE10 -> 20085629 | P10: =cargo!BF10 -> 16491534 | Q10: =cargo!BG10 -> 3594094.5 | R10: =cargo!CC10 -> 26217722 | S10: =cargo!CD10 -> 9252298.8 | T10: =cargo!CE10 -> 2850268.1 | U10: =cargo!CF10 -> 6402030.7 | V10: =cargo!CG10 -> 16965423 | W10: =cargo!CH10 -> 14457589 | X10: =cargo!CI10 -> 2507833.6 | Y10: =cargo!DE10 -> 0 | Z10: =cargo!DF10 -> 0 | AA10: =cargo!DG10 -> 0 | AB10: =cargo!DH10 -> 0 | AC10: =cargo!DI10 -> 0 | AD10: =cargo!DJ10 -> 0 | AE10: =cargo!DK10 -> 0 | AF10: =D10+K10+R10+Y10 -> 85416928 | AG10: =E10+L10+S10+Z10 -> 29616857 | AH10: =F10+M10+T10+AA10 -> 8279986.1 | AI10: =G10+N10+U10+AB10 -> 21336871 | AJ10: =H10+O10+V10+AC10 -> 55800070 | AK10: =I10+P10+W10+AD10 -> 45654863 | AL10: =J10+Q10+X10+AE10 -> 10145207
B12: PMO NCR South | D12: =cargo!Y12 -> 2567610.3 | E12: =cargo!Z12 -> 398458.38 | F12: =cargo!AA12 -> 356796.63 | G12: =cargo!AB12 -> 41661.751 | H12: =cargo!AC12 -> 2169152 | I12: =cargo!AD12 -> 1944187.6 | J12: =cargo!AE12 -> 224964.34 | K12: =cargo!BA12 -> 2643331.1 | L12: =cargo!BB12 -> 413803.61 | M12: =cargo!BC12 -> 372053.45 | N12: =cargo!BD12 -> 41750.158 | O12: =cargo!BE12 -> 2229527.5 | P12: =cargo!BF12 -> 1954087.2 | Q12: =cargo!BG12 -> 275440.35 | R12: =cargo!CC12 -> 2851816 | S12: =cargo!CD12 -> 404545.19 | T12: =cargo!CE12 -> 352797.59 | U12: =cargo!CF12 -> 51747.596 | V12: =cargo!CG12 -> 2447270.8 | W12: =cargo!CH12 -> 2135409.1 | X12: =cargo!CI12 -> 311861.72 | Y12: =cargo!DE12 -> 0 | Z12: =cargo!DF12 -> 0 | AA12: =cargo!DG12 -> 0 | AB12: =cargo!DH12 -> 0 | AC12: =cargo!DI12 -> 0 | AD12: =cargo!DJ12 -> 0 | AE12: =cargo!DK12 -> 0 | AF12: =D12+K12+R12+Y12 -> 8062757.5 | AG12: =E12+L12+S12+Z12 -> 1216807.2 | AH12: =F12+M12+T12+AA12 -> 1081647.7 | AI12: =G12+N12+U12+AB12 -> 135159.51 | AJ12: =H12+O12+V12+AC12 -> 6845950.3 | AK12: =I12+P12+W12+AD12 -> 6033683.9 | AL12: =J12+Q12+X12+AE12 -> 812266.41
C13: BP South Harbor | D13: =cargo!Y13 -> 2169152 | E13: =cargo!Z13 -> 0 | F13: =cargo!AA13 -> 0 | G13: =cargo!AB13 -> 0 | H13: =cargo!AC13 -> 2169152 | I13: =cargo!AD13 -> 1944187.6 | J13: =cargo!AE13 -> 224964.34 | K13: =cargo!BA13 -> 2229527.5 | L13: =cargo!BB13 -> 0 | M13: =cargo!BC13 -> 0 | N13: =cargo!BD13 -> 0 | O13: =cargo!BE13 -> 2229527.5 | P13: =cargo!BF13 -> 1954087.2 | Q13: =cargo!BG13 -> 275440.35 | R13: =cargo!CC13 -> 2447270.8 | S13: =cargo!CD13 -> 0 | T13: =cargo!CE13 -> 0 | U13: =cargo!CF13 -> 0 | V13: =cargo!CG13 -> 2447270.8 | W13: =cargo!CH13 -> 2135409.1 | X13: =cargo!CI13 -> 311861.72 | Y13: =cargo!DE13 -> 0 | Z13: =cargo!DF13 -> 0 | AA13: =cargo!DG13 -> 0 | AB13: =cargo!DH13 -> 0 | AC13: =cargo!DI13 -> 0 | AD13: =cargo!DJ13 -> 0 | AE13: =cargo!DK13 -> 0 | AF13: =D13+K13+R13+Y13 -> 6845950.3 | AG13: =E13+L13+S13+Z13 -> 0 | AH13: =F13+M13+T13+AA13 -> 0 | AI13: =G13+N13+U13+AB13 -> 0 | AJ13: =H13+O13+V13+AC13 -> 6845950.3 | AK13: =I13+P13+W13+AD13 -> 6033683.9 | AL13: =J13+Q13+X13+AE13 -> 812266.41
C14: Pier 3 | D14: =cargo!Y14 -> 883490.88 | E14: =cargo!Z14 -> 0 | F14: =cargo!AA14 -> 0 | G14: =cargo!AB14 -> 0 | H14: =cargo!AC14 -> 883490.88 | I14: =cargo!AD14 -> 715050.4 | J14: =cargo!AE14 -> 168440.48 | K14: =cargo!BA14 -> 808144.94 | L14: =cargo!BB14 -> 0 | M14: =cargo!BC14 -> 0 | N14: =cargo!BD14 -> 0 | O14: =cargo!BE14 -> 808144.94 | P14: =cargo!BF14 -> 629331.42 | Q14: =cargo!BG14 -> 178813.52 | R14: =cargo!CC14 -> 1105142.3 | S14: =cargo!CD14 -> 0 | T14: =cargo!CE14 -> 0 | U14: =cargo!CF14 -> 0 | V14: =cargo!CG14 -> 1105142.3 | W14: =cargo!CH14 -> 919385.85 | X14: =cargo!CI14 -> 185756.43 | Y14: =cargo!DE14 -> 0 | Z14: =cargo!DF14 -> 0 | AA14: =cargo!DG14 -> 0 | AB14: =cargo!DH14 -> 0 | AC14: =cargo!DI14 -> 0 | AD14: =cargo!DJ14 -> 0 | AE14: =cargo!DK14 -> 0 | AF14: =D14+K14+R14+Y14 -> 2796778.1 | AG14: =E14+L14+S14+Z14 -> 0 | AH14: =F14+M14+T14+AA14 -> 0 | AI14: =G14+N14+U14+AB14 -> 0 | AJ14: =H14+O14+V14+AC14 -> 2796778.1 | AK14: =I14+P14+W14+AD14 -> 2263767.7 | AL14: =J14+Q14+X14+AE14 -> 533010.43
C15: Pier 5 | D15: =cargo!Y15 -> 1059591.9 | E15: =cargo!Z15 -> 0 | F15: =cargo!AA15 -> 0 | G15: =cargo!AB15 -> 0 | H15: =cargo!AC15 -> 1059591.9 | I15: =cargo!AD15 -> 1003068.1 | J15: =cargo!AE15 -> 56523.856 | K15: =cargo!BA15 -> 1181745.5 | L15: =cargo!BB15 -> 0 | M15: =cargo!BC15 -> 0 | N15: =cargo!BD15 -> 0 | O15: =cargo!BE15 -> 1181745.5 | P15: =cargo!BF15 -> 1085118.7 | Q15: =cargo!BG15 -> 96626.829 | R15: =cargo!CC15 -> 1045841.9 | S15: =cargo!CD15 -> 0 | T15: =cargo!CE15 -> 0 | U15: =cargo!CF15 -> 0 | V15: =cargo!CG15 -> 1045841.9 | W15: =cargo!CH15 -> 919736.64 | X15: =cargo!CI15 -> 126105.29 | Y15: =cargo!DE15 -> 0 | Z15: =cargo!DF15 -> 0 | AA15: =cargo!DG15 -> 0 | AB15: =cargo!DH15 -> 0 | AC15: =cargo!DI15 -> 0 | AD15: =cargo!DJ15 -> 0 | AE15: =cargo!DK15 -> 0 | AF15: =D15+K15+R15+Y15 -> 3287179.4 | AG15: =E15+L15+S15+Z15 -> 0 | AH15: =F15+M15+T15+AA15 -> 0 | AI15: =G15+N15+U15+AB15 -> 0 | AJ15: =H15+O15+V15+AC15 -> 3287179.4 | AK15: =I15+P15+W15+AD15 -> 3007923.4 | AL15: =J15+Q15+X15+AE15 -> 279255.97
C16: Pier 15 | D16: =cargo!Y16 -> 53725.589 | E16: =cargo!Z16 -> 0 | F16: =cargo!AA16 -> 0 | G16: =cargo!AB16 -> 0 | H16: =cargo!AC16 -> 53725.589 | I16: =cargo!AD16 -> 53725.589 | J16: =cargo!AE16 -> 0 | K16: =cargo!BA16 -> 61352.088 | L16: =cargo!BB16 -> 0 | M16: =cargo!BC16 -> 0 | N16: =cargo!BD16 -> 0 | O16: =cargo!BE16 -> 61352.088 | P16: =cargo!BF16 -> 61352.088 | Q16: =cargo!BG16 -> 0 | R16: =cargo!CC16 -> 53155.89 | S16: =cargo!CD16 -> 0 | T16: =cargo!CE16 -> 0 | U16: =cargo!CF16 -> 0 | V16: =cargo!CG16 -> 53155.89 | W16: =cargo!CH16 -> 53155.89 | X16: =cargo!CI16 -> 0 | Y16: =cargo!DE16 -> 0 | Z16: =cargo!DF16 -> 0 | AA16: =cargo!DG16 -> 0 | AB16: =cargo!DH16 -> 0 | AC16: =cargo!DI16 -> 0 | AD16: =cargo!DJ16 -> 0 | AE16: =cargo!DK16 -> 0 | AF16: =D16+K16+R16+Y16 -> 168233.57 | AG16: =E16+L16+S16+Z16 -> 0 | AH16: =F16+M16+T16+AA16 -> 0 | AI16: =G16+N16+U16+AB16 -> 0 | AJ16: =H16+O16+V16+AC16 -> 168233.57 | AK16: =I16+P16+W16+AD16 -> 168233.57 | AL16: =J16+Q16+X16+AE16 -> 0
C17: South Harbor (Anchorage) | D17: =cargo!Y17 -> 172343.54 | E17: =cargo!Z17 -> 0 | F17: =cargo!AA17 -> 0 | G17: =cargo!AB17 -> 0 | H17: =cargo!AC17 -> 172343.54 | I17: =cargo!AD17 -> 172343.54 | J17: =cargo!AE17 -> 0 | K17: =cargo!BA17 -> 178285.02 | L17: =cargo!BB17 -> 0 | M17: =cargo!BC17 -> 0 | N17: =cargo!BD17 -> 0 | O17: =cargo!BE17 -> 178285.02 | P17: =cargo!BF17 -> 178285.02 | Q17: =cargo!BG17 -> 0 | R17: =cargo!CC17 -> 243130.72 | S17: =cargo!CD17 -> 0 | T17: =cargo!CE17 -> 0 | U17: =cargo!CF17 -> 0 | V17: =cargo!CG17 -> 243130.72 | W17: =cargo!CH17 -> 243130.72 | X17: =cargo!CI17 -> 0 | Y17: =cargo!DE17 -> 0 | Z17: =cargo!DF17 -> 0 | AA17: =cargo!DG17 -> 0 | AB17: =cargo!DH17 -> 0 | AC17: =cargo!DI17 -> 0 | AD17: =cargo!DJ17 -> 0 | AE17: =cargo!DK17 -> 0 | AF17: =D17+K17+R17+Y17 -> 593759.28 | AG17: =E17+L17+S17+Z17 -> 0 | AH17: =F17+M17+T17+AA17 -> 0 | AI17: =G17+N17+U17+AB17 -> 0 | AJ17: =H17+O17+V17+AC17 -> 593759.28 | AK17: =I17+P17+W17+AD17 -> 593759.28 | AL17: =J17+Q17+X17+AE17 -> 0
C18: Terminal Pasig Bank - Government Coastwise | D18: =cargo!Y18 -> 208215.31 | E18: =cargo!Z18 -> 208215.31 | F18: =cargo!AA18 -> 176635.2 | G18: =cargo!AB18 -> 31580.11 | H18: =cargo!AC18 -> 0 | I18: =cargo!AD18 -> 0 | J18: =cargo!AE18 -> 0 | K18: =cargo!BA18 -> 194535.5 | L18: =cargo!BB18 -> 194535.5 | M18: =cargo!BC18 -> 161859.49 | N18: =cargo!BD18 -> 32676.01 | O18: =cargo!BE18 -> 0 | P18: =cargo!BF18 -> 0 | Q18: =cargo!BG18 -> 0 | R18: =cargo!CC18 -> 224844.71 | S18: =cargo!CD18 -> 224844.71 | T18: =cargo!CE18 -> 175144.14 | U18: =cargo!CF18 -> 49700.575 | V18: =cargo!CG18 -> 0 | W18: =cargo!CH18 -> 0 | X18: =cargo!CI18 -> 0 | Y18: =cargo!DE18 -> 0 | Z18: =cargo!DF18 -> 0 | AA18: =cargo!DG18 -> 0 | AB18: =cargo!DH18 -> 0 | AC18: =cargo!DI18 -> 0 | AD18: =cargo!DJ18 -> 0 | AE18: =cargo!DK18 -> 0 | AF18: =D18+K18+R18+Y18 -> 627595.53 | AG18: =E18+L18+S18+Z18 -> 627595.53 | AH18: =F18+M18+T18+AA18 -> 513638.83 | AI18: =G18+N18+U18+AB18 -> 113956.7 | AJ18: =H18+O18+V18+AC18 -> 0 | AK18: =I18+P18+W18+AD18 -> 0 | AL18: =J18+Q18+X18+AE18 -> 0
C19: Terminal Pasig Bank - Government Bay & River | D19: =cargo!Y19 -> 165235.98 | E19: =cargo!Z19 -> 165235.98 | F19: =cargo!AA19 -> 164681.98 | G19: =cargo!AB19 -> 554 | H19: =cargo!AC19 -> 0 | I19: =cargo!AD19 -> 0 | J19: =cargo!AE19 -> 0 | K19: =cargo!BA19 -> 143011.42 | L19: =cargo!BB19 -> 143011.42 | M19: =cargo!BC19 -> 142811.42 | N19: =cargo!BD19 -> 200 | O19: =cargo!BE19 -> 0 | P19: =cargo!BF19 -> 0 | Q19: =cargo!BG19 -> 0 | R19: =cargo!CC19 -> 152329.34 | S19: =cargo!CD19 -> 152329.34 | T19: =cargo!CE19 -> 150839.75 | U19: =cargo!CF19 -> 1489.59 | V19: =cargo!CG19 -> 0 | W19: =cargo!CH19 -> 0 | X19: =cargo!CI19 -> 0 | Y19: =cargo!DE19 -> 0 | Z19: =cargo!DF19 -> 0 | AA19: =cargo!DG19 -> 0 | AB19: =cargo!DH19 -> 0 | AC19: =cargo!DI19 -> 0 | AD19: =cargo!DJ19 -> 0 | AE19: =cargo!DK19 -> 0 | AF19: =D19+K19+R19+Y19 -> 460576.74 | AG19: =E19+L19+S19+Z19 -> 460576.74 | AH19: =F19+M19+T19+AA19 -> 458333.15 | AI19: =G19+N19+U19+AB19 -> 2243.59 | AJ19: =H19+O19+V19+AC19 -> 0 | AK19: =I19+P19+W19+AD19 -> 0 | AL19: =J19+Q19+X19+AE19 -> 0
C20: Terminal Pasig Bank - Government Coastwise | D20: =cargo!Y20 -> 42979.33 | E20: =cargo!Z20 -> 42979.33 | F20: =cargo!AA20 -> 11953.22 | G20: =cargo!AB20 -> 31026.11 | H20: =cargo!AC20 -> 0 | I20: =cargo!AD20 -> 0 | J20: =cargo!AE20 -> 0 | K20: =cargo!BA20 -> 51524.08 | L20: =cargo!BB20 -> 51524.08 | M20: =cargo!BC20 -> 19048.07 | N20: =cargo!BD20 -> 32476.01 | O20: =cargo!BE20 -> 0 | P20: =cargo!BF20 -> 0 | Q20: =cargo!BG20 -> 0 | R20: =cargo!CC20 -> 72515.374 | S20: =cargo!CD20 -> 72515.374 | T20: =cargo!CE20 -> 24304.389 | U20: =cargo!CF20 -> 48210.985 | V20: =cargo!CG20 -> 0 | W20: =cargo!CH20 -> 0 | X20: =cargo!CI20 -> 0 | Y20: =cargo!DE20 -> 0 | Z20: =cargo!DF20 -> 0 | AA20: =cargo!DG20 -> 0 | AB20: =cargo!DH20 -> 0 | AC20: =cargo!DI20 -> 0 | AD20: =cargo!DJ20 -> 0 | AE20: =cargo!DK20 -> 0 | AF20: =D20+K20+R20+Y20 -> 167018.78 | AG20: =E20+L20+S20+Z20 -> 167018.78 | AH20: =F20+M20+T20+AA20 -> 55305.679 | AI20: =G20+N20+U20+AB20 -> 111713.11 | AJ20: =H20+O20+V20+AC20 -> 0 | AK20: =I20+P20+W20+AD20 -> 0 | AL20: =J20+Q20+X20+AE20 -> 0
C21: Private Ports | D21: =cargo!Y21 -> 190243.07 | E21: =cargo!Z21 -> 190243.07 | F21: =cargo!AA21 -> 180161.43 | G21: =cargo!AB21 -> 10081.641 | H21: =cargo!AC21 -> 0 | I21: =cargo!AD21 -> 0 | J21: =cargo!AE21 -> 0 | K21: =cargo!BA21 -> 219268.11 | L21: =cargo!BB21 -> 219268.11 | M21: =cargo!BC21 -> 210193.96 | N21: =cargo!BD21 -> 9074.148 | O21: =cargo!BE21 -> 0 | P21: =cargo!BF21 -> 0 | Q21: =cargo!BG21 -> 0 | R21: =cargo!CC21 -> 179700.48 | S21: =cargo!CD21 -> 179700.48 | T21: =cargo!CE21 -> 177653.46 | U21: =cargo!CF21 -> 2047.021 | V21: =cargo!CG21 -> 0 | W21: =cargo!CH21 -> 0 | X21: =cargo!CI21 -> 0 | Y21: =cargo!DE21 -> 0 | Z21: =cargo!DF21 -> 0 | AA21: =cargo!DG21 -> 0 | AB21: =cargo!DH21 -> 0 | AC21: =cargo!DI21 -> 0 | AD21: =cargo!DJ21 -> 0 | AE21: =cargo!DK21 -> 0 | AF21: =D21+K21+R21+Y21 -> 589211.66 | AG21: =E21+L21+S21+Z21 -> 589211.66 | AH21: =F21+M21+T21+AA21 -> 568008.85 | AI21: =G21+N21+U21+AB21 -> 21202.81 | AJ21: =H21+O21+V21+AC21 -> 0 | AK21: =I21+P21+W21+AD21 -> 0 | AL21: =J21+Q21+X21+AE21 -> 0
C23: Manila International Container Terminal (MICT) | D23: =cargo!Y23 -> 7239412 | E23: =cargo!Z23 -> 0 | F23: =cargo!AA23 -> 0 | G23: =cargo!AB23 -> 0 | H23: =cargo!AC23 -> 7239412 | I23: =cargo!AD23 -> 5993539 | J23: =cargo!AE23 -> 1245873 | K23: =cargo!BA23 -> 7698810.8 | L23: =cargo!BB23 -> 0 | M23: =cargo!BC23 -> 0 | N23: =cargo!BD23 -> 0 | O23: =cargo!BE23 -> 7698810.8 | P23: =cargo!BF23 -> 6385530.8 | Q23: =cargo!BG23 -> 1313280 | R23: =cargo!CC23 -> 7652449.4 | S23: =cargo!CD23 -> 0 | T23: =cargo!CE23 -> 0 | U23: =cargo!CF23 -> 0 | V23: =cargo!CG23 -> 7652449.4 | W23: =cargo!CH23 -> 6325481.4 | X23: =cargo!CI23 -> 1326968 | Y23: =cargo!DE23 -> 0 | Z23: =cargo!DF23 -> 0 | AA23: =cargo!DG23 -> 0 | AB23: =cargo!DH23 -> 0 | AC23: =cargo!DI23 -> 0 | AD23: =cargo!DJ23 -> 0 | AE23: =cargo!DK23 -> 0 | AF23: =D23+K23+R23+Y23 -> 22590672 | AG23: =E23+L23+S23+Z23 -> 0 | AH23: =F23+M23+T23+AA23 -> 0 | AI23: =G23+N23+U23+AB23 -> 0 | AJ23: =H23+O23+V23+AC23 -> 22590672 | AK23: =I23+P23+W23+AD23 -> 18704551 | AL23: =J23+Q23+X23+AE23 -> 3886121
C24: MICT | D24: =cargo!Y24 -> 6922154 | E24: =cargo!Z24 -> 0 | F24: =cargo!AA24 -> 0 | G24: =cargo!AB24 -> 0 | H24: =cargo!AC24 -> 6922154 | I24: =cargo!AD24 -> 5676281 | J24: =cargo!AE24 -> 1245873 | K24: =cargo!BA24 -> 7459587 | L24: =cargo!BB24 -> 0 | M24: =cargo!BC24 -> 0 | N24: =cargo!BD24 -> 0 | O24: =cargo!BE24 -> 7459587 | P24: =cargo!BF24 -> 6146307 | Q24: =cargo!BG24 -> 1313280 | R24: =cargo!CC24 -> 7382699 | S24: =cargo!CD24 -> 0 | T24: =cargo!CE24 -> 0 | U24: =cargo!CF24 -> 0 | V24: =cargo!CG24 -> 7382699 | W24: =cargo!CH24 -> 6055731 | X24: =cargo!CI24 -> 1326968 | Y24: =cargo!DE24 -> 0 | Z24: =cargo!DF24 -> 0 | AA24: =cargo!DG24 -> 0 | AB24: =cargo!DH24 -> 0 | AC24: =cargo!DI24 -> 0 | AD24: =cargo!DJ24 -> 0 | AE24: =cargo!DK24 -> 0 | AF24: =D24+K24+R24+Y24 -> 21764440 | AG24: =E24+L24+S24+Z24 -> 0 | AH24: =F24+M24+T24+AA24 -> 0 | AI24: =G24+N24+U24+AB24 -> 0 | AJ24: =H24+O24+V24+AC24 -> 21764440 | AK24: =I24+P24+W24+AD24 -> 17878319 | AL24: =J24+Q24+X24+AE24 -> 3886121
C25: MICT (Anchorage) | D25: =cargo!Y25 -> 317258.02 | E25: =cargo!Z25 -> 0 | F25: =cargo!AA25 -> 0 | G25: =cargo!AB25 -> 0 | H25: =cargo!AC25 -> 317258.02 | I25: =cargo!AD25 -> 317258.02 | J25: =cargo!AE25 -> 0 | K25: =cargo!BA25 -> 239223.83 | L25: =cargo!BB25 -> 0 | M25: =cargo!BC25 -> 0 | N25: =cargo!BD25 -> 0 | O25: =cargo!BE25 -> 239223.83 | P25: =cargo!BF25 -> 239223.83 | Q25: =cargo!BG25 -> 0 | R25: =cargo!CC25 -> 269750.44 | S25: =cargo!CD25 -> 0 | T25: =cargo!CE25 -> 0 | U25: =cargo!CF25 -> 0 | V25: =cargo!CG25 -> 269750.44 | W25: =cargo!CH25 -> 269750.44 | X25: =cargo!CI25 -> 0 | Y25: =cargo!DE25 -> 0 | Z25: =cargo!DF25 -> 0 | AA25: =cargo!DG25 -> 0 | AB25: =cargo!DH25 -> 0 | AC25: =cargo!DI25 -> 0 | AD25: =cargo!DJ25 -> 0 | AE25: =cargo!DK25 -> 0 | AF25: =D25+K25+R25+Y25 -> 826232.3 | AG25: =E25+L25+S25+Z25 -> 0 | AH25: =F25+M25+T25+AA25 -> 0 | AI25: =G25+N25+U25+AB25 -> 0 | AJ25: =H25+O25+V25+AC25 -> 826232.3 | AK25: =I25+P25+W25+AD25 -> 826232.3 | AL25: =J25+Q25+X25+AE25 -> 0
B27: PMO NCR North | D27: =cargo!Y27 -> 7073618.3 | E27: =cargo!Z27 -> 5767292.3 | F27: =cargo!AA27 -> 2064712.4 | G27: =cargo!AB27 -> 3702579.9 | H27: =cargo!AC27 -> 1306326.1 | I27: =cargo!AD27 -> 1303691.8 | J27: =cargo!AE27 -> 2634.217 | K27: =cargo!BA27 -> 6623665 | L27: =cargo!BB27 -> 5370540.3 | M27: =cargo!BC27 -> 1984153.8 | N27: =cargo!BD27 -> 3386386.5 | O27: =cargo!BE27 -> 1253124.6 | P27: =cargo!BF27 -> 1242555.3 | Q27: =cargo!BG27 -> 10569.352 | R27: =cargo!CC27 -> 6814518.9 | S27: =cargo!CD27 -> 5575817.8 | T27: =cargo!CE27 -> 2144467.1 | U27: =cargo!CF27 -> 3431350.7 | V27: =cargo!CG27 -> 1238701.1 | W27: =cargo!CH27 -> 1238701.1 | X27: =cargo!CI27 -> 0 | Y27: =cargo!DE27 -> 0 | Z27: =cargo!DF27 -> 0 | AA27: =cargo!DG27 -> 0 | AB27: =cargo!DH27 -> 0 | AC27: =cargo!DI27 -> 0 | AD27: =cargo!DJ27 -> 0 | AE27: =cargo!DK27 -> 0 | AF27: =D27+K27+R27+Y27 -> 20511802 | AG27: =E27+L27+S27+Z27 -> 16713650 | AH27: =F27+M27+T27+AA27 -> 6193333.3 | AI27: =G27+N27+U27+AB27 -> 10520317 | AJ27: =H27+O27+V27+AC27 -> 3798151.8 | AK27: =I27+P27+W27+AD27 -> 3784948.2 | AL27: =J27+Q27+X27+AE27 -> 13203.569
C28: BP North Harbor | D28: =cargo!Y28 -> 4374292.1 | E28: =cargo!Z28 -> 4374292.1 | F28: =cargo!AA28 -> 925980.35 | G28: =cargo!AB28 -> 3448311.8 | H28: =cargo!AC28 -> 0 | I28: =cargo!AD28 -> 0 | J28: =cargo!AE28 -> 0 | K28: =cargo!BA28 -> 4078221.5 | L28: =cargo!BB28 -> 4078221.5 | M28: =cargo!BC28 -> 929792.42 | N28: =cargo!BD28 -> 3148429 | O28: =cargo!BE28 -> 0 | P28: =cargo!BF28 -> 0 | Q28: =cargo!BG28 -> 0 | R28: =cargo!CC28 -> 4329978.8 | S28: =cargo!CD28 -> 4329978.8 | T28: =cargo!CE28 -> 1093193.4 | U28: =cargo!CF28 -> 3236785.4 | V28: =cargo!CG28 -> 0 | W28: =cargo!CH28 -> 0 | X28: =cargo!CI28 -> 0 | Y28: =cargo!DE28 -> 0 | Z28: =cargo!DF28 -> 0 | AA28: =cargo!DG28 -> 0 | AB28: =cargo!DH28 -> 0 | AC28: =cargo!DI28 -> 0 | AD28: =cargo!DJ28 -> 0 | AE28: =cargo!DK28 -> 0 | AF28: =D28+K28+R28+Y28 -> 12782492 | AG28: =E28+L28+S28+Z28 -> 12782492 | AH28: =F28+M28+T28+AA28 -> 2948966.2 | AI28: =G28+N28+U28+AB28 -> 9833526.2 | AJ28: =H28+O28+V28+AC28 -> 0 | AK28: =I28+P28+W28+AD28 -> 0 | AL28: =J28+Q28+X28+AE28 -> 0
C29: BP North Harbor Ro-Ro | D29: =cargo!Y29 -> 698548.18 | E29: =cargo!Z29 -> 698548.18 | F29: =cargo!AA29 -> 154872.79 | G29: =cargo!AB29 -> 543675.39 | H29: =cargo!AC29 -> 0 | I29: =cargo!AD29 -> 0 | J29: =cargo!AE29 -> 0 | K29: =cargo!BA29 -> 648595.9 | L29: =cargo!BB29 -> 648595.9 | M29: =cargo!BC29 -> 148626.49 | N29: =cargo!BD29 -> 499969.41 | O29: =cargo!BE29 -> 0 | P29: =cargo!BF29 -> 0 | Q29: =cargo!BG29 -> 0 | R29: =cargo!CC29 -> 687163.1 | S29: =cargo!CD29 -> 687163.1 | T29: =cargo!CE29 -> 166753.18 | U29: =cargo!CF29 -> 520409.92 | V29: =cargo!CG29 -> 0 | W29: =cargo!CH29 -> 0 | X29: =cargo!CI29 -> 0 | Y29: =cargo!DE29 -> 0 | Z29: =cargo!DF29 -> 0 | AA29: =cargo!DG29 -> 0 | AB29: =cargo!DH29 -> 0 | AC29: =cargo!DI29 -> 0 | AD29: =cargo!DJ29 -> 0 | AE29: =cargo!DK29 -> 0 | AF29: =D29+K29+R29+Y29 -> 2034307.2 | AG29: =E29+L29+S29+Z29 -> 2034307.2 | AH29: =F29+M29+T29+AA29 -> 470252.46 | AI29: =G29+N29+U29+AB29 -> 1564054.7 | AJ29: =H29+O29+V29+AC29 -> 0 | AK29: =I29+P29+W29+AD29 -> 0 | AL29: =J29+Q29+X29+AE29 -> 0
